From mboxrd@z Thu Jan 1 00:00:00 1970 Return-Path: Received: from mails.dpdk.org (mails.dpdk.org [217.70.189.124]) by inbox.dpdk.org (Postfix) with ESMTP id 9739C46A87 for ; Thu, 10 Jul 2025 03:20:12 +0200 (CEST) Received: from mails.dpdk.org (localhost [127.0.0.1]) by mails.dpdk.org (Postfix) with ESMTP id 80EE64025E; Thu, 10 Jul 2025 03:20:12 +0200 (CEST) Received: from mail-il1-f228.google.com (mail-il1-f228.google.com [209.85.166.228]) by mails.dpdk.org (Postfix) with ESMTP id 9AC194025E for ; Thu, 10 Jul 2025 03:20:10 +0200 (CEST) Received: by mail-il1-f228.google.com with SMTP id e9e14a558f8ab-3df2d8cb8d2so1485405ab.2 for ; Wed, 09 Jul 2025 18:20:10 -0700 (PDT) DKIM-Signature: v=1; a=rsa-sha256; c=relaxed/relaxed; d=iol.unh.edu; s=unh-iol; t=1752110410; x=1752715210; darn=dpdk.org; h=references:in-reply-to:cc:to:from:subject:message-id:date:from:to :cc:subject:date:message-id:reply-to; bh=9m+pq3DIL+XAGQcJL/14TczzbaIngZEYEz3CmJyG0kM=; b=Zg+2ByJ+bor/ivkgSinp+foRV25/zIhp9QO4uqr3T4jm/BCbbUQGojo+6naDIMXbLg SeCr1MSkVhBwn3Rf89eiWAMsC33NjCaNHiVSYniZ8/jYbEjWqt1GVKyCT8bExr7t1tPQ Ag5f28TESjvSF5nyHrzFUTA3dD6up/kKi0DdE= X-Google-DKIM-Signature: v=1; a=rsa-sha256; c=relaxed/relaxed; d=1e100.net; s=20230601; t=1752110410; x=1752715210; h=references:in-reply-to:cc:to:from:subject:message-id:date :x-gm-message-state:from:to:cc:subject:date:message-id:reply-to; bh=9m+pq3DIL+XAGQcJL/14TczzbaIngZEYEz3CmJyG0kM=; b=r+wWV+pyJ9LFXWQUztLhGCcEZeQ+jxT6bbNOnwBcahodA+u8RpfMVfp8E/mnM5K2Mq O34HZ3o6vIG1zGlCCnCFyfI987jpzwTkLsFE4MRIXcWBXFQRndEgVz3AJVRU6usMPCfn 5riLuQlF/9tnFQaEQlQzejKzz9JeB0MIUssb94RQgUg5AonAzHoUWMLEquufX1epMIxH +AFyG8x9DDRKVHBSK03NoZ8ed0aZ5P0BMbDQF3DBKS4G8AfNiZahQpC+VTThBY24y4Qd V/u1D/Y+C/R+mBcuqrl3M8PhDMzWWWt47nExmDZEs9N+7l6Oc7FOeLw7DAvLvLMVh1wV KnhQ== X-Gm-Message-State: AOJu0YxvhJ4sGRk58gXpy4L2WU1q6F4osgbbS6DmtB35zzyFssO8trrn JERLAqO8ifUfeRHrrEXgjyLQULeuMLct8zjx5r8GoEJ7EgnSh/FCxoK0Yf1aqxnjSpQ8F8Xz3Pl rFDJIAqwhUZjKzbHh3lufDdeCTV2m8ACUGg7bXnQBdBKLXfKe83lzmFq8gMkt X-Gm-Gg: ASbGncu2+Jja+r14p30xMQyfwEZ8QzxXlNg1SaWlb7u2XsAfxibpQDRTt3mU+bncT1n TV6cAHz2QwbG5hb5O7JJHHEXcVvJ6Z8l8xhAFRMDP7Pb+cWieQ3kl91avIEmo4Wqhw/PuTdGZ2b fzLTk+r0n5r3CF3ITwrOl2mftJ3iIgFTl6mK8e4WF8H72REZWYmKgeMCalmkUTHfjjGafratfo6 u7DV8b5Vw9k7w39LxHd6O3jUUU3CgoHuSFcRt5S1ViYV2KJ++XKRsXOQKWA1SaU5XURp6TjGAZ8 VmlH0+dwC618ewpgaOGt/mbkaXlvh2Isa1JBDQaOoODFc2M= X-Google-Smtp-Source: AGHT+IHa2QyXqDG66Ma+4QLGFtUpBxcgw6qKeYQlzbvtc4h4UHAfN4z3WONhVaJZZ7MDu4DCn6mwsJXIoj9I X-Received: by 2002:a05:6e02:380d:b0:3df:43ac:af5a with SMTP id e9e14a558f8ab-3e166feb717mr52889615ab.2.1752110409827; Wed, 09 Jul 2025 18:20:09 -0700 (PDT) Received: from postal.iol.unh.edu (postal.iol.unh.edu. [2606:4100:3880:1234::84]) by smtp-relay.gmail.com with ESMTPS id e9e14a558f8ab-3e2461f9c02sm294065ab.45.2025.07.09.18.20.09 (version=TLS1_2 cipher=ECDHE-ECDSA-AES128-GCM-SHA256 bits=128/128); Wed, 09 Jul 2025 18:20:09 -0700 (PDT) X-Relaying-Domain: iol.unh.edu Date: Wed, 09 Jul 2025 18:20:09 -0700 (PDT) Message-ID: <686f1549.920a0220.1b311a.1be0SMTPIN_ADDED_MISSING@mx.google.com> Received: from [172.21.0.6] (unknown [172.18.0.240]) by postal.iol.unh.edu (Postfix) with ESMTP id 5DCFD6051830; Wed, 9 Jul 2025 21:20:09 -0400 (EDT) Subject: |SUCCESS| pw155086 [PATCH] net/mlx5: fix the queue length checking From: dpdklab@iol.unh.edu To: Test Report Cc: dpdk-test-reports@iol.unh.edu In-Reply-To: <20250709040000.112338-1-bingz@nvidia.com> References: <20250709040000.112338-1-bingz@nvidia.com> Content-Type: text/plain X-BeenThere: test-report@dpdk.org X-Mailman-Version: 2.1.29 Precedence: list List-Id: automatic DPDK test reports List-Unsubscribe: , List-Archive: List-Post: List-Help: List-Subscribe: , Errors-To: test-report-bounces@dpdk.org Test-Label: iol-unit-amd64-testing Test-Status: SUCCESS http://dpdk.org/patch/155086 _Testing PASS_ Submitter: Bing Zhao Date: Wednesday, July 09 2025 04:00:00 DPDK git baseline: Repo:dpdk Branch: master CommitID:e2888614268cbf0abcc7cd72ad97ff4e4901d0a5 155086 --> testing pass Upstream job id: Generic-VM-Unit-Test-DPDK#29840 Test environment and result as below: +-------------------------------+----------------+ | Environment | dpdk_unit_test | +===============================+================+ | CentOS Stream 9 | PASS | +-------------------------------+----------------+ | CentOS Stream 10 | PASS | +-------------------------------+----------------+ | Debian GNU/Linux 12 | PASS | +-------------------------------+----------------+ | Fedora Linux 40 | PASS | +-------------------------------+----------------+ | Fedora Linux 41 | PASS | +-------------------------------+----------------+ | Red Hat Enterprise Linux 8.10 | PASS | +-------------------------------+----------------+ | Red Hat Enterprise Linux 9.5 | PASS | +-------------------------------+----------------+ | Ubuntu 20.04 | PASS | +-------------------------------+----------------+ | Ubuntu 22.04 | PASS | +-------------------------------+----------------+ | Ubuntu 24.04 | PASS | +-------------------------------+----------------+ | Windows Server 2022 | PASS | +-------------------------------+----------------+ CentOS Stream 9 Kernel: 5.15 Compiler: gcc gcc (GCC) 11.5.0 20240719 (Red Hat 11.5.0-7) CentOS Stream 10 Kernel: 5.15 Compiler: gcc gcc (GCC) 14.2.1 20250110 (Red Hat 14.2.1-8) Debian GNU/Linux 12 Kernel: 5.15 Compiler: gcc gcc (Debian 12.2.0-14+deb12u1) 12.2.0 Fedora Linux 40 Kernel: 5.15 Compiler: gcc gcc (GCC) 14.2.1 20240912 (Red Hat 14.2.1-3) Fedora Linux 41 Kernel: 5.15 Compiler: gcc gcc (GCC) 14.3.1 20250523 (Red Hat 14.3.1-1) Red Hat Enterprise Linux 8.10 Kernel: 5.15 Compiler: gcc gcc (GCC) 8.5.0 20210514 (Red Hat 8.5.0-22) Red Hat Enterprise Linux 9.5 Kernel: 5.15 Compiler: gcc gcc (GCC) 11.5.0 20240719 (Red Hat 11.5.0-2) Ubuntu 20.04 Kernel: 5.15 Compiler: gcc gcc (Ubuntu 9.4.0-1ubuntu1~20.04.2) 9.4.0 Ubuntu 22.04 Kernel: 5.15 Compiler: gcc gcc (Ubuntu 11.4.0-1ubuntu1~22.04) 11.4.0 Ubuntu 24.04 Kernel: 5.15 Compiler: gcc gcc (Ubuntu 13.3.0-6ubuntu2~24.04) 13.3.0 Windows Server 2022 Kernel: 10.0.20348.2031 Compiler: clang 15.0.7, gcc 14.1.0 (MinGW), and MSVC VS 19.39.33521 To view detailed results, visit: https://lab.dpdk.org/results/dashboard/patchsets/33619/ UNH-IOL DPDK Community Lab To manage your email subscriptions, visit: https://lab.dpdk.org/results/dashboard/preferences/subscriptions/