From mboxrd@z Thu Jan 1 00:00:00 1970 Return-Path: Received: from mails.dpdk.org (mails.dpdk.org [217.70.189.124]) by inbox.dpdk.org (Postfix) with ESMTP id 1057646A87 for ; Thu, 10 Jul 2025 03:26:51 +0200 (CEST) Received: from mails.dpdk.org (localhost [127.0.0.1]) by mails.dpdk.org (Postfix) with ESMTP id 0BAC34025E; Thu, 10 Jul 2025 03:26:51 +0200 (CEST) Received: from mail-qv1-f97.google.com (mail-qv1-f97.google.com [209.85.219.97]) by mails.dpdk.org (Postfix) with ESMTP id A2A944025E for ; Thu, 10 Jul 2025 03:26:49 +0200 (CEST) Received: by mail-qv1-f97.google.com with SMTP id 6a1803df08f44-6fb1be9ba89so5565046d6.2 for ; Wed, 09 Jul 2025 18:26:49 -0700 (PDT) DKIM-Signature: v=1; a=rsa-sha256; c=relaxed/relaxed; d=iol.unh.edu; s=unh-iol; t=1752110809; x=1752715609; darn=dpdk.org; h=references:in-reply-to:cc:to:from:subject:message-id:date:from:to :cc:subject:date:message-id:reply-to; bh=ZjhuIBl91oXFT6nDrP6l5uX8juOS7XlrE6IM1urplno=; b=F0rAJ3VMRsnu0U3V8qOd6SOxA4uUUOcPRtVigx3D/LW2G1/UwydBf2kTcrzpVO8Vzl dAlV/IJzLlCTHa2TZWh4rwmWFTEd7Gzc8Rvn8rhBFGKgB9mpfCsBzn95GODpNN8eGeDX nH9nPkli9Hdxpgqx6mgSGgxHscOtE62c0Tl6U= X-Google-DKIM-Signature: v=1; a=rsa-sha256; c=relaxed/relaxed; d=1e100.net; s=20230601; t=1752110809; x=1752715609; h=references:in-reply-to:cc:to:from:subject:message-id:date :x-gm-message-state:from:to:cc:subject:date:message-id:reply-to; bh=ZjhuIBl91oXFT6nDrP6l5uX8juOS7XlrE6IM1urplno=; b=YWtH6hJ6rJBnqAvqKkIKZ5JP/PY47kVxyRdLqyAYU3p5vGS1ttvaQEuJRGaVAJ/5KQ epNJzGHeSuDgGVeVFqG2BoK+0uTiUPIKntwabpsNu0lhQuNtXeshbhdQmlrr0pf58VYX EJsS5KKzjuuS+dnGzX3Sa+FKEaqJGJ3Ir2Ij+dFYHGLJz3N2cRCnbufYUa4uQ+KS5auN k+kidtkGbgNOiBRXOmIOrW0Skkq1sUOiXdMfWqwtf8POWhKGCcA3YiY1j0Ozt8y3qQUK HzhgO7yNTUzF99eTYIDjRKaBDkc6W+1odSrMlY3S8BTzCHBQ9Maa+45Kv48F7G5UTsz/ hCjw== X-Gm-Message-State: AOJu0YzAEjxtCYbowB94uxIfpGHN2xHDX0lLBAIbxAfrXUzvCpqFC9kN YMjt1XrPWjpuplvxmOb+P4DYA0tGMltiivuctx5d5wqv+/b1OIwalYa+PGBEzg63bl471pdVEzp NfbA6kFQYDU+XXJKMFcY2HQDKrSES/9rt3zrff3cPblyA X-Gm-Gg: ASbGnct2VdU2xByKQ+IAvwhBiFcTi2BjPjfWLfalwbhHBXu50IXeCu7m9/f/rs2KV3v Lol/nxNvaqWn/VMhEYBqkgeYEi2g40kopn4ehly9YuAf8QvWwpeVagMWkD9B0TDnNwHMsl3GEJi 6l8lYvabYP7yN4bYo5lCxZTTadKEvroL1R3C+MflLKdFFNFR1Q7ScBM+7qn54OdlMFr5DacUZwT opMey6UCMf95ipUeHg3t+z1Wh0/wzFrym4gw3SIL7dpuW8JYLD+DSXbzN7MDAPQDxhxCRrMgcUC 7ClubJbEs6NhmSjVFYujfFAFZCdzbQTFFXQjTN8v07RC8hqNsiy6cmQjDZYoPWiP5niTgw== X-Google-Smtp-Source: AGHT+IEjtv+2nPV3bMGokimocGolOQK6Eq2kCYVoK8Cf0FC3mWUQ/UE+54B/CefANH17lZwcZWwLOTF8xoJF X-Received: by 2002:a05:6214:5293:b0:702:d87a:60a0 with SMTP id 6a1803df08f44-70498308049mr7833516d6.44.1752110809028; Wed, 09 Jul 2025 18:26:49 -0700 (PDT) Received: from postal.iol.unh.edu (postal.iol.unh.edu. [132.177.123.84]) by smtp-relay.gmail.com with ESMTPS id 6a1803df08f44-70497d38284sm190686d6.37.2025.07.09.18.26.48 (version=TLS1_2 cipher=ECDHE-ECDSA-AES128-GCM-SHA256 bits=128/128); Wed, 09 Jul 2025 18:26:49 -0700 (PDT) X-Relaying-Domain: iol.unh.edu Date: Wed, 09 Jul 2025 18:26:49 -0700 (PDT) Message-ID: <686f16d9.050a0220.1b3fac.119fSMTPIN_ADDED_MISSING@mx.google.com> Received: from [172.21.0.5] (unknown [172.18.0.240]) by postal.iol.unh.edu (Postfix) with ESMTP id 9E4CF6051830; Wed, 9 Jul 2025 21:26:48 -0400 (EDT) Subject: |WARNING| pw155029-155031 [PATCH] [v3,3/3] app/testpmd: improve outp From: dpdklab@iol.unh.edu To: Test Report Cc: dpdk-test-reports@iol.unh.edu In-Reply-To: <20250707111751.183469-4-bruce.richardson@intel.com> References: <20250707111751.183469-4-bruce.richardson@intel.com> Content-Type: text/plain X-BeenThere: test-report@dpdk.org X-Mailman-Version: 2.1.29 Precedence: list List-Id: automatic DPDK test reports List-Unsubscribe: , List-Archive: List-Post: List-Help: List-Subscribe: , Errors-To: test-report-bounces@dpdk.org Test-Label: iol-compile-amd64-testing Test-Status: WARNING http://dpdk.org/patch/155031 _Testing issues_ Submitter: Bruce Richardson Date: Monday, July 07 2025 11:17:51 DPDK git baseline: Repo:dpdk Branch: master CommitID:ba982f9a1ca9b96ed0394b764f1523d482e963a2 155029-155031 --> testing issues Upstream job id: Windows-Compile-DPDK-Native#29694 Test environment and result as below: +-------------------------------+--------------------+-------------------+------------------+-------------------+-------------------------+ | Environment | dpdk_meson_compile | dpdk_compile_spdk | dpdk_compile_ovs | dpdk_msvc_compile | dpdk_llvm_clang_compile | +===============================+====================+===================+==================+===================+=========================+ | CentOS Stream 9 | PASS | PASS | SKIPPED | SKIPPED | SKIPPED | +-------------------------------+--------------------+-------------------+------------------+-------------------+-------------------------+ | CentOS Stream 10 | PASS | SKIPPED | SKIPPED | SKIPPED | SKIPPED | +-------------------------------+--------------------+-------------------+------------------+-------------------+-------------------------+ | Debian GNU/Linux 12 | PASS | PASS | SKIPPED | SKIPPED | SKIPPED | +-------------------------------+--------------------+-------------------+------------------+-------------------+-------------------------+ | Fedora Linux 40 | PASS | PASS | SKIPPED | SKIPPED | SKIPPED | +-------------------------------+--------------------+-------------------+------------------+-------------------+-------------------------+ | Fedora Linux 41 | PASS | PASS | PASS | SKIPPED | SKIPPED | +-------------------------------+--------------------+-------------------+------------------+-------------------+-------------------------+ | openSUSE Leap 15.6 | PASS | SKIPPED | SKIPPED | SKIPPED | SKIPPED | +-------------------------------+--------------------+-------------------+------------------+-------------------+-------------------------+ | Red Hat Enterprise Linux 8.10 | PASS | SKIPPED | SKIPPED | SKIPPED | SKIPPED | +-------------------------------+--------------------+-------------------+------------------+-------------------+-------------------------+ | Red Hat Enterprise Linux 9.5 | PASS | SKIPPED | SKIPPED | SKIPPED | SKIPPED | +-------------------------------+--------------------+-------------------+------------------+-------------------+-------------------------+ | Ubuntu 20.04 | PASS | SKIPPED | SKIPPED | SKIPPED | SKIPPED | +-------------------------------+--------------------+-------------------+------------------+-------------------+-------------------------+ | Ubuntu 22.04 | PASS | PASS | SKIPPED | SKIPPED | SKIPPED | +-------------------------------+--------------------+-------------------+------------------+-------------------+-------------------------+ | Ubuntu 24.04 | PASS | PASS | PASS | SKIPPED | SKIPPED | +-------------------------------+--------------------+-------------------+------------------+-------------------+-------------------------+ | Alpine Linux 3.22.0 | PASS | SKIPPED | SKIPPED | SKIPPED | SKIPPED | +-------------------------------+--------------------+-------------------+------------------+-------------------+-------------------------+ | FreeBSD 14.2 | PASS | SKIPPED | SKIPPED | SKIPPED | SKIPPED | +-------------------------------+--------------------+-------------------+------------------+-------------------+-------------------------+ | Windows Server 2022 | SKIPPED | SKIPPED | SKIPPED | PASS | PASS | +-------------------------------+--------------------+-------------------+------------------+-------------------+-------------------------+ CentOS Stream 9 Kernel: 5.15 Compiler: gcc gcc (GCC) 11.5.0 20240719 (Red Hat 11.5.0-7) CentOS Stream 10 Kernel: 5.15 Compiler: gcc gcc (GCC) 14.2.1 20250110 (Red Hat 14.2.1-8) Debian GNU/Linux 12 Kernel: 5.15 Compiler: gcc gcc (Debian 12.2.0-14+deb12u1) 12.2.0 Fedora Linux 40 Kernel: 5.15 Compiler: clang gcc (GCC) 14.2.1 20240912 (Red Hat 14.2.1-3) Fedora Linux 41 Kernel: 5.15 Compiler: clang gcc (GCC) 14.3.1 20250523 (Red Hat 14.3.1-1) openSUSE Leap 15.6 Kernel: 5.15 Compiler: gcc gcc (SUSE Linux) 7.5.0 Red Hat Enterprise Linux 8.10 Kernel: 5.15 Compiler: gcc gcc (GCC) 8.5.0 20210514 (Red Hat 8.5.0-22) Red Hat Enterprise Linux 9.5 Kernel: 5.15 Compiler: gcc gcc (GCC) 11.5.0 20240719 (Red Hat 11.5.0-2) Ubuntu 20.04 Kernel: 5.15 Compiler: gcc gcc (Ubuntu 9.4.0-1ubuntu1~20.04.2) 9.4.0 Ubuntu 22.04 Kernel: 5.15 Compiler: gcc gcc (Ubuntu 11.4.0-1ubuntu1~22.04) 11.4.0 Ubuntu 24.04 Kernel: 5.15 Compiler: gcc gcc (Ubuntu 13.3.0-6ubuntu2~24.04) 13.3.0 Alpine Linux 3.22.0 Kernel: 5.15 Compiler: gcc gcc (Alpine 14.2.0) 14.2.0 FreeBSD 14.2 Kernel: 14.2-RELEASE Compiler: clang 18.1.6 Windows Server 2022 Kernel: 10.0.20348.2031 Compiler: clang 15.0.7, gcc 14.1.0 (MinGW), and MSVC VS 19.39.33521 To view detailed results, visit: https://lab.dpdk.org/results/dashboard/patchsets/33604/ UNH-IOL DPDK Community Lab To manage your email subscriptions, visit: https://lab.dpdk.org/results/dashboard/preferences/subscriptions/