From mboxrd@z Thu Jan 1 00:00:00 1970 Return-Path: Received: from mails.dpdk.org (mails.dpdk.org [217.70.189.124]) by inbox.dpdk.org (Postfix) with ESMTP id 9C65746A87 for ; Thu, 10 Jul 2025 03:53:47 +0200 (CEST) Received: from mails.dpdk.org (localhost [127.0.0.1]) by mails.dpdk.org (Postfix) with ESMTP id 954EC4025E; Thu, 10 Jul 2025 03:53:47 +0200 (CEST) Received: from mail-qv1-f100.google.com (mail-qv1-f100.google.com [209.85.219.100]) by mails.dpdk.org (Postfix) with ESMTP id E57C94025E for ; Thu, 10 Jul 2025 03:53:45 +0200 (CEST) Received: by mail-qv1-f100.google.com with SMTP id 6a1803df08f44-6fac7147cb8so7525516d6.1 for ; Wed, 09 Jul 2025 18:53:45 -0700 (PDT) DKIM-Signature: v=1; a=rsa-sha256; c=relaxed/relaxed; d=iol.unh.edu; s=unh-iol; t=1752112425; x=1752717225; darn=dpdk.org; h=cc:to:from:subject:message-id:date:from:to:cc:subject:date :message-id:reply-to; bh=OX5O3K8cBv9B4CTcj2oD9zFouuoJu9ljj5sIfsKMFlo=; b=Ml25jvCPfihV8gaiadbjfvE8uMEZK6t2CAm/s3cAxTAeunxBpFENmfND8juI9278GJ Lxm2tld29MDDzj8AGG2hI+QGT2XQmsLbbQOmNS0w8wd3Y9gCosRQvy3U3WntvIxmbaCN zAVG4ZqED1E24eOrDyaep+CH0am5y8jpvsG9A= X-Google-DKIM-Signature: v=1; a=rsa-sha256; c=relaxed/relaxed; d=1e100.net; s=20230601; t=1752112425; x=1752717225; h=cc:to:from:subject:message-id:date:x-gm-message-state:from:to:cc :subject:date:message-id:reply-to; bh=OX5O3K8cBv9B4CTcj2oD9zFouuoJu9ljj5sIfsKMFlo=; b=hvd8H3S1Zvhvz73cmqXJhh1+Z5Vy5VuwNjBxCq6cRiqFELECcXllH50Ajam5m8PYwg WebS9UJhcZoA6bixvcCg5b/r8UfU9VIQBCB9U90sNN7yxV8TOR65081NkH+EQmV63ZD1 v6ZwXsyTrg7G7TnM1GmLoDK6/A2wOHKUNwL3LRYEhIkTAGL9gKb3s04mF9dFDZ0juPWz KgRoTg1NsYQh7CvZd/TSY7qoMNZY4Z38pONNowP1IxoYTbVcmRWVOwbhPO3J7tvbnOsS wIbz6Rn98utexAPDg5+50+nDosAQkp/9Dz2LM8z1gAF3HBs6INqpbYy6fEM+cBsBQBK0 0VUA== X-Gm-Message-State: AOJu0YxfYZoHw5xbweC0V1TV/OZbhdOQ/KzfvG9I1eb0g0ZsNDfzArAT 72hQY2/1plDshffBZGNVqmRSmHvvGLLtSDjMxeqVra3hdN8ztmeyVsZ+YpC7N4MsKU9ht5gIRfz GCPysB9NkCLFg9ut2VqWvKPm3UiMa8N0rSFYmj9ueS2sxZPK1MQmL3UIFk/Tm X-Gm-Gg: ASbGnctRWBJPxZhzK3ASzQ9/9wL3HI7UKMm7sVbg12SYgB0J3cPsAKn4QeU7z9sGMSF C0X8OWs4qD0ORej/5moGcjm7UjsdXLrXg9RewCkssHYDubsUzDFewliX97xD8v+8BiIoeOPG0R2 xF0/7Z9J/dJ571ra16j+D4lS3RIXy+Lqn5R7KDN2NtWSeWUU3Mdlj2krl0cC2Z8+FIcg+hVxs6c m69G/FVE34pzEvQEyDlhQx/gG8mOIjdqQlpDRg0v6+W42stEPFVhCpVqvuOADzvjgGvM/4qZE/k MTyUTUjT/VgJV3C+61/4wqa4x+CUWUTBkH76DkQnLk8SLrY= X-Google-Smtp-Source: AGHT+IEq13vfXKz2yMb5CmO64Gi+tlRehu2Lsps/aidvfvzXxXhPI4PGutHDXITa01aNCEEdJMRMDwTzYH2u X-Received: by 2002:a05:620a:25d2:b0:7d4:28d9:efbe with SMTP id af79cd13be357-7dc9b5e7680mr289555285a.32.1752112425336; Wed, 09 Jul 2025 18:53:45 -0700 (PDT) Received: from postal.iol.unh.edu (postal.iol.unh.edu. [2606:4100:3880:1234::84]) by smtp-relay.gmail.com with ESMTPS id 6a1803df08f44-70497d35c3asm194666d6.36.2025.07.09.18.53.45 (version=TLS1_2 cipher=ECDHE-ECDSA-AES128-GCM-SHA256 bits=128/128); Wed, 09 Jul 2025 18:53:45 -0700 (PDT) X-Relaying-Domain: iol.unh.edu Date: Wed, 09 Jul 2025 18:53:45 -0700 (PDT) Message-ID: <686f1d29.d40a0220.316309.1547SMTPIN_ADDED_MISSING@mx.google.com> Received: from [172.21.0.5] (unknown [172.18.0.240]) by postal.iol.unh.edu (Postfix) with ESMTP id 08B476051830; Wed, 9 Jul 2025 21:53:45 -0400 (EDT) Subject: |SUCCESS| [GIT MASTER] 9fe9c0b231c8da5435bfccb1963121b4277f961c From: dpdklab@iol.unh.edu To: Test Report Cc: dpdk-test-reports@iol.unh.edu Content-Type: text/plain X-BeenThere: test-report@dpdk.org X-Mailman-Version: 2.1.29 Precedence: list List-Id: automatic DPDK test reports List-Unsubscribe: , List-Archive: List-Post: List-Help: List-Subscribe: , Errors-To: test-report-bounces@dpdk.org _Testing PASS_ Branch: dpdk 9fe9c0b231c8da5435bfccb1963121b4277f961c --> testing pass Upstream job id: Generic-Unit-Test-DPDK#354452 Test environment and result as below: +-------------------------------+----------------+ | Environment | dpdk_unit_test | +===============================+================+ | Arch Linux 20250613.0.365270 | PASS | +-------------------------------+----------------+ | CentOS Stream 10 | PASS | +-------------------------------+----------------+ | Debian GNU/Linux 12 | PASS | +-------------------------------+----------------+ | Fedora Linux 40 | PASS | +-------------------------------+----------------+ | Fedora Linux 41 | PASS | +-------------------------------+----------------+ | CentOS Stream 9 | PASS | +-------------------------------+----------------+ | Red Hat Enterprise Linux 8.10 | PASS | +-------------------------------+----------------+ | Red Hat Enterprise Linux 9.5 | PASS | +-------------------------------+----------------+ | Ubuntu 20.04 | PASS | +-------------------------------+----------------+ | Ubuntu 22.04 | PASS | +-------------------------------+----------------+ | Ubuntu 24.04 | PASS | +-------------------------------+----------------+ Arch Linux 20250613.0.365270 Kernel: 5.15 Compiler: gcc gcc (GCC) 15.1.1 20250425 CentOS Stream 10 Kernel: 5.15 Compiler: gcc gcc (GCC) 14.2.1 20250110 (Red Hat 14.2.1-8) Debian GNU/Linux 12 Kernel: 5.15 Compiler: gcc gcc (Debian 12.2.0-14+deb12u1) 12.2.0 Fedora Linux 40 Kernel: 5.15 Compiler: clang gcc (GCC) 14.2.1 20240912 (Red Hat 14.2.1-3) Fedora Linux 41 Kernel: 5.15 Compiler: clang gcc (GCC) 14.3.1 20250523 (Red Hat 14.3.1-1) CentOS Stream 9 Kernel: 5.15 Compiler: gcc gcc (GCC) 11.5.0 20240719 (Red Hat 11.5.0-7) Red Hat Enterprise Linux 8.10 Kernel: 5.15 Compiler: gcc gcc (GCC) 8.5.0 20210514 (Red Hat 8.5.0-22) Red Hat Enterprise Linux 9.5 Kernel: 5.15 Compiler: gcc gcc (GCC) 11.5.0 20240719 (Red Hat 11.5.0-2) Ubuntu 20.04 Kernel: 5.15 Compiler: gcc gcc (Ubuntu 9.4.0-1ubuntu1~20.04.2) 9.4.0 Ubuntu 22.04 Kernel: 5.15 Compiler: gcc gcc (Ubuntu 11.4.0-1ubuntu1~22.04) 11.4.0 Ubuntu 24.04 Kernel: 5.15 Compiler: gcc gcc (Ubuntu 13.3.0-6ubuntu2~24.04) 13.3.0 To view detailed results, visit: https://lab.dpdk.org/results/dashboard/tarballs/34221/ UNH-IOL DPDK Community Lab To manage your email subscriptions, visit: https://lab.dpdk.org/results/dashboard/preferences/subscriptions/