From mboxrd@z Thu Jan 1 00:00:00 1970 Return-Path: Received: from mails.dpdk.org (mails.dpdk.org [217.70.189.124]) by inbox.dpdk.org (Postfix) with ESMTP id E817746AE9 for ; Thu, 10 Jul 2025 04:05:22 +0200 (CEST) Received: from mails.dpdk.org (localhost [127.0.0.1]) by mails.dpdk.org (Postfix) with ESMTP id C65304025E; Thu, 10 Jul 2025 04:05:22 +0200 (CEST) Received: from mail-pl1-f228.google.com (mail-pl1-f228.google.com [209.85.214.228]) by mails.dpdk.org (Postfix) with ESMTP id A2C294025E for ; Thu, 10 Jul 2025 04:05:21 +0200 (CEST) Received: by mail-pl1-f228.google.com with SMTP id d9443c01a7336-23636167b30so4678805ad.1 for ; Wed, 09 Jul 2025 19:05:21 -0700 (PDT) DKIM-Signature: v=1; a=rsa-sha256; c=relaxed/relaxed; d=iol.unh.edu; s=unh-iol; t=1752113121; x=1752717921; darn=dpdk.org; h=cc:to:from:subject:message-id:date:from:to:cc:subject:date :message-id:reply-to; bh=K9lTZoHER5iL5afZ0evZxZ2aqUpZpfku4RW3pll+89k=; b=ikHw4yr6kQQDgh57r5hbQ3gCOk94qNFLRSNCP4pyiLi/haBgN3cQaHVzuCz6dRC7bf j99Xbtnld07RaH6vTBFjISeaWa6QdJG+bfkz7VO0+op/EUWYk+9o4evt4GYSRVrOWMLe kXXdrSw9YSfZij6Is0gGRJHQP9GDsOQEgtQm4= X-Google-DKIM-Signature: v=1; a=rsa-sha256; c=relaxed/relaxed; d=1e100.net; s=20230601; t=1752113121; x=1752717921; h=cc:to:from:subject:message-id:date:x-gm-message-state:from:to:cc :subject:date:message-id:reply-to; bh=K9lTZoHER5iL5afZ0evZxZ2aqUpZpfku4RW3pll+89k=; b=SLIl7VgsoWWjQDgPiPpN7C7vx4oRrC9Wq4zXlbb4sM8ZPmk7SZZa2iTo/qH+RrLmQY d+xE+RpmwGeTscwKbDA//bklxLDbwvrrSanEbq6EBNFRet2A79KmlLB87cAQQgxEiP9y iozPPNy/MljDUfmEXK1aQ/ndctHjflvbIEgQaFhemzmkOSboWtLk8T6Xk8tvrG1SMu85 nD8un81M/2/09ouYZ0w/KE8b2ldJ+k8rhsLOV7sQvOOa2KHin8xDyDQ2N+XHzQPhU3pF meyCNJeTdExQdhVJXATv/q/6TW9S1eFtpTTGLVMydhVMtymAkz+vVg/DzYMQm+eC+fLU H/6g== X-Gm-Message-State: AOJu0YyG9VBw/GEAga4RBhHKWEcHN/q/jy8S61UcRaoiUXGLSi4YUSS7 ocWhxG95XTHk4k5Te9eBbTm/lit4Q3R3ibP1dfIUaTCSZlGAtpZv2b7t3ctBwB+uWbD91dl2wgL wA+K6SYmG0YYo4jhTK52jy2oOWy6J+iWH0iujlo56fZozxUef6pCuSu8Dyho5 X-Gm-Gg: ASbGncuZWP2DPb75gD/q5TSyHTfSBKZETQEodo++6yz86MTe8fCXFr+nzVGIKbk+/Io l+iA7xmBY7udhMttuEtSuzBX61Eg+CEeWnNCxxnc0wp24LaMjyAy3cjvx68YoSJEu7ubcBxpvc4 qfcCkVJiJmOiYcVYlhmJ+sBr9XBE+s8BDd9ywg+Db7GEx8xoz6LoYTA5rNmAPrV4rMneHJzcsfu +ISf5mnyFlCV7WSrTyPwFuRfL8FXYee89AvrhsttieczqtSLzYr+Y1N+ePLyJFTm9KVp9FzwrEz cGc6Kr8qIUgvcaDzxdX7TI0HrPuifQbAZv9Htcu97UojRWk= X-Google-Smtp-Source: AGHT+IH3LjWWnCjcsATiy3b06ecUUBy/MfRY1BeyycPVQfb7bHm8rpromKypK4p4eCfT2GCmls8n1U7uWOhG X-Received: by 2002:a17:902:8f85:b0:23d:dd04:28e2 with SMTP id d9443c01a7336-23de24f375emr27907795ad.35.1752113120760; Wed, 09 Jul 2025 19:05:20 -0700 (PDT) Received: from postal.iol.unh.edu (postal.iol.unh.edu. [2606:4100:3880:1234::84]) by smtp-relay.gmail.com with ESMTPS id d9443c01a7336-23de426702esm264965ad.4.2025.07.09.19.05.20 (version=TLS1_2 cipher=ECDHE-ECDSA-AES128-GCM-SHA256 bits=128/128); Wed, 09 Jul 2025 19:05:20 -0700 (PDT) X-Relaying-Domain: iol.unh.edu Date: Wed, 09 Jul 2025 19:05:20 -0700 (PDT) Message-ID: <686f1fe0.170a0220.1136e3.1882SMTPIN_ADDED_MISSING@mx.google.com> Received: from [172.21.0.6] (unknown [172.18.0.240]) by postal.iol.unh.edu (Postfix) with ESMTP id 32AAD6051830; Wed, 9 Jul 2025 22:05:20 -0400 (EDT) Subject: |SUCCESS| [GIT MASTER] 9fe9c0b231c8da5435bfccb1963121b4277f961c From: dpdklab@iol.unh.edu To: Test Report Cc: dpdk-test-reports@iol.unh.edu Content-Type: text/plain X-BeenThere: test-report@dpdk.org X-Mailman-Version: 2.1.29 Precedence: list List-Id: automatic DPDK test reports List-Unsubscribe: , List-Archive: List-Post: List-Help: List-Subscribe: , Errors-To: test-report-bounces@dpdk.org _Testing PASS_ Branch: dpdk 9fe9c0b231c8da5435bfccb1963121b4277f961c --> testing pass Upstream job id: Generic-DPDK-Compile-ABI#133903 Test environment and result as below: +-------------------------------+----------+ | Environment | abi_test | +===============================+==========+ | CentOS Stream 9 | PASS | +-------------------------------+----------+ | CentOS Stream 10 | PASS | +-------------------------------+----------+ | Debian GNU/Linux 12 | PASS | +-------------------------------+----------+ | Fedora Linux 40 | PASS | +-------------------------------+----------+ | Fedora Linux 41 | PASS | +-------------------------------+----------+ | openSUSE Leap 15.6 | PASS | +-------------------------------+----------+ | Red Hat Enterprise Linux 8.10 | PASS | +-------------------------------+----------+ | Red Hat Enterprise Linux 9.5 | PASS | +-------------------------------+----------+ | Ubuntu 22.04 | PASS | +-------------------------------+----------+ | Arch Linux 20250613.0.365270 | PASS | +-------------------------------+----------+ | Ubuntu 24.04 | PASS | +-------------------------------+----------+ CentOS Stream 9 Kernel: 5.15 Compiler: gcc gcc (GCC) 11.5.0 20240719 (Red Hat 11.5.0-7) CentOS Stream 10 Kernel: 5.15 Compiler: gcc gcc (GCC) 14.2.1 20250110 (Red Hat 14.2.1-8) Debian GNU/Linux 12 Kernel: 5.15 Compiler: gcc gcc (Debian 12.2.0-14+deb12u1) 12.2.0 Fedora Linux 40 Kernel: 5.15 Compiler: clang gcc (GCC) 14.2.1 20240912 (Red Hat 14.2.1-3) Fedora Linux 41 Kernel: 5.15 Compiler: clang gcc (GCC) 14.3.1 20250523 (Red Hat 14.3.1-1) openSUSE Leap 15.6 Kernel: 5.15 Compiler: gcc gcc (SUSE Linux) 7.5.0 Red Hat Enterprise Linux 8.10 Kernel: 5.15 Compiler: gcc gcc (GCC) 8.5.0 20210514 (Red Hat 8.5.0-22) Red Hat Enterprise Linux 9.5 Kernel: 5.15 Compiler: gcc gcc (GCC) 11.5.0 20240719 (Red Hat 11.5.0-2) Ubuntu 22.04 Kernel: 5.15 Compiler: gcc gcc (Ubuntu 11.4.0-1ubuntu1~22.04) 11.4.0 Arch Linux 20250613.0.365270 Kernel: 5.15 Compiler: gcc gcc (GCC) 15.1.1 20250425 Ubuntu 24.04 Kernel: 5.15 Compiler: gcc gcc (Ubuntu 13.3.0-6ubuntu2~24.04) 13.3.0 To view detailed results, visit: https://lab.dpdk.org/results/dashboard/tarballs/34221/ UNH-IOL DPDK Community Lab To manage your email subscriptions, visit: https://lab.dpdk.org/results/dashboard/preferences/subscriptions/