From mboxrd@z Thu Jan 1 00:00:00 1970 Return-Path: Received: from mails.dpdk.org (mails.dpdk.org [217.70.189.124]) by inbox.dpdk.org (Postfix) with ESMTP id 302CE46AE9 for ; Thu, 10 Jul 2025 04:31:01 +0200 (CEST) Received: from mails.dpdk.org (localhost [127.0.0.1]) by mails.dpdk.org (Postfix) with ESMTP id 0B557402D1; Thu, 10 Jul 2025 04:31:01 +0200 (CEST) Received: from mail-ua1-f99.google.com (mail-ua1-f99.google.com [209.85.222.99]) by mails.dpdk.org (Postfix) with ESMTP id 24170402D1 for ; Thu, 10 Jul 2025 04:31:00 +0200 (CEST) Received: by mail-ua1-f99.google.com with SMTP id a1e0cc1a2514c-87f2ba094dcso171488241.3 for ; Wed, 09 Jul 2025 19:31:00 -0700 (PDT) DKIM-Signature: v=1; a=rsa-sha256; c=relaxed/relaxed; d=iol.unh.edu; s=unh-iol; t=1752114659; x=1752719459; darn=dpdk.org; h=references:in-reply-to:cc:to:from:subject:message-id:date:from:to :cc:subject:date:message-id:reply-to; bh=k5ySR8cAADrhQtlOXEb7I9La9UYZl3mmhTmBz5ep+qk=; b=OzTNeTxblWHCsSIpJrhZbId44WzN+zD1DXds2Z5loOlhCOSR0N19+4Ar6m/nL6fDUA JsGuhLPOLbVXF9BkdDPwpLsCn6BHzhzFcK6mHyHDB2Z05LvdY7Plo5oxjYuk97TSIwyC oStJFoZeyv/Ri1Xz7/cECe7YomQv8ZawJC8bA= X-Google-DKIM-Signature: v=1; a=rsa-sha256; c=relaxed/relaxed; d=1e100.net; s=20230601; t=1752114659; x=1752719459; h=references:in-reply-to:cc:to:from:subject:message-id:date :x-gm-message-state:from:to:cc:subject:date:message-id:reply-to; bh=k5ySR8cAADrhQtlOXEb7I9La9UYZl3mmhTmBz5ep+qk=; b=M+t5a7AsGHBlVro8l5jvI8niQEjDMIOSL7oK1MZ3Zq8Vwqv8g7JpEC9wjDUFk87Uiz g7vlKTlUZU+3cKqSHQLC7B/6aJgCICPY8Aun0r/gB8y5mV/UE4NKkCGjKk3ncbULkUS1 G437QdGRpDkZXzv0w+waqMqMv0e49G4SmH8MuJocTEgR+HSXq+9xbwFfn9SezdW4j76N yDERFnndRhO/Yn/XLmWKOgwJ21tLuQtPjIUSD7SzB2Salq5Q/SUVTJQqFimOFmV9+xE2 bVw3Gu7yq46nxbGC5vKmTktLrnX2YsMofHE70YMm5Vb+Cs/7TUJVonjWK/3N3gAT+Jjn cKlA== X-Gm-Message-State: AOJu0Yx8ytn3X1JMHUgjhyqFExXTKwKwknd5wiSjFlKX1u5Nux4u/acv lj63xOqiy1z7E0SPafbcrnrQcn0FQzJDRnXgDvwNJkk8jpJ+XAyGYybMJ/bOreKHiY2n8dbgShf wsO8ZOHfCWBK5cgOyIhgtlsV7gIRaoDzKmTqr0d59zPFgdj0anBpXiGNiBWwG X-Gm-Gg: ASbGncuwGOrP2noFsCm4M70SPtFmnm/1N72leEAj/59QmksHFZsVWbQcF59NobBqqi1 kD6iIIaEp8Umsq02VM5ZyI6iCXHeE8IuETPU8ggGaXfLYQCAiVM5c6s+qW044TwuSN67vjlZ7S3 qUO4dkYdSxUaVleFJp8vnUQ4idpPLuF6XQrLauxQYLVvpYSFkg7RK/crZgp06UqttLQkX6QoBey DWGcfgB9bFiQwQ2mov+kMa+XsZv0a861z1fla8dHnKBnM2sVwTNBz6ormSIwoRVYd3U71vPBxN5 YLqRn0vx7EgjWP2vH4DBblO4VBP94apb2IHqhu/4S0Pqm5c= X-Google-Smtp-Source: AGHT+IH2ylN4Em8+zWEzTfp2b2ORARP1CdH+DDjgztU6RE5Q+nt57756WuurctLOBm8hqM4dP20LkaDdvWTt X-Received: by 2002:a05:6102:4188:b0:4e5:a0a3:86da with SMTP id ada2fe7eead31-4f62e1279d9mr575664137.12.1752114659448; Wed, 09 Jul 2025 19:30:59 -0700 (PDT) Received: from postal.iol.unh.edu (postal.iol.unh.edu. [2606:4100:3880:1234::84]) by smtp-relay.gmail.com with ESMTPS id 71dfb90a1353d-535e73fe59asm20362e0c.12.2025.07.09.19.30.59 (version=TLS1_2 cipher=ECDHE-ECDSA-AES128-GCM-SHA256 bits=128/128); Wed, 09 Jul 2025 19:30:59 -0700 (PDT) X-Relaying-Domain: iol.unh.edu Date: Wed, 09 Jul 2025 19:30:59 -0700 (PDT) Message-ID: <686f25e3.050a0220.3bd735.1340SMTPIN_ADDED_MISSING@mx.google.com> Received: from [172.21.0.6] (unknown [172.18.0.240]) by postal.iol.unh.edu (Postfix) with ESMTP id 04B676051830; Wed, 9 Jul 2025 22:30:59 -0400 (EDT) Subject: |SUCCESS| pw155011 [PATCH] app/testpmd: allow multiple cmdline-file From: dpdklab@iol.unh.edu To: Test Report Cc: dpdk-test-reports@iol.unh.edu In-Reply-To: <20250704140551.4151993-1-bruce.richardson@intel.com> References: <20250704140551.4151993-1-bruce.richardson@intel.com> Content-Type: text/plain X-BeenThere: test-report@dpdk.org X-Mailman-Version: 2.1.29 Precedence: list List-Id: automatic DPDK test reports List-Unsubscribe: , List-Archive: List-Post: List-Help: List-Subscribe: , Errors-To: test-report-bounces@dpdk.org Test-Label: iol-compile-arm64-testing Test-Status: SUCCESS http://dpdk.org/patch/155011 _Testing PASS_ Submitter: Bruce Richardson Date: Friday, July 04 2025 14:05:51 DPDK git baseline: Repo:dpdk Branch: master CommitID:ba982f9a1ca9b96ed0394b764f1523d482e963a2 155011 --> testing pass Upstream job id: Generic-DPDK-Compile-Meson#407494 Test environment and result as below: +------------------------------+--------------------+ | Environment | dpdk_meson_compile | +==============================+====================+ | Red Hat Enterprise Linux 9.5 | PASS | +------------------------------+--------------------+ | Ubuntu 20.04 | PASS | +------------------------------+--------------------+ | Debian GNU/Linux 12 | PASS | +------------------------------+--------------------+ | Fedora Linux 40 | PASS | +------------------------------+--------------------+ | Fedora Linux 41 | PASS | +------------------------------+--------------------+ | Ubuntu 24.04 | PASS | +------------------------------+--------------------+ | CentOS Stream 9 | PASS | +------------------------------+--------------------+ | CentOS Stream 10 | PASS | +------------------------------+--------------------+ | Ubuntu 22.04 | PASS | +------------------------------+--------------------+ Red Hat Enterprise Linux 9.5 Kernel: 5.4 Compiler: gcc gcc (GCC) 11.5.0 20240719 (Red Hat 11.5.0-2) Ubuntu 20.04 Kernel: 5.15 Compiler: aarch64-linux-gnu-gcc gcc (Ubuntu 9.4.0-1ubuntu1~20.04.2) 9.4.0 Debian GNU/Linux 12 Kernel: 5.4 Compiler: gcc gcc (Debian 12.2.0-14+deb12u1) 12.2.0 Fedora Linux 40 Kernel: 5.4 Compiler: clang gcc (GCC) 14.2.1 20240912 (Red Hat 14.2.1-3) Fedora Linux 41 Kernel: 5.4 Compiler: clang gcc (GCC) 14.3.1 20250523 (Red Hat 14.3.1-1) Ubuntu 24.04 Kernel: 5.4 Compiler: gcc gcc (Ubuntu 13.3.0-6ubuntu2~24.04) 13.3.0 CentOS Stream 9 Kernel: 5.4 Compiler: gcc gcc (GCC) 11.5.0 20240719 (Red Hat 11.5.0-7) CentOS Stream 10 Kernel: 5.4 Compiler: gcc gcc (GCC) 14.2.1 20250110 (Red Hat 14.2.1-8) Ubuntu 22.04 Kernel: 5.4 Compiler: gcc gcc (Ubuntu 11.4.0-1ubuntu1~22.04) 11.4.0 To view detailed results, visit: https://lab.dpdk.org/results/dashboard/patchsets/33594/ UNH-IOL DPDK Community Lab To manage your email subscriptions, visit: https://lab.dpdk.org/results/dashboard/preferences/subscriptions/