From mboxrd@z Thu Jan 1 00:00:00 1970 Return-Path: Received: from mails.dpdk.org (mails.dpdk.org [217.70.189.124]) by inbox.dpdk.org (Postfix) with ESMTP id 2FD4346AE9 for ; Thu, 10 Jul 2025 04:31:23 +0200 (CEST) Received: from mails.dpdk.org (localhost [127.0.0.1]) by mails.dpdk.org (Postfix) with ESMTP id 270EE402D1; Thu, 10 Jul 2025 04:31:23 +0200 (CEST) Received: from mail-il1-f228.google.com (mail-il1-f228.google.com [209.85.166.228]) by mails.dpdk.org (Postfix) with ESMTP id 9D9D1402D1 for ; Thu, 10 Jul 2025 04:31:21 +0200 (CEST) Received: by mail-il1-f228.google.com with SMTP id e9e14a558f8ab-3e05c718bedso4354105ab.0 for ; Wed, 09 Jul 2025 19:31:21 -0700 (PDT) DKIM-Signature: v=1; a=rsa-sha256; c=relaxed/relaxed; d=iol.unh.edu; s=unh-iol; t=1752114681; x=1752719481; darn=dpdk.org; h=references:in-reply-to:cc:to:from:subject:message-id:date:from:to :cc:subject:date:message-id:reply-to; bh=l55zyHA+aUEfCp+vaJmQAJga4e9fXPvhDg1FnjPdgzc=; b=cWLCkxLBc6jDXMPPwPfWsnqCFxnOWPiQhYvSGGFDPJ3muAo60hD8Kw2qGnwPu9En2a f+ZLyNFb47Z5CsOSKryM7uQifYfBnd0pDKe+oF5MCXtEnO5Eh56n+LqC/88DShJihB17 G9LAk70DM1VQ5a7RWVARK1ulr5+v5l8Q57k14= X-Google-DKIM-Signature: v=1; a=rsa-sha256; c=relaxed/relaxed; d=1e100.net; s=20230601; t=1752114681; x=1752719481; h=references:in-reply-to:cc:to:from:subject:message-id:date :x-gm-message-state:from:to:cc:subject:date:message-id:reply-to; bh=l55zyHA+aUEfCp+vaJmQAJga4e9fXPvhDg1FnjPdgzc=; b=CZI+g3+9x0rBC6GwSOomJFqkRUdAn32RqRZdoePE5CXP+3MbY1veT89IkA0kmdISDE viXfo6RmVWf0gnD8ozToW0NSMbopRHUnRN3q6nHbNva3VrPOc7P+EA5m5nJ4NMD2qIh7 rJ0FL0G4xOW3g+sqyFzwg71dC6oKdiXTMFS1sBcSBgt3vmtk4I+AEk1N7uJD78CafOfL lPuIhxACdWeCi2GVZmtTZ8sBwXyUcJMu4VyBHsJd15jSlsJykjKPBCJwyKAUZZNJBsxm dI4B8YguOt9+14pqBQhZGBZqiknD7McGLBNkn/NhrPjcFK1SW2yNcu+wwJ4HMx/AQsJf fSfQ== X-Gm-Message-State: AOJu0YyQech8faJZNO2Pu1RGv2qWIP2r4CAS2v2pDdYy7EWTngnUvpA/ Dy+uVTWHd9550xrWKFsprFj/2bMqZsofNTUe6aueskgawqHHChPcwOJZrV6EErsYPKqkcRFJqds m639v2w8JBipbxbCSIUxT+YhoKsppLRH2ebL9uOTbGdZrde2b2Ley9Wo/nEk0 X-Gm-Gg: ASbGncuPofYJ13uAUchan2Bu63cPFJLEfGdV6ZxqQ1N/BME2W2dBK4IG13uV3N3fdiq ka5/80KuRUbEvc5KayszYKrblYLvPL+XVbX9ly3cIqDtDhHMF95Um9YX55UoaszhjmJhTG8YCSj gWtdfaPFPr9yNc4YZfD0dXsS4ctvZDSYzHau5NHa9xVSc8yRtQoVWsIJWDGNvt7SNbWVP1JfPvh QBL6HVF5lMIgU/DngWwpFK4MIIaVTuU+alsgNsqHDi6f4B9o5Dp+kChvlHSfgYXIq2xX/goxdGD 29/CXP0Hn+Fb4NK23kYIrVOyknNw29/jO9Rv4BcKf0bxU+Q= X-Google-Smtp-Source: AGHT+IHSZMU5jXNPF90j3BClwA2ElccK698uw1TNmIquDedRmHg7nRH/sLDIJzSMDk/jY+nrewbuNUh70biO X-Received: by 2002:a05:6e02:744:b0:3d6:cbad:235c with SMTP id e9e14a558f8ab-3e243f93c4amr23901465ab.6.1752114680751; Wed, 09 Jul 2025 19:31:20 -0700 (PDT) Received: from postal.iol.unh.edu (postal.iol.unh.edu. [2606:4100:3880:1234::84]) by smtp-relay.gmail.com with ESMTPS id e9e14a558f8ab-3e2461f962bsm340745ab.42.2025.07.09.19.31.20 (version=TLS1_2 cipher=ECDHE-ECDSA-AES128-GCM-SHA256 bits=128/128); Wed, 09 Jul 2025 19:31:20 -0700 (PDT) X-Relaying-Domain: iol.unh.edu Date: Wed, 09 Jul 2025 19:31:20 -0700 (PDT) Message-ID: <686f25f8.050a0220.387b1a.206fSMTPIN_ADDED_MISSING@mx.google.com> Received: from [172.21.0.5] (unknown [172.18.0.240]) by postal.iol.unh.edu (Postfix) with ESMTP id 646706051830; Wed, 9 Jul 2025 22:31:20 -0400 (EDT) Subject: |WARNING| pw155029-155031 [PATCH] [v3,3/3] app/testpmd: improve outp From: dpdklab@iol.unh.edu To: Test Report Cc: dpdk-test-reports@iol.unh.edu In-Reply-To: <20250707111751.183469-4-bruce.richardson@intel.com> References: <20250707111751.183469-4-bruce.richardson@intel.com> Content-Type: text/plain X-BeenThere: test-report@dpdk.org X-Mailman-Version: 2.1.29 Precedence: list List-Id: automatic DPDK test reports List-Unsubscribe: , List-Archive: List-Post: List-Help: List-Subscribe: , Errors-To: test-report-bounces@dpdk.org Test-Label: iol-compile-amd64-testing Test-Status: WARNING http://dpdk.org/patch/155031 _Testing issues_ Submitter: Bruce Richardson Date: Monday, July 07 2025 11:17:51 DPDK git baseline: Repo:dpdk Branch: master CommitID:ba982f9a1ca9b96ed0394b764f1523d482e963a2 155029-155031 --> testing issues Upstream job id: Windows-Compile-DPDK-Native#29695 Test environment and result as below: +-------------------------------+--------------------+-------------------+------------------+-------------------+-------------------------+----------------------+ | Environment | dpdk_meson_compile | dpdk_compile_spdk | dpdk_compile_ovs | dpdk_msvc_compile | dpdk_llvm_clang_compile | dpdk_mingw64_compile | +===============================+====================+===================+==================+===================+=========================+======================+ | CentOS Stream 9 | PASS | PASS | SKIPPED | SKIPPED | SKIPPED | SKIPPED | +-------------------------------+--------------------+-------------------+------------------+-------------------+-------------------------+----------------------+ | CentOS Stream 10 | PASS | SKIPPED | SKIPPED | SKIPPED | SKIPPED | SKIPPED | +-------------------------------+--------------------+-------------------+------------------+-------------------+-------------------------+----------------------+ | Debian GNU/Linux 12 | PASS | PASS | SKIPPED | SKIPPED | SKIPPED | SKIPPED | +-------------------------------+--------------------+-------------------+------------------+-------------------+-------------------------+----------------------+ | Fedora Linux 40 | PASS | PASS | SKIPPED | SKIPPED | SKIPPED | SKIPPED | +-------------------------------+--------------------+-------------------+------------------+-------------------+-------------------------+----------------------+ | Fedora Linux 41 | PASS | PASS | PASS | SKIPPED | SKIPPED | SKIPPED | +-------------------------------+--------------------+-------------------+------------------+-------------------+-------------------------+----------------------+ | openSUSE Leap 15.6 | PASS | SKIPPED | SKIPPED | SKIPPED | SKIPPED | SKIPPED | +-------------------------------+--------------------+-------------------+------------------+-------------------+-------------------------+----------------------+ | Red Hat Enterprise Linux 8.10 | PASS | SKIPPED | SKIPPED | SKIPPED | SKIPPED | SKIPPED | +-------------------------------+--------------------+-------------------+------------------+-------------------+-------------------------+----------------------+ | Red Hat Enterprise Linux 9.5 | PASS | SKIPPED | SKIPPED | SKIPPED | SKIPPED | SKIPPED | +-------------------------------+--------------------+-------------------+------------------+-------------------+-------------------------+----------------------+ | Ubuntu 20.04 | PASS | SKIPPED | SKIPPED | SKIPPED | SKIPPED | SKIPPED | +-------------------------------+--------------------+-------------------+------------------+-------------------+-------------------------+----------------------+ | Ubuntu 22.04 | PASS | PASS | SKIPPED | SKIPPED | SKIPPED | SKIPPED | +-------------------------------+--------------------+-------------------+------------------+-------------------+-------------------------+----------------------+ | Ubuntu 24.04 | PASS | PASS | PASS | SKIPPED | SKIPPED | SKIPPED | +-------------------------------+--------------------+-------------------+------------------+-------------------+-------------------------+----------------------+ | Alpine Linux 3.22.0 | PASS | SKIPPED | SKIPPED | SKIPPED | SKIPPED | SKIPPED | +-------------------------------+--------------------+-------------------+------------------+-------------------+-------------------------+----------------------+ | FreeBSD 14.2 | PASS | SKIPPED | SKIPPED | SKIPPED | SKIPPED | SKIPPED | +-------------------------------+--------------------+-------------------+------------------+-------------------+-------------------------+----------------------+ | Windows Server 2022 | SKIPPED | SKIPPED | SKIPPED | PASS | PASS | PASS | +-------------------------------+--------------------+-------------------+------------------+-------------------+-------------------------+----------------------+ CentOS Stream 9 Kernel: 5.15 Compiler: gcc gcc (GCC) 11.5.0 20240719 (Red Hat 11.5.0-7) CentOS Stream 10 Kernel: 5.15 Compiler: gcc gcc (GCC) 14.2.1 20250110 (Red Hat 14.2.1-8) Debian GNU/Linux 12 Kernel: 5.15 Compiler: gcc gcc (Debian 12.2.0-14+deb12u1) 12.2.0 Fedora Linux 40 Kernel: 5.15 Compiler: clang gcc (GCC) 14.2.1 20240912 (Red Hat 14.2.1-3) Fedora Linux 41 Kernel: 5.15 Compiler: clang gcc (GCC) 14.3.1 20250523 (Red Hat 14.3.1-1) openSUSE Leap 15.6 Kernel: 5.15 Compiler: gcc gcc (SUSE Linux) 7.5.0 Red Hat Enterprise Linux 8.10 Kernel: 5.15 Compiler: gcc gcc (GCC) 8.5.0 20210514 (Red Hat 8.5.0-22) Red Hat Enterprise Linux 9.5 Kernel: 5.15 Compiler: gcc gcc (GCC) 11.5.0 20240719 (Red Hat 11.5.0-2) Ubuntu 20.04 Kernel: 5.15 Compiler: gcc gcc (Ubuntu 9.4.0-1ubuntu1~20.04.2) 9.4.0 Ubuntu 22.04 Kernel: 5.15 Compiler: gcc gcc (Ubuntu 11.4.0-1ubuntu1~22.04) 11.4.0 Ubuntu 24.04 Kernel: 5.15 Compiler: gcc gcc (Ubuntu 13.3.0-6ubuntu2~24.04) 13.3.0 Alpine Linux 3.22.0 Kernel: 5.15 Compiler: gcc gcc (Alpine 14.2.0) 14.2.0 FreeBSD 14.2 Kernel: 14.2-RELEASE Compiler: clang 18.1.6 Windows Server 2022 Kernel: 10.0.20348.2031 Compiler: clang 15.0.7, gcc 14.1.0 (MinGW), and MSVC VS 19.39.33521 To view detailed results, visit: https://lab.dpdk.org/results/dashboard/patchsets/33604/ UNH-IOL DPDK Community Lab To manage your email subscriptions, visit: https://lab.dpdk.org/results/dashboard/preferences/subscriptions/