From mboxrd@z Thu Jan 1 00:00:00 1970 Return-Path: Received: from mails.dpdk.org (mails.dpdk.org [217.70.189.124]) by inbox.dpdk.org (Postfix) with ESMTP id 9665846AE9 for ; Thu, 10 Jul 2025 04:34:56 +0200 (CEST) Received: from mails.dpdk.org (localhost [127.0.0.1]) by mails.dpdk.org (Postfix) with ESMTP id 754BD402D1; Thu, 10 Jul 2025 04:34:56 +0200 (CEST) Received: from mail-pl1-f227.google.com (mail-pl1-f227.google.com [209.85.214.227]) by mails.dpdk.org (Postfix) with ESMTP id 54854402D1 for ; Thu, 10 Jul 2025 04:34:55 +0200 (CEST) Received: by mail-pl1-f227.google.com with SMTP id d9443c01a7336-2350fc2591dso6072355ad.1 for ; Wed, 09 Jul 2025 19:34:55 -0700 (PDT) DKIM-Signature: v=1; a=rsa-sha256; c=relaxed/relaxed; d=iol.unh.edu; s=unh-iol; t=1752114894; x=1752719694; darn=dpdk.org; h=references:in-reply-to:cc:to:from:subject:message-id:date:from:to :cc:subject:date:message-id:reply-to; bh=le/RTf+m19Vz8EtLb6Gtk/cJOleKt22b6qNqUb9Chw0=; b=cBB+Z6q3PFkZeiHSPf5V83h8YtJ1sylmxXhHl9B/khT/NpeMfxUXCIYaIxi8+LevJJ yKoWYzflGEawbL4n1U6XMHzB2RUBKQTA5ogILseGYw3Op3bumpnsdg4e7zY1HScOCRWv NmnaiBICWmPmpHaH+OXVitcC/gDiE1ORPBDho= X-Google-DKIM-Signature: v=1; a=rsa-sha256; c=relaxed/relaxed; d=1e100.net; s=20230601; t=1752114894; x=1752719694; h=references:in-reply-to:cc:to:from:subject:message-id:date :x-gm-message-state:from:to:cc:subject:date:message-id:reply-to; bh=le/RTf+m19Vz8EtLb6Gtk/cJOleKt22b6qNqUb9Chw0=; b=NDZZSmJiRnIn8vsxudlmv42NzaJGlMa58+/NKSsdnmSy87MEbqxgsEVOA6llCSdE5I CKUKxLG3vuNpylVgtSwEnsOfxqFa7WVg1FlCxeJp3coGhO9P6jBHu4uAe6Z4lqobWicj orS3QOoGXpQkTi3ZY1e9RLJgRm7m42bRT24zl5YfwNumYGUyJX0d/ostN01g3hfYDslk pnaiEFSae0KTUKp1OjUSiz+SL3oAYuShXYhtt8+8wWwo7HD5FSmXyEpiP+3ZsAR2xeWs qSqpj16Go+LM9KVJzHM+W97fPo1HdFM91BmZXTINlv0Vrb5R9pFPLiHmixNt4Zxo1N0U V9zQ== X-Gm-Message-State: AOJu0YyAevNaV1hcBgMfQ00DoErQo/EaDdcr0wOm893gPSEF+lzr3WB4 xpWVOUZoK1DWYmvqYFmF7LiM/nsXYz8rgu64bX06tUMtq1xtaWNJAfPy6mtTQqbZI9+Jr85L7PT XVgNm8w8F1wpI+mHFSBl2MHylshu8EXnn5ReWIEQP3+UxCxS/GKBf8mPbv902 X-Gm-Gg: ASbGncsIah6dq/Bhf3zhHyYBiWa6jpnJ0g0a83A9E+vnSfm+m0mqMlNJQa8ha8bG4R7 3ysHU0MNsQFpcvBgEmrm/Zj3IIQRnB61tzGnFbZubFQirSqH8VC8ery2qxEM7hRp4B9jVsAlE1I dFbzAnHKcV6qG4vnGrmQidmRlyGJNSytl291Svp1+pY3Nver+XNjhjbC0nbkNQC9ArvWOkGbCRt FTErLZ0cxF6bKAp8A6ocHEp8r7pMZUe10/hzpVii5WWenohxIvPw1PqRzO+rzuvbcUruhTxUOxl juOmK6mHFr0PmQq8ZnVFlXQ+tLkYuDIlkeYmAuvrB2gcnpQ= X-Google-Smtp-Source: AGHT+IFsRIEHBFP58Z/92Bvz4Bo4j5W6d5TZRbwIG2T72qwdldEz+X+yh8r0GjQ6uAdqcgD/W18yIQ+WvaZa X-Received: by 2002:a17:903:18f:b0:235:1b50:7245 with SMTP id d9443c01a7336-23de2f5244cmr25794895ad.7.1752114894135; Wed, 09 Jul 2025 19:34:54 -0700 (PDT) Received: from postal.iol.unh.edu (postal.iol.unh.edu. [2606:4100:3880:1234::84]) by smtp-relay.gmail.com with ESMTPS id d9443c01a7336-23de42a35e0sm287295ad.42.2025.07.09.19.34.54 (version=TLS1_2 cipher=ECDHE-ECDSA-AES128-GCM-SHA256 bits=128/128); Wed, 09 Jul 2025 19:34:54 -0700 (PDT) X-Relaying-Domain: iol.unh.edu Date: Wed, 09 Jul 2025 19:34:54 -0700 (PDT) Message-ID: <686f26ce.170a0220.2cd9dd.19d5SMTPIN_ADDED_MISSING@mx.google.com> Received: from [172.21.0.7] (unknown [172.18.0.240]) by postal.iol.unh.edu (Postfix) with ESMTP id 55AF06051830; Wed, 9 Jul 2025 22:34:53 -0400 (EDT) Subject: |SUCCESS| pw155122 [PATCH] [net] net/vmxnet3: fix mapping of mempool From: dpdklab@iol.unh.edu To: Test Report Cc: dpdk-test-reports@iol.unh.edu In-Reply-To: <20250709212905.126851-1-ronak.doshi@broadcom.com> References: <20250709212905.126851-1-ronak.doshi@broadcom.com> Content-Type: text/plain X-BeenThere: test-report@dpdk.org X-Mailman-Version: 2.1.29 Precedence: list List-Id: automatic DPDK test reports List-Unsubscribe: , List-Archive: List-Post: List-Help: List-Subscribe: , Errors-To: test-report-bounces@dpdk.org Test-Label: iol-unit-amd64-testing Test-Status: SUCCESS http://dpdk.org/patch/155122 _Testing PASS_ Submitter: Ronak Doshi Date: Wednesday, July 09 2025 21:29:03 DPDK git baseline: Repo:dpdk Branch: master CommitID:ba982f9a1ca9b96ed0394b764f1523d482e963a2 155122 --> testing pass Upstream job id: Generic-Unit-Test-DPDK#354468 Test environment and result as below: +-------------------------------+----------------+ | Environment | dpdk_unit_test | +===============================+================+ | CentOS Stream 10 | PASS | +-------------------------------+----------------+ | CentOS Stream 9 | PASS | +-------------------------------+----------------+ | Debian GNU/Linux 12 | PASS | +-------------------------------+----------------+ | Fedora Linux 40 | PASS | +-------------------------------+----------------+ | Fedora Linux 41 | PASS | +-------------------------------+----------------+ | Ubuntu 22.04 | PASS | +-------------------------------+----------------+ | Ubuntu 20.04 | PASS | +-------------------------------+----------------+ | Red Hat Enterprise Linux 8.10 | PASS | +-------------------------------+----------------+ | Ubuntu 24.04 | PASS | +-------------------------------+----------------+ | Red Hat Enterprise Linux 9.5 | PASS | +-------------------------------+----------------+ CentOS Stream 10 Kernel: 5.15 Compiler: gcc gcc (GCC) 14.2.1 20250110 (Red Hat 14.2.1-8) CentOS Stream 9 Kernel: 5.15 Compiler: gcc gcc (GCC) 11.5.0 20240719 (Red Hat 11.5.0-7) Debian GNU/Linux 12 Kernel: 5.15 Compiler: gcc gcc (Debian 12.2.0-14+deb12u1) 12.2.0 Fedora Linux 40 Kernel: 5.15 Compiler: clang gcc (GCC) 14.2.1 20240912 (Red Hat 14.2.1-3) Fedora Linux 41 Kernel: 5.15 Compiler: gcc gcc (GCC) 14.3.1 20250523 (Red Hat 14.3.1-1) Ubuntu 22.04 Kernel: 5.15 Compiler: gcc gcc (Ubuntu 11.4.0-1ubuntu1~22.04) 11.4.0 Ubuntu 20.04 Kernel: 5.15 Compiler: gcc gcc (Ubuntu 9.4.0-1ubuntu1~20.04.2) 9.4.0 Red Hat Enterprise Linux 8.10 Kernel: 5.15 Compiler: gcc gcc (GCC) 8.5.0 20210514 (Red Hat 8.5.0-22) Ubuntu 24.04 Kernel: 5.15 Compiler: gcc gcc (Ubuntu 13.3.0-6ubuntu2~24.04) 13.3.0 Red Hat Enterprise Linux 9.5 Kernel: 5.15 Compiler: gcc gcc (GCC) 11.5.0 20240719 (Red Hat 11.5.0-2) To view detailed results, visit: https://lab.dpdk.org/results/dashboard/patchsets/33630/ UNH-IOL DPDK Community Lab To manage your email subscriptions, visit: https://lab.dpdk.org/results/dashboard/preferences/subscriptions/