From mboxrd@z Thu Jan 1 00:00:00 1970 Return-Path: Received: from mails.dpdk.org (mails.dpdk.org [217.70.189.124]) by inbox.dpdk.org (Postfix) with ESMTP id AEF2046AE9 for ; Thu, 10 Jul 2025 04:45:29 +0200 (CEST) Received: from mails.dpdk.org (localhost [127.0.0.1]) by mails.dpdk.org (Postfix) with ESMTP id 89C14402D1; Thu, 10 Jul 2025 04:45:29 +0200 (CEST) Received: from mail-oo1-f99.google.com (mail-oo1-f99.google.com [209.85.161.99]) by mails.dpdk.org (Postfix) with ESMTP id 9F514402D1 for ; Thu, 10 Jul 2025 04:45:27 +0200 (CEST) Received: by mail-oo1-f99.google.com with SMTP id 006d021491bc7-60efc773b5fso311549eaf.3 for ; Wed, 09 Jul 2025 19:45:27 -0700 (PDT) DKIM-Signature: v=1; a=rsa-sha256; c=relaxed/relaxed; d=iol.unh.edu; s=unh-iol; t=1752115527; x=1752720327; darn=dpdk.org; h=references:in-reply-to:cc:to:from:subject:message-id:date:from:to :cc:subject:date:message-id:reply-to; bh=zCCqe4Qdzm67T+cB5W0UqKjdorQgLmMFiEOwqMtvEp4=; b=jkXSJyHTy7rMJPKZUmnsyTXitOnyigpzllS8iVzWgbtapWh9UEMWXXrj2rAVumrw/n wBlQvNY7YOr6+OCWkvGhk+LmYPfcOnGiDPhQUCuFWP9kLDKdTDDBNQxyFDepmAGKda/B r+v9DEWsxaVQm0Kvy+utWOBVbUdw+vHbz+WBY= X-Google-DKIM-Signature: v=1; a=rsa-sha256; c=relaxed/relaxed; d=1e100.net; s=20230601; t=1752115527; x=1752720327; h=references:in-reply-to:cc:to:from:subject:message-id:date :x-gm-message-state:from:to:cc:subject:date:message-id:reply-to; bh=zCCqe4Qdzm67T+cB5W0UqKjdorQgLmMFiEOwqMtvEp4=; b=r179dRXauOKMnr/TkSNedHEwP3wKketWvL6AOkeOrCjUCT37jjQPEjx0pniMB+d6Qx l7ptESFC537BdsxevFMPAZauQtBED1xOtHYBJ6lNOm/aqWXX43j23cf6nZ0geMqLwTIf pPxXPZyWGuqAZ+xJOseJP64MNCVqAaTKujIgCZYNPGAcbPUOejNIRhGsvZurwV+eqA/a oCggiYpivS4oOm/ZRkMncbzfxzeel8UWK4smpxCfAP/RlRO+lWonK6/y+1SnAPnwCfM2 2EQzQzl7pvNnfghavVG0BDVNsNcA2HBPu/DGu2/wkY8DhpUvdTs7pK9cTrrcCPSiNUmw /GbA== X-Gm-Message-State: AOJu0YwbPSg27FcfedFfrrJJPNK4oVDihj91+LR06et70j9/9dNWNdWg eprPsXPuY+DFrhiu62tSroR4lk3gXhg6qaXnYTWXZ5yxWgdNSOo4QQEHIGjtxMtzu7pCFYep1+h 50Zl/+fERiZoGgNTHyIKLzY+XHgIIkEN3SBvPNTyk7dH9 X-Gm-Gg: ASbGncu5tWJdBwdp1IcDgoZ2FFocqNiXQXxsK+ZLBn7R0imy38lanxTNZeUyPFqfeNP GYJ0sl8jslhwdKrb/+wcdSR9hqbp8Qw9nLIDynomOMwONlH9Bpf1PMtVtq7twhCf2Ews8XKYg7w w4e+eb5HiiHtQiD+uPG2teihCuGC3IVWMX0vNPlNuFknWGzERBeuT+vdvRc8teTTTficFUSsCKx IrzaYd7xL2Dkrh6Cl65rCtoF4ukpsZuBROloGW2KbyUB3BpWnDoEAUomdgi1RxZG4E89rQ+0Bd/ Qy154OA7YutpBNxsZEJxCdDq5uHZRF72RZjyOLi8ifG6cG2UClqRqHSTtwPwpjxJ0g6whw== X-Google-Smtp-Source: AGHT+IFcWiCH4hRhq97HMf1eApsJ4X6RmdLDewSqLKCToYkL0wmQHSrkNHHWO7/3Tb9RWYPxPI0YLoe8JKX4 X-Received: by 2002:a05:6602:2569:b0:86c:fea7:6b83 with SMTP id ca18e2360f4ac-8795b0be78cmr520721639f.6.1752115148170; Wed, 09 Jul 2025 19:39:08 -0700 (PDT) Received: from postal.iol.unh.edu (postal.iol.unh.edu. [132.177.123.84]) by smtp-relay.gmail.com with ESMTPS id ca18e2360f4ac-8796b8fef56sm1748439f.8.2025.07.09.19.39.08 (version=TLS1_2 cipher=ECDHE-ECDSA-AES128-GCM-SHA256 bits=128/128); Wed, 09 Jul 2025 19:39:08 -0700 (PDT) X-Relaying-Domain: iol.unh.edu Date: Wed, 09 Jul 2025 19:39:08 -0700 (PDT) Message-ID: <686f27cc.5e0a0220.27b153.1022SMTPIN_ADDED_MISSING@mx.google.com> Received: from [172.21.0.7] (unknown [172.18.0.240]) by postal.iol.unh.edu (Postfix) with ESMTP id 5AF506051830; Wed, 9 Jul 2025 22:39:07 -0400 (EDT) Subject: |SUCCESS| pw155122 [PATCH] [net] net/vmxnet3: fix mapping of mempool From: dpdklab@iol.unh.edu To: Test Report Cc: dpdk-test-reports@iol.unh.edu In-Reply-To: <20250709212905.126851-1-ronak.doshi@broadcom.com> References: <20250709212905.126851-1-ronak.doshi@broadcom.com> Content-Type: text/plain X-BeenThere: test-report@dpdk.org X-Mailman-Version: 2.1.29 Precedence: list List-Id: automatic DPDK test reports List-Unsubscribe: , List-Archive: List-Post: List-Help: List-Subscribe: , Errors-To: test-report-bounces@dpdk.org Test-Label: iol-abi-testing Test-Status: SUCCESS http://dpdk.org/patch/155122 _Testing PASS_ Submitter: Ronak Doshi Date: Wednesday, July 09 2025 21:29:03 DPDK git baseline: Repo:dpdk Branch: master CommitID:ba982f9a1ca9b96ed0394b764f1523d482e963a2 155122 --> testing pass Upstream job id: Generic-DPDK-Compile-ABI#133908 Test environment and result as below: +-------------------------------+----------+ | Environment | abi_test | +===============================+==========+ | CentOS Stream 9 | PASS | +-------------------------------+----------+ | CentOS Stream 10 | PASS | +-------------------------------+----------+ | Debian GNU/Linux 12 | PASS | +-------------------------------+----------+ | Fedora Linux 41 | PASS | +-------------------------------+----------+ | openSUSE Leap 15.6 | PASS | +-------------------------------+----------+ | Fedora Linux 40 | PASS | +-------------------------------+----------+ | Red Hat Enterprise Linux 8.10 | PASS | +-------------------------------+----------+ | Red Hat Enterprise Linux 9.5 | PASS | +-------------------------------+----------+ | Ubuntu 22.04 | PASS | +-------------------------------+----------+ | Ubuntu 24.04 | PASS | +-------------------------------+----------+ CentOS Stream 9 Kernel: 5.15 Compiler: gcc gcc (GCC) 11.5.0 20240719 (Red Hat 11.5.0-7) CentOS Stream 10 Kernel: 5.15 Compiler: gcc gcc (GCC) 14.2.1 20250110 (Red Hat 14.2.1-8) Debian GNU/Linux 12 Kernel: 5.15 Compiler: gcc gcc (Debian 12.2.0-14+deb12u1) 12.2.0 Fedora Linux 41 Kernel: 5.15 Compiler: clang gcc (GCC) 14.3.1 20250523 (Red Hat 14.3.1-1) openSUSE Leap 15.6 Kernel: 5.15 Compiler: gcc gcc (SUSE Linux) 7.5.0 Fedora Linux 40 Kernel: 5.15 Compiler: gcc gcc (GCC) 14.2.1 20240912 (Red Hat 14.2.1-3) Red Hat Enterprise Linux 8.10 Kernel: 5.15 Compiler: gcc gcc (GCC) 8.5.0 20210514 (Red Hat 8.5.0-22) Red Hat Enterprise Linux 9.5 Kernel: 5.15 Compiler: gcc gcc (GCC) 11.5.0 20240719 (Red Hat 11.5.0-2) Ubuntu 22.04 Kernel: 5.15 Compiler: gcc gcc (Ubuntu 11.4.0-1ubuntu1~22.04) 11.4.0 Ubuntu 24.04 Kernel: 5.15 Compiler: gcc gcc (Ubuntu 13.3.0-6ubuntu2~24.04) 13.3.0 To view detailed results, visit: https://lab.dpdk.org/results/dashboard/patchsets/33630/ UNH-IOL DPDK Community Lab To manage your email subscriptions, visit: https://lab.dpdk.org/results/dashboard/preferences/subscriptions/