From mboxrd@z Thu Jan 1 00:00:00 1970 Return-Path: Received: from mails.dpdk.org (mails.dpdk.org [217.70.189.124]) by inbox.dpdk.org (Postfix) with ESMTP id 5B9C146AE9 for ; Thu, 10 Jul 2025 04:42:04 +0200 (CEST) Received: from mails.dpdk.org (localhost [127.0.0.1]) by mails.dpdk.org (Postfix) with ESMTP id 35D45402D1; Thu, 10 Jul 2025 04:42:04 +0200 (CEST) Received: from mail-qv1-f98.google.com (mail-qv1-f98.google.com [209.85.219.98]) by mails.dpdk.org (Postfix) with ESMTP id 7CF82402D1 for ; Thu, 10 Jul 2025 04:42:02 +0200 (CEST) Received: by mail-qv1-f98.google.com with SMTP id 6a1803df08f44-6fafd3cc8f9so8043076d6.3 for ; Wed, 09 Jul 2025 19:42:02 -0700 (PDT) DKIM-Signature: v=1; a=rsa-sha256; c=relaxed/relaxed; d=iol.unh.edu; s=unh-iol; t=1752115322; x=1752720122; darn=dpdk.org; h=references:in-reply-to:cc:to:from:subject:message-id:date:from:to :cc:subject:date:message-id:reply-to; bh=dm3DsjxDbmDq3x2bQfW1SCIIQnBGh1PJCS6QPnryF6E=; b=RtJsBr1o9Ny8cwkh4U8HUmCu1L9GvyTwgFap45eTU8mcGrEOGggM3uzdbbMt9J238Q UJbaimkfJOEUutVYNJyuWWKfERHIW9UOmP+aRwz6TeRiy+INQ6DsSenvwjJcvH+iTkbM nMIHqF3ihUeDhTVXUiZEKdj3AMzJiYfXq1WH4= X-Google-DKIM-Signature: v=1; a=rsa-sha256; c=relaxed/relaxed; d=1e100.net; s=20230601; t=1752115322; x=1752720122; h=references:in-reply-to:cc:to:from:subject:message-id:date :x-gm-message-state:from:to:cc:subject:date:message-id:reply-to; bh=dm3DsjxDbmDq3x2bQfW1SCIIQnBGh1PJCS6QPnryF6E=; b=usRmzONmHmmhFBBq+umpDmE/JRouvxV0A4dD2piYelHwBPPWdslyOGITVBo5SsAnUR TuriSXkxI0GGD6Jt0tRYm/RHVzYBQLviHsrkWvNRerinaYjYEqgqZ49FPEErEVSkrI5A 0NRoDzR7Pq01spOdUtgmz5p3h+5q6yZO3I6nDX9MmJIO483tgDKUT480hb6Dx92Igk89 WZ01bcPs40Iidr3T8ahU0QRP9H/5irCFo76inMVEX+vmIWoNgfwEQ12IvtsvU57YjlU/ xHYPLchnIOuewzF4FwQJuruU+oj0DexE5e6WzbWTItp8b+tfCbufUdgJx74ROaRhCG1U S5Uw== X-Gm-Message-State: AOJu0Yzw2ZDTkxFHivtTJFXMlt+M5nCQdnJgRtFEgLKp9qNivylYFtfC a3w0wh1P6QP06+2pAh3eSIOVdskypEANajEyrWgBNDLsqbu+oA1Yz4bYvGg33/BWfYaWkHpr128 539wAc0+CYdZu57A0fvmG0+nkZKIDTG/3HXd1LMb3DSAb X-Gm-Gg: ASbGnctHpfvo3vpz4jkex9sTPYi96adGXjYtqr3V17qAulJ8/beNSGZ3MDYGweDIdVA 4VSl/BDNtdaXDu0mdI6KB6oiP9LtxNhAkqDerxM0+wUbR6BQiiCnCsX5P0bAaALaTEGjMyoU74b NW8UANmVMzGixhudHUHwR12VYBe5CBoAwbn6oIqeEjGysmIbHvXH02kNL5664lrFoBTcK0LzVFb nUe/g/WWkb2qS5j0qkCSbUo2BOMIY5//8yMWlJszBoJ08AFmypqc0PP4zsfbFjljYkbI+w1nAJB YHIg2bh0/vKk2vBaFlcxjwCyi4QNa497l+oTsNlj2hcZEwC3AMue5fOtcllUDNkkbaFNSA== X-Google-Smtp-Source: AGHT+IHOvPoosNLth8R7Yyl9MfGG/AtTPyRgMoPB2qnJZDK0Tyaq4ossxW/ecOnSKi3OL93T2X+8Ie0gyVPp X-Received: by 2002:a0c:f411:0:b0:702:d8de:ec3c with SMTP id 6a1803df08f44-704981ee7admr14523006d6.37.1752115321659; Wed, 09 Jul 2025 19:42:01 -0700 (PDT) Received: from postal.iol.unh.edu (postal.iol.unh.edu. [132.177.123.84]) by smtp-relay.gmail.com with ESMTPS id 6a1803df08f44-7049798d220sm242956d6.8.2025.07.09.19.42.01 (version=TLS1_2 cipher=ECDHE-ECDSA-AES128-GCM-SHA256 bits=128/128); Wed, 09 Jul 2025 19:42:01 -0700 (PDT) X-Relaying-Domain: iol.unh.edu Date: Wed, 09 Jul 2025 19:42:01 -0700 (PDT) Message-ID: <686f2879.d40a0220.3382fc.1891SMTPIN_ADDED_MISSING@mx.google.com> Received: from [172.21.0.5] (unknown [172.18.0.240]) by postal.iol.unh.edu (Postfix) with ESMTP id 607A96051830; Wed, 9 Jul 2025 22:42:01 -0400 (EDT) Subject: |SUCCESS| pw155086 [PATCH] net/mlx5: fix the queue length checking From: dpdklab@iol.unh.edu To: Test Report Cc: dpdk-test-reports@iol.unh.edu In-Reply-To: <20250709040000.112338-1-bingz@nvidia.com> References: <20250709040000.112338-1-bingz@nvidia.com> Content-Type: text/plain X-BeenThere: test-report@dpdk.org X-Mailman-Version: 2.1.29 Precedence: list List-Id: automatic DPDK test reports List-Unsubscribe: , List-Archive: List-Post: List-Help: List-Subscribe: , Errors-To: test-report-bounces@dpdk.org Test-Label: iol-unit-amd64-testing Test-Status: SUCCESS http://dpdk.org/patch/155086 _Testing PASS_ Submitter: Bing Zhao Date: Wednesday, July 09 2025 04:00:00 DPDK git baseline: Repo:dpdk Branch: master CommitID:e2888614268cbf0abcc7cd72ad97ff4e4901d0a5 155086 --> testing pass Upstream job id: Generic-VM-Unit-Test-DPDK#29841 Test environment and result as below: +-------------------------------+----------------+ | Environment | dpdk_unit_test | +===============================+================+ | CentOS Stream 9 | PASS | +-------------------------------+----------------+ | CentOS Stream 10 | PASS | +-------------------------------+----------------+ | Debian GNU/Linux 12 | PASS | +-------------------------------+----------------+ | Fedora Linux 40 | PASS | +-------------------------------+----------------+ | Fedora Linux 41 | PASS | +-------------------------------+----------------+ | Red Hat Enterprise Linux 8.10 | PASS | +-------------------------------+----------------+ | Red Hat Enterprise Linux 9.5 | PASS | +-------------------------------+----------------+ | Ubuntu 20.04 | PASS | +-------------------------------+----------------+ | Ubuntu 22.04 | PASS | +-------------------------------+----------------+ | Ubuntu 24.04 | PASS | +-------------------------------+----------------+ | Windows Server 2022 | PASS | +-------------------------------+----------------+ CentOS Stream 9 Kernel: 5.15 Compiler: gcc gcc (GCC) 11.5.0 20240719 (Red Hat 11.5.0-7) CentOS Stream 10 Kernel: 5.15 Compiler: gcc gcc (GCC) 14.2.1 20250110 (Red Hat 14.2.1-8) Debian GNU/Linux 12 Kernel: 5.15 Compiler: gcc gcc (Debian 12.2.0-14+deb12u1) 12.2.0 Fedora Linux 40 Kernel: 5.15 Compiler: gcc gcc (GCC) 14.2.1 20240912 (Red Hat 14.2.1-3) Fedora Linux 41 Kernel: 5.15 Compiler: gcc gcc (GCC) 14.3.1 20250523 (Red Hat 14.3.1-1) Red Hat Enterprise Linux 8.10 Kernel: 5.15 Compiler: gcc gcc (GCC) 8.5.0 20210514 (Red Hat 8.5.0-22) Red Hat Enterprise Linux 9.5 Kernel: 5.15 Compiler: gcc gcc (GCC) 11.5.0 20240719 (Red Hat 11.5.0-2) Ubuntu 20.04 Kernel: 5.15 Compiler: gcc gcc (Ubuntu 9.4.0-1ubuntu1~20.04.2) 9.4.0 Ubuntu 22.04 Kernel: 5.15 Compiler: gcc gcc (Ubuntu 11.4.0-1ubuntu1~22.04) 11.4.0 Ubuntu 24.04 Kernel: 5.15 Compiler: gcc gcc (Ubuntu 13.3.0-6ubuntu2~24.04) 13.3.0 Windows Server 2022 Kernel: 10.0.20348.2031 Compiler: clang 15.0.7, gcc 14.1.0 (MinGW), and MSVC VS 19.39.33521 To view detailed results, visit: https://lab.dpdk.org/results/dashboard/patchsets/33619/ UNH-IOL DPDK Community Lab To manage your email subscriptions, visit: https://lab.dpdk.org/results/dashboard/preferences/subscriptions/