From mboxrd@z Thu Jan 1 00:00:00 1970 Return-Path: Received: from mails.dpdk.org (mails.dpdk.org [217.70.189.124]) by inbox.dpdk.org (Postfix) with ESMTP id AA3B046AE9 for ; Thu, 10 Jul 2025 04:45:51 +0200 (CEST) Received: from mails.dpdk.org (localhost [127.0.0.1]) by mails.dpdk.org (Postfix) with ESMTP id A5B75402D1; Thu, 10 Jul 2025 04:45:51 +0200 (CEST) Received: from mail-io1-f97.google.com (mail-io1-f97.google.com [209.85.166.97]) by mails.dpdk.org (Postfix) with ESMTP id 64BE8402D1 for ; Thu, 10 Jul 2025 04:45:50 +0200 (CEST) Received: by mail-io1-f97.google.com with SMTP id ca18e2360f4ac-876231b81d5so38386939f.2 for ; Wed, 09 Jul 2025 19:45:50 -0700 (PDT) DKIM-Signature: v=1; a=rsa-sha256; c=relaxed/relaxed; d=iol.unh.edu; s=unh-iol; t=1752115549; x=1752720349; darn=dpdk.org; h=references:in-reply-to:cc:to:from:subject:message-id:date:from:to :cc:subject:date:message-id:reply-to; bh=sw4s7tvoIJi2ewlqmpl3JTRyRFeDa7s+WH8/bfHvYE8=; b=g+ulMohKL/mqvWYdXK0+EKOq8Z2cEKCr+SXmMJFpvC7vHzA5ChZcsY4LvH0N9lgLJb T18h/I1Nqn1UGrd9KW596h/StB67V8VuzD7t4L5zvlfY2aHXgKiQpL1vAkA8qtVxc2ca NOaYFBt/VHeW+KlpmjW0zbjdphaQj1K5wfXQg= X-Google-DKIM-Signature: v=1; a=rsa-sha256; c=relaxed/relaxed; d=1e100.net; s=20230601; t=1752115549; x=1752720349; h=references:in-reply-to:cc:to:from:subject:message-id:date :x-gm-message-state:from:to:cc:subject:date:message-id:reply-to; bh=sw4s7tvoIJi2ewlqmpl3JTRyRFeDa7s+WH8/bfHvYE8=; b=iuE4DlChiokYuBHvgEgpq72QZ8sqoJJidQjWTfu7bxjHlU0WynC2AE83t2B+80Mms1 eOaLuMNoXfcJh0NUoTy0Lv/O5bw+CzLYNf0Eg66LgplsD3QEMiWS/B7ETuWr8FDxgJTV O0Io8n6poE31rihgaLnqqTvtul3v7ayTT0LOICitfwL6Ts897F4R++d3J3BbzEwjpIW4 edlmJlAmdFzAoiDF/odBCQUvnAIN6V1abjUHbr8Uaj50EjaFW+iOQXRBAnXof/E0/OrH olVvdhLhcLNg/n8Dye45twK7KtsHOoNl71tn2boiJMWQ2qGRFDde3MH3472PclSqOsaC AL1A== X-Gm-Message-State: AOJu0Ywq0zlQVdjECTKA5k2L2bYNhJAoIGaHOWGQBqEwGuWGjoQuYVWy I2yFxM4l4EBBIKHWY5qi+VmlyvjxIT39oEoTLJiDyt2J2EEHSolXhg9mvMJ1B7DDWS58/sn6iZm bnzqsRU76QFZAf+OszT7bkF+x7eCBKmftzE1eUrBOlW1vupgKj8oCe1bBW68V X-Gm-Gg: ASbGncu7H39cg+mUlRVl+6uuMPi3f2tGKBcylENkxmJarKuAYGhjom71rhgQRvQyWgs UtHZI2GtbQMzZQPr7GPq4ZsTLau+Jx6gQ6JEZoiUiu9USfw4sL+JbX/BNI6bhBUUJiGaKC7ScdN 5XdcO+61sWj4dYZJAzEG8BWUJqImmxVX8Zl5Ic+nihUeyQ2sqrglDFuHUFGEvgAW67uoU0wP9Po AcHLKCIvRyXZT+hRq7CCcc6UyfTRjP7cOAvxlFnw29Yz+gaJmUs16+F74DPq5m4XKHVBR44wMXU diIczbgATUVab3SmH9jKrTfU7T1JUXz815SDoQ1LvZfO+5M= X-Google-Smtp-Source: AGHT+IFayiGCCrbX5L6uQH5sHPZM345NqiohXpkB1QDNA15OYUB20hn0xAZLi4/X1ity5UCpIfRJh7V9FFeU X-Received: by 2002:a92:ca0f:0:b0:3dc:7563:c3d7 with SMTP id e9e14a558f8ab-3e1670d0b6bmr60478245ab.12.1752115549694; Wed, 09 Jul 2025 19:45:49 -0700 (PDT) Received: from postal.iol.unh.edu (postal.iol.unh.edu. [2606:4100:3880:1234::84]) by smtp-relay.gmail.com with ESMTPS id e9e14a558f8ab-3e2461f960esm336725ab.37.2025.07.09.19.45.49 (version=TLS1_2 cipher=ECDHE-ECDSA-AES128-GCM-SHA256 bits=128/128); Wed, 09 Jul 2025 19:45:49 -0700 (PDT) X-Relaying-Domain: iol.unh.edu Date: Wed, 09 Jul 2025 19:45:49 -0700 (PDT) Message-ID: <686f295d.050a0220.23c976.210cSMTPIN_ADDED_MISSING@mx.google.com> Received: from [172.21.0.7] (unknown [172.18.0.240]) by postal.iol.unh.edu (Postfix) with ESMTP id 574D76051830; Wed, 9 Jul 2025 22:45:49 -0400 (EDT) Subject: |WARNING| pw155122 [PATCH] [net] net/vmxnet3: fix mapping of mempool From: dpdklab@iol.unh.edu To: Test Report Cc: dpdk-test-reports@iol.unh.edu In-Reply-To: <20250709212905.126851-1-ronak.doshi@broadcom.com> References: <20250709212905.126851-1-ronak.doshi@broadcom.com> Content-Type: text/plain X-BeenThere: test-report@dpdk.org X-Mailman-Version: 2.1.29 Precedence: list List-Id: automatic DPDK test reports List-Unsubscribe: , List-Archive: List-Post: List-Help: List-Subscribe: , Errors-To: test-report-bounces@dpdk.org Test-Label: iol-compile-amd64-testing Test-Status: WARNING http://dpdk.org/patch/155122 _Testing issues_ Submitter: Ronak Doshi Date: Wednesday, July 09 2025 21:29:03 DPDK git baseline: Repo:dpdk Branch: master CommitID:ba982f9a1ca9b96ed0394b764f1523d482e963a2 155122 --> testing issues Upstream job id: Generic-DPDK-Compile-Meson#407597 Test environment and result as below: +-------------------------------+--------------------+-------------------+------------------+ | Environment | dpdk_meson_compile | dpdk_compile_spdk | dpdk_compile_ovs | +===============================+====================+===================+==================+ | CentOS Stream 9 | PASS | PASS | SKIPPED | +-------------------------------+--------------------+-------------------+------------------+ | CentOS Stream 10 | PASS | SKIPPED | SKIPPED | +-------------------------------+--------------------+-------------------+------------------+ | Debian GNU/Linux 12 | PASS | PASS | SKIPPED | +-------------------------------+--------------------+-------------------+------------------+ | Fedora Linux 40 | PASS | PASS | SKIPPED | +-------------------------------+--------------------+-------------------+------------------+ | Fedora Linux 41 | PASS | PASS | PASS | +-------------------------------+--------------------+-------------------+------------------+ | Red Hat Enterprise Linux 8.10 | PASS | SKIPPED | SKIPPED | +-------------------------------+--------------------+-------------------+------------------+ | Ubuntu 22.04 | PASS | PASS | SKIPPED | +-------------------------------+--------------------+-------------------+------------------+ | Ubuntu 20.04 | PASS | SKIPPED | SKIPPED | +-------------------------------+--------------------+-------------------+------------------+ | Red Hat Enterprise Linux 9.5 | PASS | SKIPPED | SKIPPED | +-------------------------------+--------------------+-------------------+------------------+ | Ubuntu 24.04 | PASS | PASS | PASS | +-------------------------------+--------------------+-------------------+------------------+ | FreeBSD 14.2 | PASS | SKIPPED | SKIPPED | +-------------------------------+--------------------+-------------------+------------------+ | Alpine Linux 3.22.0 | PASS | SKIPPED | SKIPPED | +-------------------------------+--------------------+-------------------+------------------+ | openSUSE Leap 15.6 | PASS | SKIPPED | SKIPPED | +-------------------------------+--------------------+-------------------+------------------+ CentOS Stream 9 Kernel: 5.15 Compiler: gcc gcc (GCC) 11.5.0 20240719 (Red Hat 11.5.0-7) CentOS Stream 10 Kernel: 5.15 Compiler: gcc gcc (GCC) 14.2.1 20250110 (Red Hat 14.2.1-8) Debian GNU/Linux 12 Kernel: 5.15 Compiler: gcc gcc (Debian 12.2.0-14+deb12u1) 12.2.0 Fedora Linux 40 Kernel: 5.15 Compiler: clang gcc (GCC) 14.2.1 20240912 (Red Hat 14.2.1-3) Fedora Linux 41 Kernel: 5.15 Compiler: clang gcc (GCC) 14.3.1 20250523 (Red Hat 14.3.1-1) Red Hat Enterprise Linux 8.10 Kernel: 5.15 Compiler: gcc gcc (GCC) 8.5.0 20210514 (Red Hat 8.5.0-22) Ubuntu 22.04 Kernel: 5.15 Compiler: gcc gcc (Ubuntu 11.4.0-1ubuntu1~22.04) 11.4.0 Ubuntu 20.04 Kernel: 5.15 Compiler: gcc gcc (Ubuntu 9.4.0-1ubuntu1~20.04.2) 9.4.0 Red Hat Enterprise Linux 9.5 Kernel: 5.15 Compiler: gcc gcc (GCC) 11.5.0 20240719 (Red Hat 11.5.0-2) Ubuntu 24.04 Kernel: 5.15 Compiler: gcc gcc (Ubuntu 13.3.0-6ubuntu2~24.04) 13.3.0 FreeBSD 14.2 Kernel: 14.2-RELEASE Compiler: clang 18.1.6 Alpine Linux 3.22.0 Kernel: 5.15 Compiler: gcc gcc (Alpine 14.2.0) 14.2.0 openSUSE Leap 15.6 Kernel: 5.15 Compiler: gcc gcc (SUSE Linux) 7.5.0 To view detailed results, visit: https://lab.dpdk.org/results/dashboard/patchsets/33630/ UNH-IOL DPDK Community Lab To manage your email subscriptions, visit: https://lab.dpdk.org/results/dashboard/preferences/subscriptions/