From mboxrd@z Thu Jan 1 00:00:00 1970 Return-Path: Received: from mails.dpdk.org (mails.dpdk.org [217.70.189.124]) by inbox.dpdk.org (Postfix) with ESMTP id 7279F46AE9 for ; Thu, 10 Jul 2025 04:52:50 +0200 (CEST) Received: from mails.dpdk.org (localhost [127.0.0.1]) by mails.dpdk.org (Postfix) with ESMTP id 4B609402D1; Thu, 10 Jul 2025 04:52:50 +0200 (CEST) Received: from mail-io1-f98.google.com (mail-io1-f98.google.com [209.85.166.98]) by mails.dpdk.org (Postfix) with ESMTP id CE755402D1 for ; Thu, 10 Jul 2025 04:52:48 +0200 (CEST) Received: by mail-io1-f98.google.com with SMTP id ca18e2360f4ac-875b52a09d1so17942539f.0 for ; Wed, 09 Jul 2025 19:52:48 -0700 (PDT) DKIM-Signature: v=1; a=rsa-sha256; c=relaxed/relaxed; d=iol.unh.edu; s=unh-iol; t=1752115968; x=1752720768; darn=dpdk.org; h=cc:to:from:subject:message-id:date:from:to:cc:subject:date :message-id:reply-to; bh=Ang6odTbZduLu0Or9anS0nnvllygBCcbTauwvdfsjGM=; b=JjskzUBfjCHwOH9vpGVTv4RYhFbxjufwkhoiOJ1vVDyroM3Vay6mKuMg3TnSwDTYap 7PRtsqKae0QFw998mBE6ecwzLUrxOs9tIu4uNPxTVZoP6sI0abUH2GYDFntBy/0dk6HS 8P4PYt85V8FSC8SIn5aePc3d/wNGhWJX/boTo= X-Google-DKIM-Signature: v=1; a=rsa-sha256; c=relaxed/relaxed; d=1e100.net; s=20230601; t=1752115968; x=1752720768; h=cc:to:from:subject:message-id:date:x-gm-message-state:from:to:cc :subject:date:message-id:reply-to; bh=Ang6odTbZduLu0Or9anS0nnvllygBCcbTauwvdfsjGM=; b=CrsZAqwkPyi0ATf6Jid/qhNwqEHQ0KO5+SZwdk6nqOuiEAPOdSqDiK1znNjhcWrTIp WYL8Mdp4ZWC0pWOq+4qXmNKYGin5D91zlrNPFNsvgrBrzTPAVLjIf2wRNBKy0/54+PFG wN1lU6ntZ+YAxKlNf2wCJjITQYlDJP18EGCEgeLz1en06GcpzHdKuZR0FjKwHNqXUdAM 2EORynv/OM+PqQPUplejpfDwTYUrseTGCfLrhi8TaAFYC3jIarUCgyt8LPpm780NZ4Ar ooYv70OcH8zj+1Fm4Ggrn0rNtA7CWkJqvFUFB/ZsvAm4JJSNV0ZIagwnoCZiUgZtMCPR YbRA== X-Gm-Message-State: AOJu0YynYdN0DosgsF/grezlxXuMkp7Yu/+eXFInobCrtcJO0dXBxyxh darRmRFR2IrtMgOZxsTyzcxwmwb4YJEeYGraTMHAhiS1//yrN/SLj4NHWi+DB/WEl3HFNinzAvt SCaAVHflFmbb7zeHImF9MrgwHubokhANt0Wc3y0MGQ5w6HYLn8T38fNqr7u18 X-Gm-Gg: ASbGncvoyT1TxupZovd1y0eBCFiqHUzreZMJPeiWVMSgN3SpXBlcRE3CErfIks+J8z0 /D6ogdICbyDCj0BejXaqQrD1DlMSali7+ppimQ+3E7d2kfX0WHnDMDwSPpAJJcLjHFhszhRGzSd qsPP5WQuN2VSZVxeY6teLCkwoBxOVCFU3p//drtwMCkEdo5EJuD5z1KJ6hlnmillmB+wLvwfTBx ohbWAHLgJbWp1XaUSLDouqeF6EzIXOZ2E/w9iYf82qFn1DJtdcxAc7z3y7oOjFQjTsT20cnAZrt ZZgebK79xfX3tD04m3DZ0PJedwqaB40K+n8TcqhZ3jfkyQU= X-Google-Smtp-Source: AGHT+IEVks/PZdWawFUKnCQ1NSM5h5N7FjPlseiCgg6rAXg8PHgUn91fTQcYHxQ02knHFDxDoHHml2EJeLV5 X-Received: by 2002:a05:6e02:1807:b0:3df:3828:17a0 with SMTP id e9e14a558f8ab-3e2461ee380mr10799485ab.18.1752115968115; Wed, 09 Jul 2025 19:52:48 -0700 (PDT) Received: from postal.iol.unh.edu (postal.iol.unh.edu. [2606:4100:3880:1234::84]) by smtp-relay.gmail.com with ESMTPS id e9e14a558f8ab-3e24622ab3bsm349095ab.58.2025.07.09.19.52.48 (version=TLS1_2 cipher=ECDHE-ECDSA-AES128-GCM-SHA256 bits=128/128); Wed, 09 Jul 2025 19:52:48 -0700 (PDT) X-Relaying-Domain: iol.unh.edu Date: Wed, 09 Jul 2025 19:52:48 -0700 (PDT) Message-ID: <686f2b00.050a0220.268faa.210eSMTPIN_ADDED_MISSING@mx.google.com> Received: from [172.21.0.5] (unknown [172.18.0.240]) by postal.iol.unh.edu (Postfix) with ESMTP id A33416051830; Wed, 9 Jul 2025 22:52:47 -0400 (EDT) Subject: |WARNING| [GIT MASTER] 9fe9c0b231c8da5435bfccb1963121b4277f961c From: dpdklab@iol.unh.edu To: Test Report Cc: dpdk-test-reports@iol.unh.edu Content-Type: text/plain X-BeenThere: test-report@dpdk.org X-Mailman-Version: 2.1.29 Precedence: list List-Id: automatic DPDK test reports List-Unsubscribe: , List-Archive: List-Post: List-Help: List-Subscribe: , Errors-To: test-report-bounces@dpdk.org _Testing issues_ Branch: dpdk 9fe9c0b231c8da5435bfccb1963121b4277f961c --> testing issues Upstream job id: Windows-Compile-DPDK-VS#6325 Test environment and result as below: +-------------------------------+--------------------+-------------------+------------------+-------------------+ | Environment | dpdk_meson_compile | dpdk_compile_spdk | dpdk_compile_ovs | dpdk_msvc_compile | +===============================+====================+===================+==================+===================+ | CentOS Stream 10 | PASS | SKIPPED | SKIPPED | SKIPPED | +-------------------------------+--------------------+-------------------+------------------+-------------------+ | Fedora Linux 40 | PASS | WARN | SKIPPED | SKIPPED | +-------------------------------+--------------------+-------------------+------------------+-------------------+ | Fedora Linux 41 | PASS | WARN | PASS | SKIPPED | +-------------------------------+--------------------+-------------------+------------------+-------------------+ | Debian GNU/Linux 12 | PASS | PASS | SKIPPED | SKIPPED | +-------------------------------+--------------------+-------------------+------------------+-------------------+ | Ubuntu 22.04 | PASS | PASS | SKIPPED | SKIPPED | +-------------------------------+--------------------+-------------------+------------------+-------------------+ | openSUSE Leap 15.6 | PASS | SKIPPED | SKIPPED | SKIPPED | +-------------------------------+--------------------+-------------------+------------------+-------------------+ | Red Hat Enterprise Linux 8.10 | PASS | SKIPPED | SKIPPED | SKIPPED | +-------------------------------+--------------------+-------------------+------------------+-------------------+ | Red Hat Enterprise Linux 9.5 | PASS | SKIPPED | SKIPPED | SKIPPED | +-------------------------------+--------------------+-------------------+------------------+-------------------+ | Ubuntu 24.04 | PASS | PASS | PASS | SKIPPED | +-------------------------------+--------------------+-------------------+------------------+-------------------+ | Ubuntu 20.04 | PASS | SKIPPED | SKIPPED | SKIPPED | +-------------------------------+--------------------+-------------------+------------------+-------------------+ | Alpine Linux 3.22.0 | PASS | SKIPPED | SKIPPED | SKIPPED | +-------------------------------+--------------------+-------------------+------------------+-------------------+ | Arch Linux 20250613.0.365270 | PASS | SKIPPED | SKIPPED | SKIPPED | +-------------------------------+--------------------+-------------------+------------------+-------------------+ | FreeBSD 14.2 | PASS | SKIPPED | SKIPPED | SKIPPED | +-------------------------------+--------------------+-------------------+------------------+-------------------+ | Windows Server 2022 | SKIPPED | SKIPPED | SKIPPED | PASS | +-------------------------------+--------------------+-------------------+------------------+-------------------+ ==== 20 line log output for Fedora Linux 41 (dpdk_compile_spdk): ==== --- Failed to get log output --- ==== End log output ==== CentOS Stream 10 Kernel: 5.15 Compiler: gcc gcc (GCC) 14.2.1 20250110 (Red Hat 14.2.1-8) Fedora Linux 40 Kernel: 5.15 Compiler: gcc gcc (GCC) 14.2.1 20240912 (Red Hat 14.2.1-3) Fedora Linux 41 Kernel: 5.15 Compiler: gcc gcc (GCC) 14.3.1 20250523 (Red Hat 14.3.1-1) Debian GNU/Linux 12 Kernel: 5.15 Compiler: gcc gcc (Debian 12.2.0-14+deb12u1) 12.2.0 Ubuntu 22.04 Kernel: 5.15 Compiler: gcc gcc (Ubuntu 11.4.0-1ubuntu1~22.04) 11.4.0 openSUSE Leap 15.6 Kernel: 5.15 Compiler: gcc gcc (SUSE Linux) 7.5.0 Red Hat Enterprise Linux 8.10 Kernel: 5.15 Compiler: gcc gcc (GCC) 8.5.0 20210514 (Red Hat 8.5.0-22) Red Hat Enterprise Linux 9.5 Kernel: 5.15 Compiler: gcc gcc (GCC) 11.5.0 20240719 (Red Hat 11.5.0-2) Ubuntu 24.04 Kernel: 5.15 Compiler: gcc gcc (Ubuntu 13.3.0-6ubuntu2~24.04) 13.3.0 Ubuntu 20.04 Kernel: 4.19 Compiler: gcc gcc (Ubuntu 9.4.0-1ubuntu1~20.04.2) 9.4.0 Alpine Linux 3.22.0 Kernel: 5.15 Compiler: gcc gcc (Alpine 14.2.0) 14.2.0 Arch Linux 20250613.0.365270 Kernel: 5.15 Compiler: gcc gcc (GCC) 15.1.1 20250425 FreeBSD 14.2 Kernel: 14.2-RELEASE Compiler: clang 18.1.6 Windows Server 2022 Kernel: 10.0.20348.2031 Compiler: clang 15.0.7, gcc 14.1.0 (MinGW), and MSVC VS 19.39.33521 To view detailed results, visit: https://lab.dpdk.org/results/dashboard/tarballs/34221/ UNH-IOL DPDK Community Lab To manage your email subscriptions, visit: https://lab.dpdk.org/results/dashboard/preferences/subscriptions/