From mboxrd@z Thu Jan 1 00:00:00 1970 Return-Path: Received: from mails.dpdk.org (mails.dpdk.org [217.70.189.124]) by inbox.dpdk.org (Postfix) with ESMTP id 63D7246AE9 for ; Thu, 10 Jul 2025 05:02:02 +0200 (CEST) Received: from mails.dpdk.org (localhost [127.0.0.1]) by mails.dpdk.org (Postfix) with ESMTP id 3B885402D1; Thu, 10 Jul 2025 05:02:02 +0200 (CEST) Received: from mail-oa1-f100.google.com (mail-oa1-f100.google.com [209.85.160.100]) by mails.dpdk.org (Postfix) with ESMTP id 37D10402D1 for ; Thu, 10 Jul 2025 05:02:00 +0200 (CEST) Received: by mail-oa1-f100.google.com with SMTP id 586e51a60fabf-2e9a38d2a3aso488529fac.3 for ; Wed, 09 Jul 2025 20:02:00 -0700 (PDT) DKIM-Signature: v=1; a=rsa-sha256; c=relaxed/relaxed; d=iol.unh.edu; s=unh-iol; t=1752116519; x=1752721319; darn=dpdk.org; h=references:in-reply-to:cc:to:from:subject:message-id:date:from:to :cc:subject:date:message-id:reply-to; bh=dxnSd/9hQLAoAD4DB98OKTuCsRFiqhnsqqoTpilFlJ4=; b=DtaVbrxMyZCn1uw+ppP6Ga48PPWSIivEWP+/pLGKwNnMVtgp4/dywEHNqrJs2yQQ5X oH+qRmltJM2L8BG/eFxoe9VzZDO5VC98JPRyIolRHY397f3AnQW5+0Y7DjutMVMKNx8x nNqRdbnA9yAcnMWIBurgkWTmcLghSpXGeZGLs= X-Google-DKIM-Signature: v=1; a=rsa-sha256; c=relaxed/relaxed; d=1e100.net; s=20230601; t=1752116519; x=1752721319; h=references:in-reply-to:cc:to:from:subject:message-id:date :x-gm-message-state:from:to:cc:subject:date:message-id:reply-to; bh=dxnSd/9hQLAoAD4DB98OKTuCsRFiqhnsqqoTpilFlJ4=; b=k0Ia4nERXAkI1vR54/Qm7U5JPr+Gswft+iJMO5LgWihYs/bbqkVectksBCT2lCbVcb KrcVRnlDUpxyCErCjGK3bLyFc/yPgm2AyY5IcjcNdXsY9Kk8XW64dww4QVCSRL/Pidrh qQKmD18PIdaCelxM/qc7pnOzEnfrw+7qFYGHbKyn7n4lQeU/Ww75fLFa+CKtY7+bvN7i 9LZNniSfuxBdjgD8ksrV0hIIxV6vREg3k2FLkNlDEqSFfNIyPx4ZwbbodFfcV7ifL2pz 5yXfK7RFFDuArH+CniWzlXFpCjlUwOVllMnNPe4DYqIWbYcCe/pjfCnEEQ8E9BiTKPRE xsAw== X-Gm-Message-State: AOJu0YxcDaz4bjdIISBN3g273qeC6ypQM4dsdKDP1xvjvI1AZBj1jUL5 w8pLp/RnQHNmnfhE/flQECmBBcqlbWqwY09RzIRqOJaGme3JvfeJcBTQ8rXroavAILkY0w2gMGg H+SZpHJXQaYYM3zms0jGP2Of+3cVwojzJJJ8t1mpmhUKy X-Gm-Gg: ASbGncuSX9WANbIn3K8Sic222/82VmplvgVajP/LqQrXL8XQBzgp1VTf5w9nnGjPcEF aVYWnH6llOeChuRADNu3BxkKxb3g6RLvX0xk2P1nbmg5lBoDQVZrTrwfV/JMvFfsiGTAARBs9xk w/QLJzd4v8O7llr+XFqAyf35Cpexo2YvWcHcxroId7AE9yznQu9NBI4zp5DoJNndoVaAD/s20/K 38e1tUJ1oj/xbsqtyQNGANhK9JR5zhx2Cxwme5qY7LmbEFhg8M4NSGtoxzvrS5joydgA+Xo0Yqi ZwVJsICx/kq+mO0p6qnmlgH6108m4PkkvQaKr5FBP4oC+G7Ei65zcFPwzp3HAfkr3Pvezw== X-Google-Smtp-Source: AGHT+IGvFh37bsU/q/pbFHHhlCQ9B05Z3zefj/uOeJuZGhu0NQ63mtKrIGBiG20BzwEeyNGQmFGX2UpgIiE0 X-Received: by 2002:a05:6870:be97:b0:29e:48d6:2e62 with SMTP id 586e51a60fabf-2ff10874717mr832554fac.9.1752116519257; Wed, 09 Jul 2025 20:01:59 -0700 (PDT) Received: from postal.iol.unh.edu (postal.iol.unh.edu. [132.177.123.84]) by smtp-relay.gmail.com with ESMTPS id 586e51a60fabf-2ff116cfab2sm38993fac.26.2025.07.09.20.01.59 (version=TLS1_2 cipher=ECDHE-ECDSA-AES128-GCM-SHA256 bits=128/128); Wed, 09 Jul 2025 20:01:59 -0700 (PDT) X-Relaying-Domain: iol.unh.edu Date: Wed, 09 Jul 2025 20:01:59 -0700 (PDT) Message-ID: <686f2d27.050a0220.feef2.2b42SMTPIN_ADDED_MISSING@mx.google.com> Received: from [172.21.0.6] (unknown [172.18.0.240]) by postal.iol.unh.edu (Postfix) with ESMTP id E29816051830; Wed, 9 Jul 2025 23:01:58 -0400 (EDT) Subject: |SUCCESS| pw155087 [PATCH] maintainers: update for dlb2 From: dpdklab@iol.unh.edu To: Test Report Cc: dpdk-test-reports@iol.unh.edu In-Reply-To: <20250709050434.1296690-1-tirthendu.sarkar@intel.com> References: <20250709050434.1296690-1-tirthendu.sarkar@intel.com> Content-Type: text/plain X-BeenThere: test-report@dpdk.org X-Mailman-Version: 2.1.29 Precedence: list List-Id: automatic DPDK test reports List-Unsubscribe: , List-Archive: List-Post: List-Help: List-Subscribe: , Errors-To: test-report-bounces@dpdk.org Test-Label: iol-unit-amd64-testing Test-Status: SUCCESS http://dpdk.org/patch/155087 _Testing PASS_ Submitter: Tirthendu Sarkar Date: Wednesday, July 09 2025 05:04:34 DPDK git baseline: Repo:dpdk Branch: master CommitID:e90979eebbea093f6bab2d7c222fc5f5c9a85eff 155087 --> testing pass Upstream job id: Generic-VM-Unit-Test-DPDK#29842 Test environment and result as below: +-------------------------------+----------------+ | Environment | dpdk_unit_test | +===============================+================+ | CentOS Stream 9 | PASS | +-------------------------------+----------------+ | CentOS Stream 10 | PASS | +-------------------------------+----------------+ | Fedora Linux 40 | PASS | +-------------------------------+----------------+ | Debian GNU/Linux 12 | PASS | +-------------------------------+----------------+ | Red Hat Enterprise Linux 8.10 | PASS | +-------------------------------+----------------+ | Red Hat Enterprise Linux 9.5 | PASS | +-------------------------------+----------------+ | Fedora Linux 41 | PASS | +-------------------------------+----------------+ | Ubuntu 24.04 | PASS | +-------------------------------+----------------+ | Ubuntu 22.04 | PASS | +-------------------------------+----------------+ | Ubuntu 20.04 | PASS | +-------------------------------+----------------+ | Windows Server 2022 | PASS | +-------------------------------+----------------+ CentOS Stream 9 Kernel: 5.15 Compiler: gcc gcc (GCC) 11.5.0 20240719 (Red Hat 11.5.0-7) CentOS Stream 10 Kernel: 5.15 Compiler: gcc gcc (GCC) 14.2.1 20250110 (Red Hat 14.2.1-8) Fedora Linux 40 Kernel: 5.15 Compiler: clang gcc (GCC) 14.2.1 20240912 (Red Hat 14.2.1-3) Debian GNU/Linux 12 Kernel: 5.15 Compiler: gcc gcc (Debian 12.2.0-14+deb12u1) 12.2.0 Red Hat Enterprise Linux 8.10 Kernel: 5.15 Compiler: gcc gcc (GCC) 8.5.0 20210514 (Red Hat 8.5.0-22) Red Hat Enterprise Linux 9.5 Kernel: 5.15 Compiler: gcc gcc (GCC) 11.5.0 20240719 (Red Hat 11.5.0-2) Fedora Linux 41 Kernel: 5.15 Compiler: clang gcc (GCC) 14.3.1 20250523 (Red Hat 14.3.1-1) Ubuntu 24.04 Kernel: 5.15 Compiler: gcc gcc (Ubuntu 13.3.0-6ubuntu2~24.04) 13.3.0 Ubuntu 22.04 Kernel: 5.15 Compiler: gcc gcc (Ubuntu 11.4.0-1ubuntu1~22.04) 11.4.0 Ubuntu 20.04 Kernel: 5.15 Compiler: gcc gcc (Ubuntu 9.4.0-1ubuntu1~20.04.2) 9.4.0 Windows Server 2022 Kernel: 10.0.20348.2031 Compiler: clang 15.0.7, gcc 14.1.0 (MinGW), and MSVC VS 19.39.33521 To view detailed results, visit: https://lab.dpdk.org/results/dashboard/patchsets/33620/ UNH-IOL DPDK Community Lab To manage your email subscriptions, visit: https://lab.dpdk.org/results/dashboard/preferences/subscriptions/