From mboxrd@z Thu Jan 1 00:00:00 1970 Return-Path: Received: from mails.dpdk.org (mails.dpdk.org [217.70.189.124]) by inbox.dpdk.org (Postfix) with ESMTP id 40E7846AE9 for ; Thu, 10 Jul 2025 05:10:44 +0200 (CEST) Received: from mails.dpdk.org (localhost [127.0.0.1]) by mails.dpdk.org (Postfix) with ESMTP id 0CA16402D1; Thu, 10 Jul 2025 05:10:44 +0200 (CEST) Received: from mail-pl1-f227.google.com (mail-pl1-f227.google.com [209.85.214.227]) by mails.dpdk.org (Postfix) with ESMTP id C8F3F402D1 for ; Thu, 10 Jul 2025 05:10:42 +0200 (CEST) Received: by mail-pl1-f227.google.com with SMTP id d9443c01a7336-237311f5a54so4781115ad.2 for ; Wed, 09 Jul 2025 20:10:42 -0700 (PDT) DKIM-Signature: v=1; a=rsa-sha256; c=relaxed/relaxed; d=iol.unh.edu; s=unh-iol; t=1752117042; x=1752721842; darn=dpdk.org; h=references:in-reply-to:cc:to:from:subject:message-id:date:from:to :cc:subject:date:message-id:reply-to; bh=YyB+1WVQ39F7emp55p6Dxt4tQzjASyl8Ih0xeD6vue0=; b=XF96liZf1lG1/S6l9O0EZzJ/xVHFk8neK3+iMiZqhDTIsWkR6FVFY7DEvOC2+2SxG+ 1hZoT9d4LvyF0IHSkQGOOrb/XsI/5gIz2IaQGtyw94C0FcxE1yAnBqAcUvus86ueS3Ka gBRID3l3iUNU/L7CQ7045D7xLzpgbHYKhCoGA= X-Google-DKIM-Signature: v=1; a=rsa-sha256; c=relaxed/relaxed; d=1e100.net; s=20230601; t=1752117042; x=1752721842; h=references:in-reply-to:cc:to:from:subject:message-id:date :x-gm-message-state:from:to:cc:subject:date:message-id:reply-to; bh=YyB+1WVQ39F7emp55p6Dxt4tQzjASyl8Ih0xeD6vue0=; b=GOC0k1vNCA4AveOrBE/zpPpniL7VEqT8nVfJAc4pTDbJehNgI5yGguk8ajwADVwbSx e1mCs0R74xpZYVJGMFX0VLdrbxPdZDp5KvdXyMn5T0GbVXplOIYZOaFWeTYktgFSJY6R avwiHKzHDR/fzALdDtOk35uIdM+JrSlgOixxirBMPMNypNnEwhlEIMGPyY13rLmbBP+e hzYnzvl3d7Qwrl8Zdnnxb4ivAECH436ucutq9NtNQTOtU+bCtTHbmwEwiOBQnpYWWdK6 G+wrmlwRlrILYQs9utyauvKQ7r9VRvAKyUWke4ygnTJuVn3YQf8shdVH7IM4r+R2Bfbs cVdw== X-Gm-Message-State: AOJu0Yz6H9Ok+jNCv2pju3sHZwft0/3qG3d3Czrk/IhKTebiqPaiatrk Di6sH+4nLZ9ugSxYbasQ6NwPkhZYknVmBIt3UT1xwv8oT3Yl07rZbo9pLil/6jjVvChaIFD2KAZ jUAaIQ1On3hpOisda7KJPSiyt6GTveMfMUc/A8gJPW7vpAt5s7f4X1GO8KdJz X-Gm-Gg: ASbGncuu+zwwHY3EtiHqGzPmqf1hbKjuNsopUZu5f961ScU+U/qCVktEw5CtrjEVQn0 lrOaCJSOYNmxpUidDkZn5KDOxdzCHFTaI6I+fAAGlr3qT8kXvVp5QLyq4bH5iTC+YpGbqGAi/MF uE9y6RP48uLiLaz4oAWEhmuyO6Gv5rWHNp409W7aUjo4hHaDVOgvaRNDCrpNlvWh2Zzb2p3b8eO 5+8Qp8nQthD9whFS0VtrCKGUgl1lpMln5MtcldtNOeR+HjaekIuH2XAr4lF/IXW5wGU3Lg8mZez 2H+QW287ochzx/rJN79/cmQ96ZcVng3SkFA5bGY1lVP42YM= X-Google-Smtp-Source: AGHT+IHyBbHspLM4QhJwewqTVHSF4cQkIaIgdhM7f/l/Cu7crdU6nHPu/r2WlCbGcZ/DaPCQGTj7pN1JOyhR X-Received: by 2002:a17:902:ebd1:b0:237:d192:ac4a with SMTP id d9443c01a7336-23de48a17dfmr15243355ad.51.1752117041640; Wed, 09 Jul 2025 20:10:41 -0700 (PDT) Received: from postal.iol.unh.edu (postal.iol.unh.edu. [2606:4100:3880:1234::84]) by smtp-relay.gmail.com with ESMTPS id 98e67ed59e1d1-31c3e97f3d3sm25546a91.5.2025.07.09.20.10.41 (version=TLS1_2 cipher=ECDHE-ECDSA-AES128-GCM-SHA256 bits=128/128); Wed, 09 Jul 2025 20:10:41 -0700 (PDT) X-Relaying-Domain: iol.unh.edu Date: Wed, 09 Jul 2025 20:10:41 -0700 (PDT) Message-ID: <686f2f31.170a0220.3c10e2.16bfSMTPIN_ADDED_MISSING@mx.google.com> Received: from [172.21.0.6] (unknown [172.18.0.240]) by postal.iol.unh.edu (Postfix) with ESMTP id 7BFD06051830; Wed, 9 Jul 2025 23:10:40 -0400 (EDT) Subject: |SUCCESS| pw155087 [PATCH] maintainers: update for dlb2 From: dpdklab@iol.unh.edu To: Test Report Cc: dpdk-test-reports@iol.unh.edu In-Reply-To: <20250709050434.1296690-1-tirthendu.sarkar@intel.com> References: <20250709050434.1296690-1-tirthendu.sarkar@intel.com> Content-Type: text/plain X-BeenThere: test-report@dpdk.org X-Mailman-Version: 2.1.29 Precedence: list List-Id: automatic DPDK test reports List-Unsubscribe: , List-Archive: List-Post: List-Help: List-Subscribe: , Errors-To: test-report-bounces@dpdk.org Test-Label: iol-unit-amd64-testing Test-Status: SUCCESS http://dpdk.org/patch/155087 _Testing PASS_ Submitter: Tirthendu Sarkar Date: Wednesday, July 09 2025 05:04:34 DPDK git baseline: Repo:dpdk Branch: master CommitID:e90979eebbea093f6bab2d7c222fc5f5c9a85eff 155087 --> testing pass Upstream job id: Generic-VM-Unit-Test-DPDK#29843 Test environment and result as below: +-------------------------------+----------------+ | Environment | dpdk_unit_test | +===============================+================+ | CentOS Stream 9 | PASS | +-------------------------------+----------------+ | CentOS Stream 10 | PASS | +-------------------------------+----------------+ | Fedora Linux 40 | PASS | +-------------------------------+----------------+ | Debian GNU/Linux 12 | PASS | +-------------------------------+----------------+ | Red Hat Enterprise Linux 8.10 | PASS | +-------------------------------+----------------+ | Red Hat Enterprise Linux 9.5 | PASS | +-------------------------------+----------------+ | Fedora Linux 41 | PASS | +-------------------------------+----------------+ | Ubuntu 24.04 | PASS | +-------------------------------+----------------+ | Ubuntu 22.04 | PASS | +-------------------------------+----------------+ | Ubuntu 20.04 | PASS | +-------------------------------+----------------+ | Windows Server 2022 | PASS | +-------------------------------+----------------+ CentOS Stream 9 Kernel: 5.15 Compiler: gcc gcc (GCC) 11.5.0 20240719 (Red Hat 11.5.0-7) CentOS Stream 10 Kernel: 5.15 Compiler: gcc gcc (GCC) 14.2.1 20250110 (Red Hat 14.2.1-8) Fedora Linux 40 Kernel: 5.15 Compiler: clang gcc (GCC) 14.2.1 20240912 (Red Hat 14.2.1-3) Debian GNU/Linux 12 Kernel: 5.15 Compiler: gcc gcc (Debian 12.2.0-14+deb12u1) 12.2.0 Red Hat Enterprise Linux 8.10 Kernel: 5.15 Compiler: gcc gcc (GCC) 8.5.0 20210514 (Red Hat 8.5.0-22) Red Hat Enterprise Linux 9.5 Kernel: 5.15 Compiler: gcc gcc (GCC) 11.5.0 20240719 (Red Hat 11.5.0-2) Fedora Linux 41 Kernel: 5.15 Compiler: clang gcc (GCC) 14.3.1 20250523 (Red Hat 14.3.1-1) Ubuntu 24.04 Kernel: 5.15 Compiler: gcc gcc (Ubuntu 13.3.0-6ubuntu2~24.04) 13.3.0 Ubuntu 22.04 Kernel: 5.15 Compiler: gcc gcc (Ubuntu 11.4.0-1ubuntu1~22.04) 11.4.0 Ubuntu 20.04 Kernel: 5.15 Compiler: gcc gcc (Ubuntu 9.4.0-1ubuntu1~20.04.2) 9.4.0 Windows Server 2022 Kernel: 10.0.20348.2031 Compiler: clang 15.0.7, gcc 14.1.0 (MinGW), and MSVC VS 19.39.33521 To view detailed results, visit: https://lab.dpdk.org/results/dashboard/patchsets/33620/ UNH-IOL DPDK Community Lab To manage your email subscriptions, visit: https://lab.dpdk.org/results/dashboard/preferences/subscriptions/