From mboxrd@z Thu Jan 1 00:00:00 1970 Return-Path: Received: from mails.dpdk.org (mails.dpdk.org [217.70.189.124]) by inbox.dpdk.org (Postfix) with ESMTP id 0C7F646AE9 for ; Thu, 10 Jul 2025 05:21:10 +0200 (CEST) Received: from mails.dpdk.org (localhost [127.0.0.1]) by mails.dpdk.org (Postfix) with ESMTP id DEDC5402D1; Thu, 10 Jul 2025 05:21:09 +0200 (CEST) Received: from mail-pl1-f226.google.com (mail-pl1-f226.google.com [209.85.214.226]) by mails.dpdk.org (Postfix) with ESMTP id 01D95402D1 for ; Thu, 10 Jul 2025 05:21:07 +0200 (CEST) Received: by mail-pl1-f226.google.com with SMTP id d9443c01a7336-2350fc2591dso6295375ad.1 for ; Wed, 09 Jul 2025 20:21:07 -0700 (PDT) DKIM-Signature: v=1; a=rsa-sha256; c=relaxed/relaxed; d=iol.unh.edu; s=unh-iol; t=1752117667; x=1752722467; darn=dpdk.org; h=references:in-reply-to:cc:to:from:subject:message-id:date:from:to :cc:subject:date:message-id:reply-to; bh=MIXo5R5vsHkL1EBDsRWk3JJCY62wp8CuXBMVKddq2hs=; b=Tb/71G2y3kV+CyRjQuZkVoTw+Vc2OhoG7wzVH3vMb6Pq+Q7V9HUV/v5DQeEXW/Cn57 zdT2ee6wR5FvJ1eJr3u6gt8DUxaypGOzIAI4Eg3yL0lFM/uruLr10b4yKN3KTmivHJeo OwsXj+PUwfuVSgblmPXHnclFScdQkjUv+V474= X-Google-DKIM-Signature: v=1; a=rsa-sha256; c=relaxed/relaxed; d=1e100.net; s=20230601; t=1752117667; x=1752722467; h=references:in-reply-to:cc:to:from:subject:message-id:date :x-gm-message-state:from:to:cc:subject:date:message-id:reply-to; bh=MIXo5R5vsHkL1EBDsRWk3JJCY62wp8CuXBMVKddq2hs=; b=rk13ytzQh1p8vEfi387Y6u+/aLOptHbRLJHb38eGlAvHcwDC9zEPkh+JwQNwEWc4pi UuFN+TA0tMiD7hAYpo3ZvYXt5Y3rTEwHnMC4sxy5y3uZ1tWbmQPcLAP9IufIX5D8kqzy 21d13GjBTRtXo72B1BWvggLVI8Eon1sHEiRqrvqdj7jopRUkYUmZYkIHZcyXrc3a4yNm hh/439gyUdziYKvmF1zMgDuRm2QxVDAHbc5yfTZulcFlD+DbXBI20ItSkqFXBFMPwtbG orskvWc3KTi8CkVkLqY54FT/kguOdIlu7vLx+vy0kMrRD5Y/547v/xiDainJwsZJJLYo /jsw== X-Gm-Message-State: AOJu0YwVqBaHRJQojQf8XWlr9oLQphKMLfW6jfciU9Vf0gVDTdly9U8K j3VDjebpkDqdG2flfob6QF1HfjEZn0IrDidZkAHpe1ij9rRXavaPGeHm1W30nRk2FyngJIKnErc uijrjROkaEPjHvqVwpIPJ1xnE+Os7oafaK0VCxkBocoA5MbU9jq3D3HfXd3pt X-Gm-Gg: ASbGnct0TAvspINk5nXmzqS3vU4B5x/PT11MT56V7opOuABbG6gqhB5RzPtxEUeDSRP R7CNCin6+XFss5np4X0OwSG/8To+oe48kbjlUs0FlKAh9feLFxxys9dsbb2U48sOU7sJkn4kwc+ RisFlH2D/8NVhKvdLUk80IFJNoKAQssd6ZAUd9st9wo1m1thpXXNnQiVFVsHYKlhoxWpE/2olyh 3R08L1W/1pA8qXneOfO2XdYYK7dccH9Wqwjp2N6kuexbY9s/HJ4t30JUFgQXjXFkZCGhV0R8aUN BGN9oXhxOSplBQzqErPJcrYqg0JvFCIrve5D+gkWSL6LnB0= X-Google-Smtp-Source: AGHT+IH0iytefhEZwsRnN2mqSPPZwtoY5D41P4XS8DmI4tUHO4+QCjf/w6/66n3LF6ca9ygsWc1JmrAiHITx X-Received: by 2002:a17:902:eb83:b0:234:325:500b with SMTP id d9443c01a7336-23de2fb885dmr29101985ad.22.1752117667028; Wed, 09 Jul 2025 20:21:07 -0700 (PDT) Received: from postal.iol.unh.edu (postal.iol.unh.edu. [2606:4100:3880:1234::84]) by smtp-relay.gmail.com with ESMTPS id d9443c01a7336-23de433c758sm315795ad.109.2025.07.09.20.21.06 (version=TLS1_2 cipher=ECDHE-ECDSA-AES128-GCM-SHA256 bits=128/128); Wed, 09 Jul 2025 20:21:07 -0700 (PDT) X-Relaying-Domain: iol.unh.edu Date: Wed, 09 Jul 2025 20:21:07 -0700 (PDT) Message-ID: <686f31a3.170a0220.17c648.1ccfSMTPIN_ADDED_MISSING@mx.google.com> Received: from [172.21.0.6] (unknown [172.18.0.240]) by postal.iol.unh.edu (Postfix) with ESMTP id 26C1B6051830; Wed, 9 Jul 2025 23:21:06 -0400 (EDT) Subject: |WARNING| pw155122 [PATCH] [net] net/vmxnet3: fix mapping of mempool From: dpdklab@iol.unh.edu To: Test Report Cc: dpdk-test-reports@iol.unh.edu In-Reply-To: <20250709212905.126851-1-ronak.doshi@broadcom.com> References: <20250709212905.126851-1-ronak.doshi@broadcom.com> Content-Type: text/plain X-BeenThere: test-report@dpdk.org X-Mailman-Version: 2.1.29 Precedence: list List-Id: automatic DPDK test reports List-Unsubscribe: , List-Archive: List-Post: List-Help: List-Subscribe: , Errors-To: test-report-bounces@dpdk.org Test-Label: iol-compile-amd64-testing Test-Status: WARNING http://dpdk.org/patch/155122 _Testing issues_ Submitter: Ronak Doshi Date: Wednesday, July 09 2025 21:29:03 DPDK git baseline: Repo:dpdk Branch: master CommitID:ba982f9a1ca9b96ed0394b764f1523d482e963a2 155122 --> testing issues Upstream job id: Windows-Compile-DPDK-VS#6326 Test environment and result as below: +-------------------------------+--------------------+-------------------+------------------+-------------------+ | Environment | dpdk_meson_compile | dpdk_compile_spdk | dpdk_compile_ovs | dpdk_msvc_compile | +===============================+====================+===================+==================+===================+ | CentOS Stream 9 | PASS | PASS | SKIPPED | SKIPPED | +-------------------------------+--------------------+-------------------+------------------+-------------------+ | CentOS Stream 10 | PASS | SKIPPED | SKIPPED | SKIPPED | +-------------------------------+--------------------+-------------------+------------------+-------------------+ | Debian GNU/Linux 12 | PASS | PASS | SKIPPED | SKIPPED | +-------------------------------+--------------------+-------------------+------------------+-------------------+ | Fedora Linux 40 | PASS | PASS | SKIPPED | SKIPPED | +-------------------------------+--------------------+-------------------+------------------+-------------------+ | Fedora Linux 41 | PASS | PASS | PASS | SKIPPED | +-------------------------------+--------------------+-------------------+------------------+-------------------+ | Red Hat Enterprise Linux 8.10 | PASS | SKIPPED | SKIPPED | SKIPPED | +-------------------------------+--------------------+-------------------+------------------+-------------------+ | Ubuntu 22.04 | PASS | PASS | SKIPPED | SKIPPED | +-------------------------------+--------------------+-------------------+------------------+-------------------+ | Ubuntu 20.04 | PASS | SKIPPED | SKIPPED | SKIPPED | +-------------------------------+--------------------+-------------------+------------------+-------------------+ | Red Hat Enterprise Linux 9.5 | PASS | SKIPPED | SKIPPED | SKIPPED | +-------------------------------+--------------------+-------------------+------------------+-------------------+ | Ubuntu 24.04 | PASS | PASS | PASS | SKIPPED | +-------------------------------+--------------------+-------------------+------------------+-------------------+ | FreeBSD 14.2 | PASS | SKIPPED | SKIPPED | SKIPPED | +-------------------------------+--------------------+-------------------+------------------+-------------------+ | Alpine Linux 3.22.0 | PASS | SKIPPED | SKIPPED | SKIPPED | +-------------------------------+--------------------+-------------------+------------------+-------------------+ | openSUSE Leap 15.6 | PASS | SKIPPED | SKIPPED | SKIPPED | +-------------------------------+--------------------+-------------------+------------------+-------------------+ | Windows Server 2022 | SKIPPED | SKIPPED | SKIPPED | PASS | +-------------------------------+--------------------+-------------------+------------------+-------------------+ CentOS Stream 9 Kernel: 5.15 Compiler: gcc gcc (GCC) 11.5.0 20240719 (Red Hat 11.5.0-7) CentOS Stream 10 Kernel: 5.15 Compiler: gcc gcc (GCC) 14.2.1 20250110 (Red Hat 14.2.1-8) Debian GNU/Linux 12 Kernel: 5.15 Compiler: gcc gcc (Debian 12.2.0-14+deb12u1) 12.2.0 Fedora Linux 40 Kernel: 5.15 Compiler: clang gcc (GCC) 14.2.1 20240912 (Red Hat 14.2.1-3) Fedora Linux 41 Kernel: 5.15 Compiler: clang gcc (GCC) 14.3.1 20250523 (Red Hat 14.3.1-1) Red Hat Enterprise Linux 8.10 Kernel: 5.15 Compiler: gcc gcc (GCC) 8.5.0 20210514 (Red Hat 8.5.0-22) Ubuntu 22.04 Kernel: 5.15 Compiler: gcc gcc (Ubuntu 11.4.0-1ubuntu1~22.04) 11.4.0 Ubuntu 20.04 Kernel: 5.15 Compiler: gcc gcc (Ubuntu 9.4.0-1ubuntu1~20.04.2) 9.4.0 Red Hat Enterprise Linux 9.5 Kernel: 5.15 Compiler: gcc gcc (GCC) 11.5.0 20240719 (Red Hat 11.5.0-2) Ubuntu 24.04 Kernel: 5.15 Compiler: gcc gcc (Ubuntu 13.3.0-6ubuntu2~24.04) 13.3.0 FreeBSD 14.2 Kernel: 14.2-RELEASE Compiler: clang 18.1.6 Alpine Linux 3.22.0 Kernel: 5.15 Compiler: gcc gcc (Alpine 14.2.0) 14.2.0 openSUSE Leap 15.6 Kernel: 5.15 Compiler: gcc gcc (SUSE Linux) 7.5.0 Windows Server 2022 Kernel: 10.0.20348.2031 Compiler: clang 15.0.7, gcc 14.1.0 (MinGW), and MSVC VS 19.39.33521 To view detailed results, visit: https://lab.dpdk.org/results/dashboard/patchsets/33630/ UNH-IOL DPDK Community Lab To manage your email subscriptions, visit: https://lab.dpdk.org/results/dashboard/preferences/subscriptions/