From mboxrd@z Thu Jan 1 00:00:00 1970 Return-Path: Received: from mails.dpdk.org (mails.dpdk.org [217.70.189.124]) by inbox.dpdk.org (Postfix) with ESMTP id 7C23E46AE9 for ; Thu, 10 Jul 2025 05:24:45 +0200 (CEST) Received: from mails.dpdk.org (localhost [127.0.0.1]) by mails.dpdk.org (Postfix) with ESMTP id 47140402D1; Thu, 10 Jul 2025 05:24:45 +0200 (CEST) Received: from mail-il1-f228.google.com (mail-il1-f228.google.com [209.85.166.228]) by mails.dpdk.org (Postfix) with ESMTP id E9F3D402D1 for ; Thu, 10 Jul 2025 05:24:43 +0200 (CEST) Received: by mail-il1-f228.google.com with SMTP id e9e14a558f8ab-3df30d542caso2064315ab.1 for ; Wed, 09 Jul 2025 20:24:43 -0700 (PDT) DKIM-Signature: v=1; a=rsa-sha256; c=relaxed/relaxed; d=iol.unh.edu; s=unh-iol; t=1752117883; x=1752722683; darn=dpdk.org; h=references:in-reply-to:cc:to:from:subject:message-id:date:from:to :cc:subject:date:message-id:reply-to; bh=SAw2cxirdFsQWkCwUGmARkxO1jnmAbvJWQPDMNo6NOE=; b=W7WjLaZh3NNYW7DCynT5mUxoCenBixIp5pzg82cLJUEXIu4dJ2WRzLKz7QGtBSd4/O 1u6f/MUlLMR5OCCBqQ4ApHF+ygaw1SkgMp4Zq0YC77/3pKYsqpVyXPrFrizMoNhNthZO JRol1NqfzxMM5kAbF5Z8CKUe9Lh+06Re8CqrM= X-Google-DKIM-Signature: v=1; a=rsa-sha256; c=relaxed/relaxed; d=1e100.net; s=20230601; t=1752117883; x=1752722683; h=references:in-reply-to:cc:to:from:subject:message-id:date :x-gm-message-state:from:to:cc:subject:date:message-id:reply-to; bh=SAw2cxirdFsQWkCwUGmARkxO1jnmAbvJWQPDMNo6NOE=; b=FnB4LVej1gLkwQwKADRSYBEdw/mpVN682lCujxanIMdz24X0oQICBs464Uoa9NcOmK aPdjYOsnKsHDLG1E9HoAamp9PKAMPnrpr+ep4deTZPNVKuLN6xopZ8tRJ3d0rgdYtybE ntzigq8OeXt+VMTJYgd3Alx9PVXrBi0bD6LEWhv0tv8LgVkSgg743mXjtplAFbBks7/X bpjgqIKPN8vw2NmAhvFF0iFaaYNDNKkTsbTm7MyDEkO+8dY1P5gExyn5zuseEAwgstSV Jbe3BPvzxtwj71GfWLWvGGUoLkpWQBiIuDjW2T/wRf0FCw3woTk9ytl848rajtdNUSHA rm/A== X-Gm-Message-State: AOJu0Yw2efG+Iurqf76WP/rFAGEw3Vd1Wl18iPXaUvQiIRFBPZrypz08 CpcVF9ekJMdv/f0UGPxcB2tzDRfwmbrYVnuu/gHaMUWM0Xic8hx9yHa/qd4+vAYwDYGLFw1rMi2 om+1wYGDdC8k5d2I/9r1go/3RmkjpkAJk5dVExFsf7vX9 X-Gm-Gg: ASbGncuc/oP3CQm3A1H9RxE4UlwAqEl5f+wm3kOuJROisY+yOeiAjSLjcxGA6TDJvxA KfuaHy18x/aPRoM0HO6EyiuH/M344dE2bagVJYW+JIOzxJvR5LkoKjbyaRqsXmvHMiTX2d/kdtP uyoGoiKXUfH1f8IZEHzQEXKVYzjuYEUhCrtbIboIzMYx/+RF6UPZlc7DTi9SO9l+JY0l4QmbOEw GJwWF8vh+Nl6GbNO6XOgd0Z6yajkQ53elH8JX7X82hZ7BH3b7sIb4lTjSelTZlQqDm5HfJD1Hiu d7Rn1zlvk+ziA6C/Cx7yfFEI4BycQ6YImyXjyEXWVLV4rJLDXkzav3aRDeyn3yhA/Si5gg== X-Google-Smtp-Source: AGHT+IEYLAHr0ufxZClRGK4gbOWVI9Di+w1NKvCnr6uSngYNDeqliSMI+PBY3b29GsYMjvaKQjD7KS+NIZ0d X-Received: by 2002:a05:6e02:1fcf:b0:3df:2f47:dc21 with SMTP id e9e14a558f8ab-3e246207ebfmr11155865ab.22.1752117883204; Wed, 09 Jul 2025 20:24:43 -0700 (PDT) Received: from postal.iol.unh.edu (postal.iol.unh.edu. [132.177.123.84]) by smtp-relay.gmail.com with ESMTPS id e9e14a558f8ab-3e246111cc3sm374105ab.18.2025.07.09.20.24.43 (version=TLS1_2 cipher=ECDHE-ECDSA-AES128-GCM-SHA256 bits=128/128); Wed, 09 Jul 2025 20:24:43 -0700 (PDT) X-Relaying-Domain: iol.unh.edu Date: Wed, 09 Jul 2025 20:24:43 -0700 (PDT) Message-ID: <686f327b.050a0220.33d53a.223aSMTPIN_ADDED_MISSING@mx.google.com> Received: from [172.21.0.6] (unknown [172.18.0.240]) by postal.iol.unh.edu (Postfix) with ESMTP id CF1536051830; Wed, 9 Jul 2025 23:24:42 -0400 (EDT) Subject: |SUCCESS| pw155122 [PATCH] [net] net/vmxnet3: fix mapping of mempool From: dpdklab@iol.unh.edu To: Test Report Cc: dpdk-test-reports@iol.unh.edu In-Reply-To: <20250709212905.126851-1-ronak.doshi@broadcom.com> References: <20250709212905.126851-1-ronak.doshi@broadcom.com> Content-Type: text/plain X-BeenThere: test-report@dpdk.org X-Mailman-Version: 2.1.29 Precedence: list List-Id: automatic DPDK test reports List-Unsubscribe: , List-Archive: List-Post: List-Help: List-Subscribe: , Errors-To: test-report-bounces@dpdk.org Test-Label: iol-unit-arm64-testing Test-Status: SUCCESS http://dpdk.org/patch/155122 _Testing PASS_ Submitter: Ronak Doshi Date: Wednesday, July 09 2025 21:29:03 DPDK git baseline: Repo:dpdk Branch: master CommitID:ba982f9a1ca9b96ed0394b764f1523d482e963a2 155122 --> testing pass Upstream job id: Generic-Unit-Test-DPDK#354473 Test environment and result as below: +------------------------------+------------------------------+---------------------------+--------------+----------------+ | Environment | cryptodev_sw_snow3g_autotest | cryptodev_sw_zuc_autotest | lpm_autotest | dpdk_unit_test | +==============================+==============================+===========================+==============+================+ | Debian 12 (arm) | PASS | PASS | SKIPPED | SKIPPED | +------------------------------+------------------------------+---------------------------+--------------+----------------+ | Ubuntu 20.04 | SKIPPED | SKIPPED | PASS | PASS | +------------------------------+------------------------------+---------------------------+--------------+----------------+ | CentOS Stream 9 | SKIPPED | SKIPPED | SKIPPED | PASS | +------------------------------+------------------------------+---------------------------+--------------+----------------+ | CentOS Stream 10 | SKIPPED | SKIPPED | SKIPPED | PASS | +------------------------------+------------------------------+---------------------------+--------------+----------------+ | Debian GNU/Linux 12 | SKIPPED | SKIPPED | SKIPPED | PASS | +------------------------------+------------------------------+---------------------------+--------------+----------------+ | Fedora Linux 40 | SKIPPED | SKIPPED | SKIPPED | PASS | +------------------------------+------------------------------+---------------------------+--------------+----------------+ | Fedora Linux 41 | SKIPPED | SKIPPED | SKIPPED | PASS | +------------------------------+------------------------------+---------------------------+--------------+----------------+ | Red Hat Enterprise Linux 9.5 | SKIPPED | SKIPPED | SKIPPED | PASS | +------------------------------+------------------------------+---------------------------+--------------+----------------+ | Ubuntu 22.04 | SKIPPED | SKIPPED | SKIPPED | PASS | +------------------------------+------------------------------+---------------------------+--------------+----------------+ | Ubuntu 24.04 | SKIPPED | SKIPPED | SKIPPED | PASS | +------------------------------+------------------------------+---------------------------+--------------+----------------+ Debian 12 (arm) Kernel: Depends on container host Compiler: gcc (Debian 12.2.0-14) 12.2.0 Ubuntu 20.04 Kernel: 5.4 Compiler: gcc gcc (Ubuntu 9.4.0-1ubuntu1~20.04.2) 9.4.0 CentOS Stream 9 Kernel: 5.4 Compiler: gcc gcc (GCC) 11.5.0 20240719 (Red Hat 11.5.0-7) CentOS Stream 10 Kernel: 5.4 Compiler: gcc gcc (GCC) 14.2.1 20250110 (Red Hat 14.2.1-8) Debian GNU/Linux 12 Kernel: 5.4 Compiler: gcc gcc (Debian 12.2.0-14+deb12u1) 12.2.0 Fedora Linux 40 Kernel: 5.4 Compiler: gcc gcc (GCC) 14.2.1 20240912 (Red Hat 14.2.1-3) Fedora Linux 41 Kernel: 5.4 Compiler: gcc gcc (GCC) 14.3.1 20250523 (Red Hat 14.3.1-1) Red Hat Enterprise Linux 9.5 Kernel: 5.4 Compiler: gcc gcc (GCC) 11.5.0 20240719 (Red Hat 11.5.0-2) Ubuntu 22.04 Kernel: 5.4 Compiler: gcc gcc (Ubuntu 11.4.0-1ubuntu1~22.04) 11.4.0 Ubuntu 24.04 Kernel: 5.4 Compiler: gcc gcc (Ubuntu 13.3.0-6ubuntu2~24.04) 13.3.0 To view detailed results, visit: https://lab.dpdk.org/results/dashboard/patchsets/33630/ UNH-IOL DPDK Community Lab To manage your email subscriptions, visit: https://lab.dpdk.org/results/dashboard/preferences/subscriptions/