From mboxrd@z Thu Jan 1 00:00:00 1970 Return-Path: Received: from mails.dpdk.org (mails.dpdk.org [217.70.189.124]) by inbox.dpdk.org (Postfix) with ESMTP id E381446AE9 for ; Thu, 10 Jul 2025 05:30:07 +0200 (CEST) Received: from mails.dpdk.org (localhost [127.0.0.1]) by mails.dpdk.org (Postfix) with ESMTP id BC74A402D1; Thu, 10 Jul 2025 05:30:07 +0200 (CEST) Received: from mail-pg1-f225.google.com (mail-pg1-f225.google.com [209.85.215.225]) by mails.dpdk.org (Postfix) with ESMTP id 15FB4402D1 for ; Thu, 10 Jul 2025 05:30:06 +0200 (CEST) Received: by mail-pg1-f225.google.com with SMTP id 41be03b00d2f7-b391ca6146eso537683a12.3 for ; Wed, 09 Jul 2025 20:30:06 -0700 (PDT) DKIM-Signature: v=1; a=rsa-sha256; c=relaxed/relaxed; d=iol.unh.edu; s=unh-iol; t=1752118205; x=1752723005; darn=dpdk.org; h=references:in-reply-to:cc:to:from:subject:message-id:date:from:to :cc:subject:date:message-id:reply-to; bh=F0xqnsRWB6WMcChW0/q9hgJsxgISGvRx1FPaEj0iRbc=; b=YqoCC7gY4dhaQAaEs2frsYC8nQsyXx+PR7Jlmn0d+6t3kuQ/iCLQFZH1EwVqWLznvx QsXs+aJ0lUqPKEBQ0XVjzKMfUtpttzv9FJtLtmkOtLdXrX44KrLFonCXrXzv8YUH/nBI Gj2j75FMt8W6HOONwUMTsaLFRMDuFVuvjZ1i4= X-Google-DKIM-Signature: v=1; a=rsa-sha256; c=relaxed/relaxed; d=1e100.net; s=20230601; t=1752118205; x=1752723005; h=references:in-reply-to:cc:to:from:subject:message-id:date :x-gm-message-state:from:to:cc:subject:date:message-id:reply-to; bh=F0xqnsRWB6WMcChW0/q9hgJsxgISGvRx1FPaEj0iRbc=; b=a6C3xPp6Qrc+4oCojKAlqtOa2q5EFRQ9FJ9Tp+feXq1p94hlQicjrPHACXg4jPaRLf qArXy9cYlo9zo7ngS6UFunI1FcHr4Snf+wQlcrvP99mC/ywXwcUsgV0MXebp8PdbGVQG gV8EuCYJm0G+eW7vmQTAD1eaqgJBjEAcyDrSH6OrOKyamEP9GQTgVk5lf8Ar8fZyShGf KfrzJOhxnCXx0zvMz4XusmZ2o9AK7Jpr4hMM35Z51NrbRa1VE6n9lyyoGskooSNWmTYh wokhV/hgaUUNVOcBnFYTUQ+ZZpL4CrottXRVTaoiQeT9ZMgl6GuKymtedx1CDltQCCcO iAlA== X-Gm-Message-State: AOJu0YxzVP69jHoGgHhEhZpqbkgD9sMoTGwmd88qwDxbsbyEw/aB8mEQ iW7tBZkdczJTJaM09tt8wqsjUrEumttfMD5gH1CetcKS3flIeK7pddlbQ127XgRJX5PqR9IPsA2 RBQByne7JaNxZzN/OKYjlrX6SV2kCZNE3wHipMduYlimInajjJVg1EEr2MtZ3 X-Gm-Gg: ASbGnctd08MLsD0w4+kg6D/YRf/nwiEi6cA6Rdsqx1iJ3F5iC/HBgG2VvFOD8coELar acOhXDAMDbWIJwd9oY1nO1h6PtW3lcQV9eCe5XWGD6SA1zoTpNRn363lBNpydRTcwDOI+sl0CSv 0r/8evWV23d8u+R3NKdtwyZircdMQd4ugpckSpj/FXpJXK6pQp+3gn6lZXxYj9b3Pp9yFfT3l1K e2PSRDHpIdfETgYs3Cs0pk1/ul7du8XIPHk+Z2xdfbUmyW2eS1+vprxjY4LKS4HUIUDqJKyL+sN 2W/YjpKaIQBm8jOMfY5EdWD+UZdC6uij1eYqROAdauLasl0= X-Google-Smtp-Source: AGHT+IE1HXxzPi4NDZf40TpEP3Rx/v8YV81B7ng/+g54aLWmsg4/as6DD98VwpItpfhALZgDeGFkYuHjK5nR X-Received: by 2002:a17:903:fa4:b0:236:15b7:62e8 with SMTP id d9443c01a7336-23ddb2f2bdbmr81057185ad.25.1752118205140; Wed, 09 Jul 2025 20:30:05 -0700 (PDT) Received: from postal.iol.unh.edu (postal.iol.unh.edu. [2606:4100:3880:1234::84]) by smtp-relay.gmail.com with ESMTPS id d9443c01a7336-23de4266eb7sm305825ad.26.2025.07.09.20.30.05 (version=TLS1_2 cipher=ECDHE-ECDSA-AES128-GCM-SHA256 bits=128/128); Wed, 09 Jul 2025 20:30:05 -0700 (PDT) X-Relaying-Domain: iol.unh.edu Date: Wed, 09 Jul 2025 20:30:05 -0700 (PDT) Message-ID: <686f33bd.170a0220.93af8.1b2aSMTPIN_ADDED_MISSING@mx.google.com> Received: from [172.21.0.5] (unknown [172.18.0.240]) by postal.iol.unh.edu (Postfix) with ESMTP id 4B6996051830; Wed, 9 Jul 2025 23:30:04 -0400 (EDT) Subject: |SUCCESS| pw155088-155089 [PATCH] [v5,2/2] crypto/uadk: use async mo From: dpdklab@iol.unh.edu To: Test Report Cc: dpdk-test-reports@iol.unh.edu In-Reply-To: <20250709064701.100676-3-zhangfei.gao@linaro.org> References: <20250709064701.100676-3-zhangfei.gao@linaro.org> Content-Type: text/plain X-BeenThere: test-report@dpdk.org X-Mailman-Version: 2.1.29 Precedence: list List-Id: automatic DPDK test reports List-Unsubscribe: , List-Archive: List-Post: List-Help: List-Subscribe: , Errors-To: test-report-bounces@dpdk.org Test-Label: iol-unit-amd64-testing Test-Status: SUCCESS http://dpdk.org/patch/155089 _Testing PASS_ Submitter: Zhangfei Gao Date: Wednesday, July 09 2025 06:47:01 DPDK git baseline: Repo:dpdk Branch: master CommitID:2f4f0dc5f678fcf62cf046fa69821c0b8786deb4 155088-155089 --> testing pass Upstream job id: Generic-VM-Unit-Test-DPDK#29844 Test environment and result as below: +-------------------------------+----------------+ | Environment | dpdk_unit_test | +===============================+================+ | CentOS Stream 9 | PASS | +-------------------------------+----------------+ | CentOS Stream 10 | PASS | +-------------------------------+----------------+ | Debian GNU/Linux 12 | PASS | +-------------------------------+----------------+ | Fedora Linux 40 | PASS | +-------------------------------+----------------+ | Fedora Linux 41 | PASS | +-------------------------------+----------------+ | Red Hat Enterprise Linux 8.10 | PASS | +-------------------------------+----------------+ | Red Hat Enterprise Linux 9.5 | PASS | +-------------------------------+----------------+ | Ubuntu 20.04 | PASS | +-------------------------------+----------------+ | Ubuntu 22.04 | PASS | +-------------------------------+----------------+ | Ubuntu 24.04 | PASS | +-------------------------------+----------------+ | Windows Server 2022 | PASS | +-------------------------------+----------------+ CentOS Stream 9 Kernel: 5.15 Compiler: gcc gcc (GCC) 11.5.0 20240719 (Red Hat 11.5.0-7) CentOS Stream 10 Kernel: 5.15 Compiler: gcc gcc (GCC) 14.2.1 20250110 (Red Hat 14.2.1-8) Debian GNU/Linux 12 Kernel: 5.15 Compiler: gcc gcc (Debian 12.2.0-14+deb12u1) 12.2.0 Fedora Linux 40 Kernel: 5.15 Compiler: clang gcc (GCC) 14.2.1 20240912 (Red Hat 14.2.1-3) Fedora Linux 41 Kernel: 5.15 Compiler: gcc gcc (GCC) 14.3.1 20250523 (Red Hat 14.3.1-1) Red Hat Enterprise Linux 8.10 Kernel: 5.15 Compiler: gcc gcc (GCC) 8.5.0 20210514 (Red Hat 8.5.0-22) Red Hat Enterprise Linux 9.5 Kernel: 5.15 Compiler: gcc gcc (GCC) 11.5.0 20240719 (Red Hat 11.5.0-2) Ubuntu 20.04 Kernel: 5.15 Compiler: gcc gcc (Ubuntu 9.4.0-1ubuntu1~20.04.2) 9.4.0 Ubuntu 22.04 Kernel: 5.15 Compiler: gcc gcc (Ubuntu 11.4.0-1ubuntu1~22.04) 11.4.0 Ubuntu 24.04 Kernel: 5.15 Compiler: gcc gcc (Ubuntu 13.3.0-6ubuntu2~24.04) 13.3.0 Windows Server 2022 Kernel: 10.0.20348.2031 Compiler: clang 15.0.7, gcc 14.1.0 (MinGW), and MSVC VS 19.39.33521 To view detailed results, visit: https://lab.dpdk.org/results/dashboard/patchsets/33621/ UNH-IOL DPDK Community Lab To manage your email subscriptions, visit: https://lab.dpdk.org/results/dashboard/preferences/subscriptions/