From mboxrd@z Thu Jan 1 00:00:00 1970 Return-Path: Received: from mails.dpdk.org (mails.dpdk.org [217.70.189.124]) by inbox.dpdk.org (Postfix) with ESMTP id B4EFF46AE9 for ; Thu, 10 Jul 2025 05:38:02 +0200 (CEST) Received: from mails.dpdk.org (localhost [127.0.0.1]) by mails.dpdk.org (Postfix) with ESMTP id 8F6CD402D1; Thu, 10 Jul 2025 05:38:02 +0200 (CEST) Received: from mail-vk1-f227.google.com (mail-vk1-f227.google.com [209.85.221.227]) by mails.dpdk.org (Postfix) with ESMTP id 5131E402D1 for ; Thu, 10 Jul 2025 05:38:01 +0200 (CEST) Received: by mail-vk1-f227.google.com with SMTP id 71dfb90a1353d-5347686c12cso206525e0c.0 for ; Wed, 09 Jul 2025 20:38:01 -0700 (PDT) DKIM-Signature: v=1; a=rsa-sha256; c=relaxed/relaxed; d=iol.unh.edu; s=unh-iol; t=1752118680; x=1752723480; darn=dpdk.org; h=references:in-reply-to:cc:to:from:subject:message-id:date:from:to :cc:subject:date:message-id:reply-to; bh=rjrTKZPkk5iAKCUm/28GVUDFm/kLZmy33T/Lj92arnE=; b=fnyhj++vacrxeCycFRfcD/7kPDS7uKxuFLf03euuJ9MdNdXDsKPbJo+CEbiC5U+4Sc CeJCGB8hP5SvLvfI4AQ7rLFMxIa4E+WwAkcT7fcV7TAouhwdGBB8C7FSad9K2Zz36tUI WH3+z2mj2QAyvQv7umokZ1oadCr9RIR9LDiVo= X-Google-DKIM-Signature: v=1; a=rsa-sha256; c=relaxed/relaxed; d=1e100.net; s=20230601; t=1752118680; x=1752723480; h=references:in-reply-to:cc:to:from:subject:message-id:date :x-gm-message-state:from:to:cc:subject:date:message-id:reply-to; bh=rjrTKZPkk5iAKCUm/28GVUDFm/kLZmy33T/Lj92arnE=; b=vmzGLoBoZAoq7QPc10cBCqfaLZ8kebCAf5r3lfXuiGW3TaCw8NxP560WLVSEmnw+9f 0GMUl83IF9c9X6LCl1bBvgpoumDZ7tN51kna79cvhbHS6lcAUqrVCYFeEHdMhQktviUf OgiPyiE/yTDz9RPqYSLtDQhL4f8jRUQV0VOrdxsltEEWmVC80KgtbfUWyDhKHc2jxNsB Dw4PEqi8v+668JYQ8eJhT4c75rZt1udaMtBu2LFsJzjiiEaMWYntma9oxcZMrN21zRYL O2qaOI1aaLEs2OM13LT+7G8O2zaZWT/+1r/YskN9nqCxWxd4pSl2L1sCZSg+PrqqzR46 TPOA== X-Gm-Message-State: AOJu0YwgcmhK/WGHGgOzzOC72PByi+MQ2dcs+FTzMT8vQwn3C8suTw/+ Q39bTqrI4zq1Nx1W0X4P0MwH66/71MTbp0KlIK0CGn12S7mi47snDKBCbBezRqhQjYRegJmAV2v +S6iiLCAw9a4NlzbO+myYYjwV6pHX+auo6lre+vHgp/Y3 X-Gm-Gg: ASbGncugcm5ZUGfXs+WXBT+MwzUIVIYf5bZIcjebfw7j7zNR58j0w9Era23PN4R60ny EL8KhgO64VNh58HC9mZGvoAPYFTtNISGpvzZ/X0WqRj17b3Oc/xzFXnwtEt4t+2XHK9ayCC0GQz qRHs7y82JRs8IV5yHCNM3H30FqCknnY12K5gTPpS3bLw9VUysrreNTYoG5oIEhw+CfnPFir279P l+E8rDUw8dKU2zp36+6AqwSzjUhVb4J/BBb63azG4lqMNBvj3O2EXAPR+Ixp0hNXBRPCOTW2IQ1 mX6kZ752yw9lB4WTnYK1yYsWjkAfTRWpGL7Pqpl+mNJyv5ARxvXChWrmUzqhHf88XA6Nhg== X-Google-Smtp-Source: AGHT+IGQPVEzX4nMprjzLAEWGJHp8OIfHfrRLf5ozC/JKRtbWW3u8MQV+YdBfFwd/wU3cLR/TT+KYdqyvy/4 X-Received: by 2002:a05:6122:8b0b:b0:531:3af8:b177 with SMTP id 71dfb90a1353d-535d7408ea4mr3707697e0c.11.1752118680626; Wed, 09 Jul 2025 20:38:00 -0700 (PDT) Received: from postal.iol.unh.edu (postal.iol.unh.edu. [132.177.123.84]) by smtp-relay.gmail.com with ESMTPS id 71dfb90a1353d-535e7245609sm29254e0c.3.2025.07.09.20.38.00 (version=TLS1_2 cipher=ECDHE-ECDSA-AES128-GCM-SHA256 bits=128/128); Wed, 09 Jul 2025 20:38:00 -0700 (PDT) X-Relaying-Domain: iol.unh.edu Date: Wed, 09 Jul 2025 20:38:00 -0700 (PDT) Message-ID: <686f3598.050a0220.cfe31.19ddSMTPIN_ADDED_MISSING@mx.google.com> Received: from [172.21.0.5] (unknown [172.18.0.240]) by postal.iol.unh.edu (Postfix) with ESMTP id 513256051830; Wed, 9 Jul 2025 23:38:00 -0400 (EDT) Subject: |SUCCESS| pw155088-155089 [PATCH] [v5,2/2] crypto/uadk: use async mo From: dpdklab@iol.unh.edu To: Test Report Cc: dpdk-test-reports@iol.unh.edu In-Reply-To: <20250709064701.100676-3-zhangfei.gao@linaro.org> References: <20250709064701.100676-3-zhangfei.gao@linaro.org> Content-Type: text/plain X-BeenThere: test-report@dpdk.org X-Mailman-Version: 2.1.29 Precedence: list List-Id: automatic DPDK test reports List-Unsubscribe: , List-Archive: List-Post: List-Help: List-Subscribe: , Errors-To: test-report-bounces@dpdk.org Test-Label: iol-unit-amd64-testing Test-Status: SUCCESS http://dpdk.org/patch/155089 _Testing PASS_ Submitter: Zhangfei Gao Date: Wednesday, July 09 2025 06:47:01 DPDK git baseline: Repo:dpdk Branch: master CommitID:2f4f0dc5f678fcf62cf046fa69821c0b8786deb4 155088-155089 --> testing pass Upstream job id: Generic-VM-Unit-Test-DPDK#29845 Test environment and result as below: +-------------------------------+----------------+ | Environment | dpdk_unit_test | +===============================+================+ | CentOS Stream 9 | PASS | +-------------------------------+----------------+ | CentOS Stream 10 | PASS | +-------------------------------+----------------+ | Debian GNU/Linux 12 | PASS | +-------------------------------+----------------+ | Fedora Linux 40 | PASS | +-------------------------------+----------------+ | Fedora Linux 41 | PASS | +-------------------------------+----------------+ | Red Hat Enterprise Linux 8.10 | PASS | +-------------------------------+----------------+ | Red Hat Enterprise Linux 9.5 | PASS | +-------------------------------+----------------+ | Ubuntu 20.04 | PASS | +-------------------------------+----------------+ | Ubuntu 22.04 | PASS | +-------------------------------+----------------+ | Ubuntu 24.04 | PASS | +-------------------------------+----------------+ | Windows Server 2022 | PASS | +-------------------------------+----------------+ CentOS Stream 9 Kernel: 5.15 Compiler: gcc gcc (GCC) 11.5.0 20240719 (Red Hat 11.5.0-7) CentOS Stream 10 Kernel: 5.15 Compiler: gcc gcc (GCC) 14.2.1 20250110 (Red Hat 14.2.1-8) Debian GNU/Linux 12 Kernel: 5.15 Compiler: gcc gcc (Debian 12.2.0-14+deb12u1) 12.2.0 Fedora Linux 40 Kernel: 5.15 Compiler: clang gcc (GCC) 14.2.1 20240912 (Red Hat 14.2.1-3) Fedora Linux 41 Kernel: 5.15 Compiler: gcc gcc (GCC) 14.3.1 20250523 (Red Hat 14.3.1-1) Red Hat Enterprise Linux 8.10 Kernel: 5.15 Compiler: gcc gcc (GCC) 8.5.0 20210514 (Red Hat 8.5.0-22) Red Hat Enterprise Linux 9.5 Kernel: 5.15 Compiler: gcc gcc (GCC) 11.5.0 20240719 (Red Hat 11.5.0-2) Ubuntu 20.04 Kernel: 5.15 Compiler: gcc gcc (Ubuntu 9.4.0-1ubuntu1~20.04.2) 9.4.0 Ubuntu 22.04 Kernel: 5.15 Compiler: gcc gcc (Ubuntu 11.4.0-1ubuntu1~22.04) 11.4.0 Ubuntu 24.04 Kernel: 5.15 Compiler: gcc gcc (Ubuntu 13.3.0-6ubuntu2~24.04) 13.3.0 Windows Server 2022 Kernel: 10.0.20348.2031 Compiler: clang 15.0.7, gcc 14.1.0 (MinGW), and MSVC VS 19.39.33521 To view detailed results, visit: https://lab.dpdk.org/results/dashboard/patchsets/33621/ UNH-IOL DPDK Community Lab To manage your email subscriptions, visit: https://lab.dpdk.org/results/dashboard/preferences/subscriptions/