From mboxrd@z Thu Jan 1 00:00:00 1970 Return-Path: Received: from mails.dpdk.org (mails.dpdk.org [217.70.189.124]) by inbox.dpdk.org (Postfix) with ESMTP id AF78B46AE9 for ; Thu, 10 Jul 2025 05:38:52 +0200 (CEST) Received: from mails.dpdk.org (localhost [127.0.0.1]) by mails.dpdk.org (Postfix) with ESMTP id A9F30402D1; Thu, 10 Jul 2025 05:38:52 +0200 (CEST) Received: from mail-oa1-f99.google.com (mail-oa1-f99.google.com [209.85.160.99]) by mails.dpdk.org (Postfix) with ESMTP id C2A41402D1 for ; Thu, 10 Jul 2025 05:38:51 +0200 (CEST) Received: by mail-oa1-f99.google.com with SMTP id 586e51a60fabf-2eb6c422828so921497fac.1 for ; Wed, 09 Jul 2025 20:38:51 -0700 (PDT) DKIM-Signature: v=1; a=rsa-sha256; c=relaxed/relaxed; d=iol.unh.edu; s=unh-iol; t=1752118731; x=1752723531; darn=dpdk.org; h=references:in-reply-to:cc:to:from:subject:message-id:date:from:to :cc:subject:date:message-id:reply-to; bh=/iJ6rZIkEZwT1sqtSoAmwKmIqoSA1XkMxxBdv7nSn5A=; b=Hlkj/eUJrgtDiIiy2OPtoGd8KYcDHBm4W98A68bwFdcNMyrZjJ1eP8CLkizjbpVC/Z oLbxI5wBdQQVgrrW3JARwcFGnZmcejiOarUpnLR6H50HVPtQL5toa5C0ricBc4l0LkIG iz+5f5qtgije3OMcCfZe6wXSXyLGg4Kld+J2Q= X-Google-DKIM-Signature: v=1; a=rsa-sha256; c=relaxed/relaxed; d=1e100.net; s=20230601; t=1752118731; x=1752723531; h=references:in-reply-to:cc:to:from:subject:message-id:date :x-gm-message-state:from:to:cc:subject:date:message-id:reply-to; bh=/iJ6rZIkEZwT1sqtSoAmwKmIqoSA1XkMxxBdv7nSn5A=; b=ICgAm4jNYTkpDUd07te93FDwtV4at+fqGY7ZWTzyhu90aBsKTsTaQjQBHDnyf2zJA5 8nUPMw2lPF3v9vel1GvE0ZZ/inzCRQ9LLu3isEnk0ZMAToanGvMzr9aD1taki4FD24UK YguKlnj7xYjVVUWxsJWeL2ouVyHL7cL5ZXAinIBOhSpfApnkdIpuarNP4XZGevgygHhg bs/Wgcghh0QVNhQCAwDjg9LY7zx438jwUcqT8sgwhITQa0Ku44ttixErJTIxrcZrrMzB 7BIL6JvaMLaOnL6EAB+8VQ9P1EKCKnOYtBUrVN2MQ9PdrQ3ynMmDMGbsPxz/5EopNFLR BPJg== X-Gm-Message-State: AOJu0YwZ4NjB6mrK9B5MiWsEjwNPNwlVezrplceenBDLf0dvqUDkw3iJ OLLNSNvmos5FkpHDArtgr6CWphaIPhJYeptGzAXUjkN2ATwCiPwiCVK5NxTmQBn9F8FL7lvKg1m o/8KbcA9Fl+X9fYbxbEziJCVITqXPju15W4vwuLD8AUNW X-Gm-Gg: ASbGnctBXoqNzrPFiV47bmsxM5iKhPLebu/HL9tc+S7zIYFvyEqSEq23lSA/ginpxbh Jr4N91yeorNfn7IYWQSxMBALsTsp1CE3SIU74uKxckENoeFXJvMbFJRqbK0+WSGxeC5RNCIhTFR L973RONsiKU5hSBwmPNijCYheDa89F8WIHfmPpLo4H1vpm66QQTQdCoStlddhp7HxiK0eCINbxJ PWuyKvOykGs8hUPSY49STwOSYiBPlWrSyI8p4UTZxd2sDr7pS8cl+H79A9WP/Qh03Syp8/UXLdC bp7gPw1oMglpYvIpv5HUtDqyeqHgaUhBTk4XF/3KvXxPJP56YT6B3jFZ8Ajl88HabbaO2A== X-Google-Smtp-Source: AGHT+IGhv7lc6b7ByqwF2AFLdw319J2YI9rJKQVK+a6eVUSJzdhDtlzXyoxPBbgPIupgF8jUyl2KAXLoj3ju X-Received: by 2002:a05:6870:71c3:b0:2ea:83c5:1e27 with SMTP id 586e51a60fabf-2ff0c773bedmr1498980fac.12.1752118730928; Wed, 09 Jul 2025 20:38:50 -0700 (PDT) Received: from postal.iol.unh.edu (postal.iol.unh.edu. [132.177.123.84]) by smtp-relay.gmail.com with ESMTPS id 586e51a60fabf-2ff1129a5f5sm43717fac.16.2025.07.09.20.38.50 (version=TLS1_2 cipher=ECDHE-ECDSA-AES128-GCM-SHA256 bits=128/128); Wed, 09 Jul 2025 20:38:50 -0700 (PDT) X-Relaying-Domain: iol.unh.edu Date: Wed, 09 Jul 2025 20:38:50 -0700 (PDT) Message-ID: <686f35ca.050a0220.1dd37a.2732SMTPIN_ADDED_MISSING@mx.google.com> Received: from [172.21.0.6] (unknown [172.18.0.240]) by postal.iol.unh.edu (Postfix) with ESMTP id 2E6626051830; Wed, 9 Jul 2025 23:38:50 -0400 (EDT) Subject: |WARNING| pw155109 [PATCH] [v2] test_bbdev: enable to be compiled on From: dpdklab@iol.unh.edu To: Test Report Cc: dpdk-test-reports@iol.unh.edu In-Reply-To: <1752074012-14869-1-git-send-email-andremue@linux.microsoft.com> References: <1752074012-14869-1-git-send-email-andremue@linux.microsoft.com> Content-Type: text/plain X-BeenThere: test-report@dpdk.org X-Mailman-Version: 2.1.29 Precedence: list List-Id: automatic DPDK test reports List-Unsubscribe: , List-Archive: List-Post: List-Help: List-Subscribe: , Errors-To: test-report-bounces@dpdk.org Test-Label: iol-compile-amd64-testing Test-Status: WARNING http://dpdk.org/patch/155109 _Testing issues_ Submitter: Andre Muezerie Date: Wednesday, July 09 2025 15:13:32 DPDK git baseline: Repo:dpdk Branch: master CommitID:19154c548d15cfa4928fcfb208b381d377039519 155109 --> testing issues Upstream job id: Windows-Compile-DPDK-Native#29699 Test environment and result as below: +-------------------------------+--------------------+-------------------+------------------+-------------------+-------------------------+----------------------+ | Environment | dpdk_meson_compile | dpdk_compile_spdk | dpdk_compile_ovs | dpdk_msvc_compile | dpdk_llvm_clang_compile | dpdk_mingw64_compile | +===============================+====================+===================+==================+===================+=========================+======================+ | CentOS Stream 9 | PASS | PASS | SKIPPED | SKIPPED | SKIPPED | SKIPPED | +-------------------------------+--------------------+-------------------+------------------+-------------------+-------------------------+----------------------+ | CentOS Stream 10 | PASS | SKIPPED | SKIPPED | SKIPPED | SKIPPED | SKIPPED | +-------------------------------+--------------------+-------------------+------------------+-------------------+-------------------------+----------------------+ | Debian GNU/Linux 12 | PASS | PASS | SKIPPED | SKIPPED | SKIPPED | SKIPPED | +-------------------------------+--------------------+-------------------+------------------+-------------------+-------------------------+----------------------+ | Fedora Linux 40 | PASS | WARN | SKIPPED | SKIPPED | SKIPPED | SKIPPED | +-------------------------------+--------------------+-------------------+------------------+-------------------+-------------------------+----------------------+ | Fedora Linux 41 | PASS | PASS | PASS | SKIPPED | SKIPPED | SKIPPED | +-------------------------------+--------------------+-------------------+------------------+-------------------+-------------------------+----------------------+ | openSUSE Leap 15.6 | PASS | SKIPPED | SKIPPED | SKIPPED | SKIPPED | SKIPPED | +-------------------------------+--------------------+-------------------+------------------+-------------------+-------------------------+----------------------+ | Ubuntu 20.04 | PASS | SKIPPED | SKIPPED | SKIPPED | SKIPPED | SKIPPED | +-------------------------------+--------------------+-------------------+------------------+-------------------+-------------------------+----------------------+ | Red Hat Enterprise Linux 9.5 | PASS | SKIPPED | SKIPPED | SKIPPED | SKIPPED | SKIPPED | +-------------------------------+--------------------+-------------------+------------------+-------------------+-------------------------+----------------------+ | Red Hat Enterprise Linux 8.10 | PASS | SKIPPED | SKIPPED | SKIPPED | SKIPPED | SKIPPED | +-------------------------------+--------------------+-------------------+------------------+-------------------+-------------------------+----------------------+ | Ubuntu 24.04 | PASS | PASS | PASS | SKIPPED | SKIPPED | SKIPPED | +-------------------------------+--------------------+-------------------+------------------+-------------------+-------------------------+----------------------+ | Ubuntu 22.04 | PASS | PASS | SKIPPED | SKIPPED | SKIPPED | SKIPPED | +-------------------------------+--------------------+-------------------+------------------+-------------------+-------------------------+----------------------+ | Alpine Linux 3.22.0 | PASS | SKIPPED | SKIPPED | SKIPPED | SKIPPED | SKIPPED | +-------------------------------+--------------------+-------------------+------------------+-------------------+-------------------------+----------------------+ | FreeBSD 14.2 | PASS | SKIPPED | SKIPPED | SKIPPED | SKIPPED | SKIPPED | +-------------------------------+--------------------+-------------------+------------------+-------------------+-------------------------+----------------------+ | Windows Server 2022 | SKIPPED | SKIPPED | SKIPPED | PASS | PASS | PASS | +-------------------------------+--------------------+-------------------+------------------+-------------------+-------------------------+----------------------+ ==== 20 line log output for Fedora Linux 40 (dpdk_compile_spdk): ==== --- Failed to get log output --- ==== End log output ==== CentOS Stream 9 Kernel: 5.15 Compiler: gcc gcc (GCC) 11.5.0 20240719 (Red Hat 11.5.0-7) CentOS Stream 10 Kernel: 5.15 Compiler: gcc gcc (GCC) 14.2.1 20250110 (Red Hat 14.2.1-8) Debian GNU/Linux 12 Kernel: 5.15 Compiler: gcc gcc (Debian 12.2.0-14+deb12u1) 12.2.0 Fedora Linux 40 Kernel: 5.15 Compiler: gcc gcc (GCC) 14.2.1 20240912 (Red Hat 14.2.1-3) Fedora Linux 41 Kernel: 5.15 Compiler: clang gcc (GCC) 14.3.1 20250523 (Red Hat 14.3.1-1) openSUSE Leap 15.6 Kernel: 5.15 Compiler: gcc gcc (SUSE Linux) 7.5.0 Ubuntu 20.04 Kernel: 5.15 Compiler: gcc gcc (Ubuntu 9.4.0-1ubuntu1~20.04.2) 9.4.0 Red Hat Enterprise Linux 9.5 Kernel: 5.15 Compiler: gcc gcc (GCC) 11.5.0 20240719 (Red Hat 11.5.0-2) Red Hat Enterprise Linux 8.10 Kernel: 5.15 Compiler: gcc gcc (GCC) 8.5.0 20210514 (Red Hat 8.5.0-22) Ubuntu 24.04 Kernel: 5.15 Compiler: gcc gcc (Ubuntu 13.3.0-6ubuntu2~24.04) 13.3.0 Ubuntu 22.04 Kernel: 5.15 Compiler: gcc gcc (Ubuntu 11.4.0-1ubuntu1~22.04) 11.4.0 Alpine Linux 3.22.0 Kernel: 5.15 Compiler: gcc gcc (Alpine 14.2.0) 14.2.0 FreeBSD 14.2 Kernel: 14.2-RELEASE Compiler: clang 18.1.6 Windows Server 2022 Kernel: 10.0.20348.2031 Compiler: clang 15.0.7, gcc 14.1.0 (MinGW), and MSVC VS 19.39.33521 To view detailed results, visit: https://lab.dpdk.org/results/dashboard/patchsets/33628/ UNH-IOL DPDK Community Lab To manage your email subscriptions, visit: https://lab.dpdk.org/results/dashboard/preferences/subscriptions/