From mboxrd@z Thu Jan 1 00:00:00 1970 Return-Path: Received: from mails.dpdk.org (mails.dpdk.org [217.70.189.124]) by inbox.dpdk.org (Postfix) with ESMTP id 9518146AE9 for ; Thu, 10 Jul 2025 05:46:51 +0200 (CEST) Received: from mails.dpdk.org (localhost [127.0.0.1]) by mails.dpdk.org (Postfix) with ESMTP id 70365402D1; Thu, 10 Jul 2025 05:46:51 +0200 (CEST) Received: from mail-oa1-f97.google.com (mail-oa1-f97.google.com [209.85.160.97]) by mails.dpdk.org (Postfix) with ESMTP id 396A4402D1 for ; Thu, 10 Jul 2025 05:46:50 +0200 (CEST) Received: by mail-oa1-f97.google.com with SMTP id 586e51a60fabf-2ea58f008e9so492109fac.0 for ; Wed, 09 Jul 2025 20:46:50 -0700 (PDT) DKIM-Signature: v=1; a=rsa-sha256; c=relaxed/relaxed; d=iol.unh.edu; s=unh-iol; t=1752119209; x=1752724009; darn=dpdk.org; h=references:in-reply-to:cc:to:from:subject:message-id:date:from:to :cc:subject:date:message-id:reply-to; bh=Qy7KL6umh3F9A+6XdNT1b/19MMOU5dddJya8R/eEyYQ=; b=ZQll8/JwudsmeGeHSU3URgDSwViEGoHldjAB/VCSwfJDuNhnp2Rh+bqO9WXMPRAXHD 3fxuAUB6FO6fywttQDyVBabtijdMavFOZLEVdAJxF8CkNR+H5l0dPMEO2IBdHyvecALK QzYLs5ibgbrgTZidhQZigSEH+jC8QP45hgUL8= X-Google-DKIM-Signature: v=1; a=rsa-sha256; c=relaxed/relaxed; d=1e100.net; s=20230601; t=1752119209; x=1752724009; h=references:in-reply-to:cc:to:from:subject:message-id:date :x-gm-message-state:from:to:cc:subject:date:message-id:reply-to; bh=Qy7KL6umh3F9A+6XdNT1b/19MMOU5dddJya8R/eEyYQ=; b=YF54AaTWdF2eipQgYuFEvtetNIgoUjknf5eQ/YqYjoJIgp0WauCMmxiUNr72Qik0cS bUd6BI0R9qKg01V0jxB+g4FTYpSLf5BavlGV45k02w/NNkCioYCOqjZw08CEpAEG3B7B 78+BBAeW4D+MUy5H5V+Q3QPMP5w3GQdkR9qIOPVEgsZ9kCwnnGqowDPVfUSbGAjs11Ug IFiR47imdUR6e5E9qIuFTFiyFDKQk6kMa/mCNMrx9YL7UAzw900sOpVMeZlM+ELqqAU1 Y/uefsrA9wRqvf75HSC8w/wXfEfnEbsQdeh/niLvPL+5Trf/TIC5uMOMDua1PyBm5gTU 5ecg== X-Gm-Message-State: AOJu0Yw/8bsseB5MkAU46TFuYKfx5CYOYcbaf/Z5AZBkBdnKqcWzLM7j cozPchZeM2kI+KQf528LMStcm+yqd0YtgVfNwSqxUlVXAo8gz5VOGkDm9AotVpHyEPv1yEOB+3Z vPUJWVEMAM+A/mK5N4NquT8LhH+3qeDbT7/uJzxsKf1T1 X-Gm-Gg: ASbGncvMEfOxYBwaIxFlDnE0JxxA26+HDiQV5VsV8orUn9jH3XiIS/wkMJE+vYn/ZAH 0sjqlUUTBs+Ilh3N2PQfx+F8uqIWdXzUyr1i6MuCRtiPvtYWgEB8iLS7w/4/knHV+vDWCVxEyYw G0aobVrJ6hXz1v/2h9rxeXQHHUdrQTRNvlzV/uBMLVAeIVtTYuF6Pn4jFJKuLxbeGoF7DoorpRF qN6sSgEYTnxeIbmkN1Wwu3Ip68rJhjBaTOrNGfAHb2U3OEWG65+gJCGE6XcwrL2tD9x2FD8h5rq 7axPTcdzdKG5gP7VBXMv+Ivgnx9bT0v/peFPw6bBxzMX5xz4yA7Dp3JM49KYKzBDAVoDYQ== X-Google-Smtp-Source: AGHT+IGULLr4LHBCN0IkWJWN+hDI2qNcgGOIwj588D48D0Jl5+4/ZjutappaTrfqP/HcqLpF5OO5JUmZ+cUl X-Received: by 2002:a05:6870:4413:b0:2e9:e9b9:fd7c with SMTP id 586e51a60fabf-2ff10a5611dmr811747fac.26.1752119209412; Wed, 09 Jul 2025 20:46:49 -0700 (PDT) Received: from postal.iol.unh.edu (postal.iol.unh.edu. [132.177.123.84]) by smtp-relay.gmail.com with ESMTPS id 586e51a60fabf-2ff1129b4cdsm42576fac.18.2025.07.09.20.46.49 (version=TLS1_2 cipher=ECDHE-ECDSA-AES128-GCM-SHA256 bits=128/128); Wed, 09 Jul 2025 20:46:49 -0700 (PDT) X-Relaying-Domain: iol.unh.edu Date: Wed, 09 Jul 2025 20:46:49 -0700 (PDT) Message-ID: <686f37a9.050a0220.71c1.263eSMTPIN_ADDED_MISSING@mx.google.com> Received: from [172.21.0.5] (unknown [172.18.0.240]) by postal.iol.unh.edu (Postfix) with ESMTP id B03B96051830; Wed, 9 Jul 2025 23:46:48 -0400 (EDT) Subject: |WARNING| pw155007 [PATCH] [v2,01/14] net/sxe: add base driver direc From: dpdklab@iol.unh.edu To: Test Report Cc: dpdk-test-reports@iol.unh.edu In-Reply-To: <20250704025401.301617-1-liujie5@linkdatatechnology.com> References: <20250704025401.301617-1-liujie5@linkdatatechnology.com> Content-Type: text/plain X-BeenThere: test-report@dpdk.org X-Mailman-Version: 2.1.29 Precedence: list List-Id: automatic DPDK test reports List-Unsubscribe: , List-Archive: List-Post: List-Help: List-Subscribe: , Errors-To: test-report-bounces@dpdk.org Test-Label: iol-compile-amd64-testing Test-Status: WARNING http://dpdk.org/patch/155007 _Testing issues_ Submitter: Jie Liu Date: Friday, July 04 2025 02:53:48 DPDK git baseline: Repo:dpdk Branch: master CommitID:7e6d6106a4ef052d6a2a6bd6e83c5b16a36c65c9 155007 --> testing issues Upstream job id: Windows-Compile-DPDK-Native#29700 Test environment and result as below: +-------------------------------+--------------------+-------------------+------------------+-------------------+-------------------------+ | Environment | dpdk_meson_compile | dpdk_compile_spdk | dpdk_compile_ovs | dpdk_msvc_compile | dpdk_llvm_clang_compile | +===============================+====================+===================+==================+===================+=========================+ | CentOS Stream 9 | PASS | PASS | SKIPPED | SKIPPED | SKIPPED | +-------------------------------+--------------------+-------------------+------------------+-------------------+-------------------------+ | CentOS Stream 10 | PASS | SKIPPED | SKIPPED | SKIPPED | SKIPPED | +-------------------------------+--------------------+-------------------+------------------+-------------------+-------------------------+ | Debian GNU/Linux 12 | PASS | PASS | SKIPPED | SKIPPED | SKIPPED | +-------------------------------+--------------------+-------------------+------------------+-------------------+-------------------------+ | Fedora Linux 40 | PASS | PASS | SKIPPED | SKIPPED | SKIPPED | +-------------------------------+--------------------+-------------------+------------------+-------------------+-------------------------+ | Fedora Linux 41 | PASS | PASS | PASS | SKIPPED | SKIPPED | +-------------------------------+--------------------+-------------------+------------------+-------------------+-------------------------+ | Red Hat Enterprise Linux 8.10 | PASS | SKIPPED | SKIPPED | SKIPPED | SKIPPED | +-------------------------------+--------------------+-------------------+------------------+-------------------+-------------------------+ | openSUSE Leap 15.6 | PASS | SKIPPED | SKIPPED | SKIPPED | SKIPPED | +-------------------------------+--------------------+-------------------+------------------+-------------------+-------------------------+ | Red Hat Enterprise Linux 9.5 | PASS | SKIPPED | SKIPPED | SKIPPED | SKIPPED | +-------------------------------+--------------------+-------------------+------------------+-------------------+-------------------------+ | Ubuntu 20.04 | PASS | SKIPPED | SKIPPED | SKIPPED | SKIPPED | +-------------------------------+--------------------+-------------------+------------------+-------------------+-------------------------+ | Ubuntu 22.04 | PASS | PASS | SKIPPED | SKIPPED | SKIPPED | +-------------------------------+--------------------+-------------------+------------------+-------------------+-------------------------+ | Ubuntu 24.04 | PASS | PASS | PASS | SKIPPED | SKIPPED | +-------------------------------+--------------------+-------------------+------------------+-------------------+-------------------------+ | Alpine Linux 3.22.0 | PASS | SKIPPED | SKIPPED | SKIPPED | SKIPPED | +-------------------------------+--------------------+-------------------+------------------+-------------------+-------------------------+ | FreeBSD 14.2 | PASS | SKIPPED | SKIPPED | SKIPPED | SKIPPED | +-------------------------------+--------------------+-------------------+------------------+-------------------+-------------------------+ | Windows Server 2022 | SKIPPED | SKIPPED | SKIPPED | PASS | PASS | +-------------------------------+--------------------+-------------------+------------------+-------------------+-------------------------+ CentOS Stream 9 Kernel: 5.15 Compiler: gcc gcc (GCC) 11.5.0 20240719 (Red Hat 11.5.0-7) CentOS Stream 10 Kernel: 5.15 Compiler: gcc gcc (GCC) 14.2.1 20250110 (Red Hat 14.2.1-8) Debian GNU/Linux 12 Kernel: 5.15 Compiler: gcc gcc (Debian 12.2.0-14+deb12u1) 12.2.0 Fedora Linux 40 Kernel: 5.15 Compiler: clang gcc (GCC) 14.2.1 20240912 (Red Hat 14.2.1-3) Fedora Linux 41 Kernel: 5.15 Compiler: clang gcc (GCC) 14.3.1 20250523 (Red Hat 14.3.1-1) Red Hat Enterprise Linux 8.10 Kernel: 5.15 Compiler: gcc gcc (GCC) 8.5.0 20210514 (Red Hat 8.5.0-22) openSUSE Leap 15.6 Kernel: 5.15 Compiler: gcc gcc (SUSE Linux) 7.5.0 Red Hat Enterprise Linux 9.5 Kernel: 5.15 Compiler: gcc gcc (GCC) 11.5.0 20240719 (Red Hat 11.5.0-2) Ubuntu 20.04 Kernel: 5.15 Compiler: gcc gcc (Ubuntu 9.4.0-1ubuntu1~20.04.2) 9.4.0 Ubuntu 22.04 Kernel: 5.15 Compiler: gcc gcc (Ubuntu 11.4.0-1ubuntu1~22.04) 11.4.0 Ubuntu 24.04 Kernel: 5.15 Compiler: gcc gcc (Ubuntu 13.3.0-6ubuntu2~24.04) 13.3.0 Alpine Linux 3.22.0 Kernel: 5.15 Compiler: gcc gcc (Alpine 14.2.0) 14.2.0 FreeBSD 14.2 Kernel: 14.2-RELEASE Compiler: clang 18.1.6 Windows Server 2022 Kernel: 10.0.20348.2031 Compiler: clang 15.0.7, gcc 14.1.0 (MinGW), and MSVC VS 19.39.33521 To view detailed results, visit: https://lab.dpdk.org/results/dashboard/patchsets/33590/ UNH-IOL DPDK Community Lab To manage your email subscriptions, visit: https://lab.dpdk.org/results/dashboard/preferences/subscriptions/