From mboxrd@z Thu Jan 1 00:00:00 1970 Return-Path: Received: from mails.dpdk.org (mails.dpdk.org [217.70.189.124]) by inbox.dpdk.org (Postfix) with ESMTP id 4B2C046AE9 for ; Thu, 10 Jul 2025 05:54:49 +0200 (CEST) Received: from mails.dpdk.org (localhost [127.0.0.1]) by mails.dpdk.org (Postfix) with ESMTP id 1F435402D1; Thu, 10 Jul 2025 05:54:49 +0200 (CEST) Received: from mail-vk1-f225.google.com (mail-vk1-f225.google.com [209.85.221.225]) by mails.dpdk.org (Postfix) with ESMTP id 7B964402D1 for ; Thu, 10 Jul 2025 05:54:48 +0200 (CEST) Received: by mail-vk1-f225.google.com with SMTP id 71dfb90a1353d-5347686c12cso209126e0c.0 for ; Wed, 09 Jul 2025 20:54:48 -0700 (PDT) DKIM-Signature: v=1; a=rsa-sha256; c=relaxed/relaxed; d=iol.unh.edu; s=unh-iol; t=1752119688; x=1752724488; darn=dpdk.org; h=references:in-reply-to:cc:to:from:subject:message-id:date:from:to :cc:subject:date:message-id:reply-to; bh=aPQ6PrwG/bTvDYcjPUUGAdQRYs5MhCSO06ii+aQ3kC0=; b=FaloVpt/q5wTKB/RDwBeqTz94EPlD17DbOpVBEXwT1HLeollYaVFPZ8/r7zNYBz/BM 0FmDOV+dxbXN8DlnSRZXyAGjCl9YPw3BvL3q2/+DhIzFtMnOwLUbtDtD6R4oor6vV4IX KM8AMgdz07awUhCe7g1wIOPzTReiZGmzz/n2A= X-Google-DKIM-Signature: v=1; a=rsa-sha256; c=relaxed/relaxed; d=1e100.net; s=20230601; t=1752119688; x=1752724488; h=references:in-reply-to:cc:to:from:subject:message-id:date :x-gm-message-state:from:to:cc:subject:date:message-id:reply-to; bh=aPQ6PrwG/bTvDYcjPUUGAdQRYs5MhCSO06ii+aQ3kC0=; b=n/ONfOUPk4cHWecR7uwDEer7XrATgctjanYyoafL8kV3ZgjYfYE7r9a5fPHQEge4hS cv0vpo8o0tR+KAw+BFrxVp5iPYP7nxUx/lm+C6R6TvAu49a2W5cFn0qYnyhkVIzgNA4q tJCRuJneSK/xXj0UaKAcfx3gD9VWVgDc/ewIOyloN59HvwtZ0GaFxnsnRAWArQrXkCTO l4JcGLop+OEkfU8DW9VSEq8R8qee1ksOUAx3UenzRDlM6EJDkFZATAN7ad9R0jFWmkxn L/U3BEOMX27BRncJcD4VW6QpCmZ73u0F4vyqeQird8QLgRzs9Qh/4NR7Wb5pt/n2pqWh 8QKw== X-Gm-Message-State: AOJu0YzaYLZwuR1K2GeHnUs8I1eHu2htbTPePMvtz476MAYrBrwQlJge MBUN+gZq5jpCQe9MDV6Wv/+rovA4QPpQui3inyg5hA3Fv7EeBNRwyNLl003ykr49NMTmFe4fQu6 kvHmvwM85952XrLOcnnQ86VVzaHaJO9EFdiNOCfYfBfU5 X-Gm-Gg: ASbGnctxMF+jc87+XkcgFc8+Ph8/OxWInBW6t0h5SFWkokF5eMwfNGqGrXYru+vV9GI WXvg7RklX8ITXln0dX4A5FCZ8N7ZPmVjV8WnbVSiLwM5vH7Fos91dlBIJfmHM+sVRujdkEFHwFt 6y5v4TjPPWW8S18GAR4FYnyhLFYuiUbRdDSrxHT36+s9c6OmqcuvwQOnUsRyQqPxpflNwIAKCQ0 +hz6E1KcpQCrMKAHn8nbEBgbE2NxAO274+M1vPx5dJkT0xtsW2bsT8RQRKluUvyNNGY7ysMYCwN 8j5pwAfkoUGt+ytWv2sEXe/P1wVxj9kLoMDBoCkfN/uVsENTwY88+RGfMunPvTBimM900w== X-Google-Smtp-Source: AGHT+IE5AVO4TTH3SPkqXSLenbXEKkomyXg4F8TaZZlNFyJ/pAy6ocuw6K4xhcgAsP1eU0a7wkGwsXylkF3J X-Received: by 2002:a05:6122:310c:b0:531:312c:a715 with SMTP id 71dfb90a1353d-535d72c0a98mr3984853e0c.2.1752119687866; Wed, 09 Jul 2025 20:54:47 -0700 (PDT) Received: from postal.iol.unh.edu (postal.iol.unh.edu. [132.177.123.84]) by smtp-relay.gmail.com with ESMTPS id 71dfb90a1353d-535e73d3272sm29654e0c.10.2025.07.09.20.54.47 (version=TLS1_2 cipher=ECDHE-ECDSA-AES128-GCM-SHA256 bits=128/128); Wed, 09 Jul 2025 20:54:47 -0700 (PDT) X-Relaying-Domain: iol.unh.edu Date: Wed, 09 Jul 2025 20:54:47 -0700 (PDT) Message-ID: <686f3987.050a0220.27ca6b.1adeSMTPIN_ADDED_MISSING@mx.google.com> Received: from [172.21.0.6] (unknown [172.18.0.240]) by postal.iol.unh.edu (Postfix) with ESMTP id 867E66051830; Wed, 9 Jul 2025 23:54:47 -0400 (EDT) Subject: |SUCCESS| pw155090 [PATCH] examples/ipsec-secgw: fix number of queue From: dpdklab@iol.unh.edu To: Test Report Cc: dpdk-test-reports@iol.unh.edu In-Reply-To: <20250709082325.771994-1-vfialko@marvell.com> References: <20250709082325.771994-1-vfialko@marvell.com> Content-Type: text/plain X-BeenThere: test-report@dpdk.org X-Mailman-Version: 2.1.29 Precedence: list List-Id: automatic DPDK test reports List-Unsubscribe: , List-Archive: List-Post: List-Help: List-Subscribe: , Errors-To: test-report-bounces@dpdk.org Test-Label: iol-unit-amd64-testing Test-Status: SUCCESS http://dpdk.org/patch/155090 _Testing PASS_ Submitter: Volodymyr Fialko Date: Wednesday, July 09 2025 08:23:25 DPDK git baseline: Repo:dpdk Branch: master CommitID:9b298e79703a1343d388d059f4029813f11ac6ad 155090 --> testing pass Upstream job id: Generic-VM-Unit-Test-DPDK#29846 Test environment and result as below: +-------------------------------+----------------+ | Environment | dpdk_unit_test | +===============================+================+ | Debian GNU/Linux 12 | PASS | +-------------------------------+----------------+ | CentOS Stream 10 | PASS | +-------------------------------+----------------+ | Fedora Linux 40 | PASS | +-------------------------------+----------------+ | CentOS Stream 9 | PASS | +-------------------------------+----------------+ | Fedora Linux 41 | PASS | +-------------------------------+----------------+ | Ubuntu 20.04 | PASS | +-------------------------------+----------------+ | Red Hat Enterprise Linux 9.5 | PASS | +-------------------------------+----------------+ | Ubuntu 24.04 | PASS | +-------------------------------+----------------+ | Ubuntu 22.04 | PASS | +-------------------------------+----------------+ | Red Hat Enterprise Linux 8.10 | PASS | +-------------------------------+----------------+ | Windows Server 2022 | PASS | +-------------------------------+----------------+ Debian GNU/Linux 12 Kernel: 5.15 Compiler: gcc gcc (Debian 12.2.0-14+deb12u1) 12.2.0 CentOS Stream 10 Kernel: 5.15 Compiler: gcc gcc (GCC) 14.2.1 20250110 (Red Hat 14.2.1-8) Fedora Linux 40 Kernel: 5.15 Compiler: gcc gcc (GCC) 14.2.1 20240912 (Red Hat 14.2.1-3) CentOS Stream 9 Kernel: 5.15 Compiler: gcc gcc (GCC) 11.5.0 20240719 (Red Hat 11.5.0-7) Fedora Linux 41 Kernel: 5.15 Compiler: clang gcc (GCC) 14.3.1 20250523 (Red Hat 14.3.1-1) Ubuntu 20.04 Kernel: 5.15 Compiler: gcc gcc (Ubuntu 9.4.0-1ubuntu1~20.04.2) 9.4.0 Red Hat Enterprise Linux 9.5 Kernel: 5.15 Compiler: gcc gcc (GCC) 11.5.0 20240719 (Red Hat 11.5.0-2) Ubuntu 24.04 Kernel: 5.15 Compiler: gcc gcc (Ubuntu 13.3.0-6ubuntu2~24.04) 13.3.0 Ubuntu 22.04 Kernel: 5.15 Compiler: gcc gcc (Ubuntu 11.4.0-1ubuntu1~22.04) 11.4.0 Red Hat Enterprise Linux 8.10 Kernel: 5.15 Compiler: gcc gcc (GCC) 8.5.0 20210514 (Red Hat 8.5.0-22) Windows Server 2022 Kernel: 10.0.20348.2031 Compiler: clang 15.0.7, gcc 14.1.0 (MinGW), and MSVC VS 19.39.33521 To view detailed results, visit: https://lab.dpdk.org/results/dashboard/patchsets/33622/ UNH-IOL DPDK Community Lab To manage your email subscriptions, visit: https://lab.dpdk.org/results/dashboard/preferences/subscriptions/