From mboxrd@z Thu Jan 1 00:00:00 1970 Return-Path: Received: from mails.dpdk.org (mails.dpdk.org [217.70.189.124]) by inbox.dpdk.org (Postfix) with ESMTP id 4D21D46AE9 for ; Thu, 10 Jul 2025 05:55:52 +0200 (CEST) Received: from mails.dpdk.org (localhost [127.0.0.1]) by mails.dpdk.org (Postfix) with ESMTP id 44FE8402D1; Thu, 10 Jul 2025 05:55:52 +0200 (CEST) Received: from mail-ot1-f97.google.com (mail-ot1-f97.google.com [209.85.210.97]) by mails.dpdk.org (Postfix) with ESMTP id 98D8F402D1 for ; Thu, 10 Jul 2025 05:55:51 +0200 (CEST) Received: by mail-ot1-f97.google.com with SMTP id 46e09a7af769-73ce7b40d7aso327756a34.1 for ; Wed, 09 Jul 2025 20:55:51 -0700 (PDT) DKIM-Signature: v=1; a=rsa-sha256; c=relaxed/relaxed; d=iol.unh.edu; s=unh-iol; t=1752119751; x=1752724551; darn=dpdk.org; h=references:in-reply-to:cc:to:from:subject:message-id:date:from:to :cc:subject:date:message-id:reply-to; bh=1UW5ei8f3UY0bBQuoq5L/TkiD9yTsYjeEr2Myno+cxA=; b=EF1DG5zjVTRfv88UyErqdf0+/6uIzKwVgpA02ww4VLnO24YYau3i62hFEuw+dYIoi4 DyGrozWNQAAUEcZV4LoEdKBJloq7c9H32RMds2IRstyPa14GbMQQIXa0jL3xsjlqAuxy scuhLfaVcOUA/jJNIkIKo4YD+aU/fTU17uWgs= X-Google-DKIM-Signature: v=1; a=rsa-sha256; c=relaxed/relaxed; d=1e100.net; s=20230601; t=1752119751; x=1752724551; h=references:in-reply-to:cc:to:from:subject:message-id:date :x-gm-message-state:from:to:cc:subject:date:message-id:reply-to; bh=1UW5ei8f3UY0bBQuoq5L/TkiD9yTsYjeEr2Myno+cxA=; b=qYzNFWXsRYtBL2BPbu0QAzjY1fVOYkflGi8lWx5DbjkBsYA0jkztQIAQC+Uwdmbfmo ydgRkv4OYd+Rhe6tmOV/FpiCQZye8kbvfRtzGv6890kNgdFWmoMD29MvkKobw/r7Ia7Z lO9o3SMMD7Jp3gJsSuM7z9nlmZhGZgQHOfPXACPn6ryQpZZaydnnw8egm/14WTwDiKh8 JbBsULIXtA48PBdxWrDNdxdXtcYgzk3krU6YiFt1q4vlAE6J53/TFUbw+VQN/N3+MugD 6j+SPWXe/p3gz/3HQX0E+TFHvH/iGyD33B+3DucubLRvyZZsQwh7mGXTsGCbCEG5oqLS VJOQ== X-Gm-Message-State: AOJu0YwKW6i5xHCjNZdNMwTfJH0KMbk3XFIEOeRPKO8qynxeZoIHs6S3 ZyXPMgr7M5r2fLVvWjSgjKLVFsIjUN1m2dtDsJR6sWzvVOou51qJhlTAaX2QD1dFFp3KGYInST4 2jAuPAr2dUHXJyaM5QYpaOF0xaYuVw9UCPexrpzJOja33lPgcPLNHPpn+RwYa X-Gm-Gg: ASbGncuR1IITKme6sc9AIYVVB0cGZAgVgvOWVJDM+KiG2ZXZjmHgVTGsNycqV87AAPu uIxwLYNGza/fr5lGhTMeYRlmbou0Gr8zukyCV8gBcIIdWXDr4Zy8J5CzzqbcLzKb2d9u9IDUr94 HDO6eenM5CZ35FXjKOm6soH9AHWdx2JUiletplbf7nlHyxScgaMbKGEmg3N0UBQ5DaF+nwm5tfw B6VhFqpyl9O7pdQfc2As+V6yKKBN+LTSiB9RwWXJF+5c8/4Rl3ahkYUovcnLQYzHo/LgqrauLDM kIZCikz4BPIzgcn4Xk/T+NWCMzKXVxHuA47vEJwpwdgCf58= X-Google-Smtp-Source: AGHT+IHRLK2qeylO3sngcxCiw9g3zKd8KpqwvyQlJJDhJCuW0XECBEgTQZmtof1+36vpGdXWzd/ZxZFotklE X-Received: by 2002:a05:6830:264b:b0:73a:d3f6:8b22 with SMTP id 46e09a7af769-73ceeaf016cmr1451421a34.11.1752119750815; Wed, 09 Jul 2025 20:55:50 -0700 (PDT) Received: from postal.iol.unh.edu (postal.iol.unh.edu. [2606:4100:3880:1234::84]) by smtp-relay.gmail.com with ESMTPS id 46e09a7af769-73cf1127894sm3045a34.9.2025.07.09.20.55.50 (version=TLS1_2 cipher=ECDHE-ECDSA-AES128-GCM-SHA256 bits=128/128); Wed, 09 Jul 2025 20:55:50 -0700 (PDT) X-Relaying-Domain: iol.unh.edu Date: Wed, 09 Jul 2025 20:55:50 -0700 (PDT) Message-ID: <686f39c6.050a0220.301490.0243SMTPIN_ADDED_MISSING@mx.google.com> Received: from [172.21.0.5] (unknown [172.18.0.240]) by postal.iol.unh.edu (Postfix) with ESMTP id C20DC6051830; Wed, 9 Jul 2025 23:55:49 -0400 (EDT) Subject: |WARNING| pw155007 [PATCH] [v2,01/14] net/sxe: add base driver direc From: dpdklab@iol.unh.edu To: Test Report Cc: dpdk-test-reports@iol.unh.edu In-Reply-To: <20250704025401.301617-1-liujie5@linkdatatechnology.com> References: <20250704025401.301617-1-liujie5@linkdatatechnology.com> Content-Type: text/plain X-BeenThere: test-report@dpdk.org X-Mailman-Version: 2.1.29 Precedence: list List-Id: automatic DPDK test reports List-Unsubscribe: , List-Archive: List-Post: List-Help: List-Subscribe: , Errors-To: test-report-bounces@dpdk.org Test-Label: iol-compile-amd64-testing Test-Status: WARNING http://dpdk.org/patch/155007 _Testing issues_ Submitter: Jie Liu Date: Friday, July 04 2025 02:53:48 DPDK git baseline: Repo:dpdk Branch: master CommitID:7e6d6106a4ef052d6a2a6bd6e83c5b16a36c65c9 155007 --> testing issues Upstream job id: Windows-Compile-DPDK-Native#29701 Test environment and result as below: +-------------------------------+--------------------+-------------------+------------------+-------------------+-------------------------+----------------------+ | Environment | dpdk_meson_compile | dpdk_compile_spdk | dpdk_compile_ovs | dpdk_msvc_compile | dpdk_llvm_clang_compile | dpdk_mingw64_compile | +===============================+====================+===================+==================+===================+=========================+======================+ | CentOS Stream 9 | PASS | PASS | SKIPPED | SKIPPED | SKIPPED | SKIPPED | +-------------------------------+--------------------+-------------------+------------------+-------------------+-------------------------+----------------------+ | CentOS Stream 10 | PASS | SKIPPED | SKIPPED | SKIPPED | SKIPPED | SKIPPED | +-------------------------------+--------------------+-------------------+------------------+-------------------+-------------------------+----------------------+ | Debian GNU/Linux 12 | PASS | PASS | SKIPPED | SKIPPED | SKIPPED | SKIPPED | +-------------------------------+--------------------+-------------------+------------------+-------------------+-------------------------+----------------------+ | Fedora Linux 40 | PASS | PASS | SKIPPED | SKIPPED | SKIPPED | SKIPPED | +-------------------------------+--------------------+-------------------+------------------+-------------------+-------------------------+----------------------+ | Fedora Linux 41 | PASS | PASS | PASS | SKIPPED | SKIPPED | SKIPPED | +-------------------------------+--------------------+-------------------+------------------+-------------------+-------------------------+----------------------+ | Red Hat Enterprise Linux 8.10 | PASS | SKIPPED | SKIPPED | SKIPPED | SKIPPED | SKIPPED | +-------------------------------+--------------------+-------------------+------------------+-------------------+-------------------------+----------------------+ | openSUSE Leap 15.6 | PASS | SKIPPED | SKIPPED | SKIPPED | SKIPPED | SKIPPED | +-------------------------------+--------------------+-------------------+------------------+-------------------+-------------------------+----------------------+ | Red Hat Enterprise Linux 9.5 | PASS | SKIPPED | SKIPPED | SKIPPED | SKIPPED | SKIPPED | +-------------------------------+--------------------+-------------------+------------------+-------------------+-------------------------+----------------------+ | Ubuntu 20.04 | PASS | SKIPPED | SKIPPED | SKIPPED | SKIPPED | SKIPPED | +-------------------------------+--------------------+-------------------+------------------+-------------------+-------------------------+----------------------+ | Ubuntu 22.04 | PASS | PASS | SKIPPED | SKIPPED | SKIPPED | SKIPPED | +-------------------------------+--------------------+-------------------+------------------+-------------------+-------------------------+----------------------+ | Ubuntu 24.04 | PASS | PASS | PASS | SKIPPED | SKIPPED | SKIPPED | +-------------------------------+--------------------+-------------------+------------------+-------------------+-------------------------+----------------------+ | Alpine Linux 3.22.0 | PASS | SKIPPED | SKIPPED | SKIPPED | SKIPPED | SKIPPED | +-------------------------------+--------------------+-------------------+------------------+-------------------+-------------------------+----------------------+ | FreeBSD 14.2 | PASS | SKIPPED | SKIPPED | SKIPPED | SKIPPED | SKIPPED | +-------------------------------+--------------------+-------------------+------------------+-------------------+-------------------------+----------------------+ | Windows Server 2022 | SKIPPED | SKIPPED | SKIPPED | PASS | PASS | PASS | +-------------------------------+--------------------+-------------------+------------------+-------------------+-------------------------+----------------------+ CentOS Stream 9 Kernel: 5.15 Compiler: gcc gcc (GCC) 11.5.0 20240719 (Red Hat 11.5.0-7) CentOS Stream 10 Kernel: 5.15 Compiler: gcc gcc (GCC) 14.2.1 20250110 (Red Hat 14.2.1-8) Debian GNU/Linux 12 Kernel: 5.15 Compiler: gcc gcc (Debian 12.2.0-14+deb12u1) 12.2.0 Fedora Linux 40 Kernel: 5.15 Compiler: clang gcc (GCC) 14.2.1 20240912 (Red Hat 14.2.1-3) Fedora Linux 41 Kernel: 5.15 Compiler: clang gcc (GCC) 14.3.1 20250523 (Red Hat 14.3.1-1) Red Hat Enterprise Linux 8.10 Kernel: 5.15 Compiler: gcc gcc (GCC) 8.5.0 20210514 (Red Hat 8.5.0-22) openSUSE Leap 15.6 Kernel: 5.15 Compiler: gcc gcc (SUSE Linux) 7.5.0 Red Hat Enterprise Linux 9.5 Kernel: 5.15 Compiler: gcc gcc (GCC) 11.5.0 20240719 (Red Hat 11.5.0-2) Ubuntu 20.04 Kernel: 5.15 Compiler: gcc gcc (Ubuntu 9.4.0-1ubuntu1~20.04.2) 9.4.0 Ubuntu 22.04 Kernel: 5.15 Compiler: gcc gcc (Ubuntu 11.4.0-1ubuntu1~22.04) 11.4.0 Ubuntu 24.04 Kernel: 5.15 Compiler: gcc gcc (Ubuntu 13.3.0-6ubuntu2~24.04) 13.3.0 Alpine Linux 3.22.0 Kernel: 5.15 Compiler: gcc gcc (Alpine 14.2.0) 14.2.0 FreeBSD 14.2 Kernel: 14.2-RELEASE Compiler: clang 18.1.6 Windows Server 2022 Kernel: 10.0.20348.2031 Compiler: clang 15.0.7, gcc 14.1.0 (MinGW), and MSVC VS 19.39.33521 To view detailed results, visit: https://lab.dpdk.org/results/dashboard/patchsets/33590/ UNH-IOL DPDK Community Lab To manage your email subscriptions, visit: https://lab.dpdk.org/results/dashboard/preferences/subscriptions/