From mboxrd@z Thu Jan 1 00:00:00 1970 Return-Path: Received: from mails.dpdk.org (mails.dpdk.org [217.70.189.124]) by inbox.dpdk.org (Postfix) with ESMTP id 0C10B46AEA for ; Thu, 10 Jul 2025 06:02:51 +0200 (CEST) Received: from mails.dpdk.org (localhost [127.0.0.1]) by mails.dpdk.org (Postfix) with ESMTP id D6A5F402D1; Thu, 10 Jul 2025 06:02:50 +0200 (CEST) Received: from mail-oo1-f99.google.com (mail-oo1-f99.google.com [209.85.161.99]) by mails.dpdk.org (Postfix) with ESMTP id 01BC0402D1 for ; Thu, 10 Jul 2025 06:02:50 +0200 (CEST) Received: by mail-oo1-f99.google.com with SMTP id 006d021491bc7-60efc773b5fso333878eaf.3 for ; Wed, 09 Jul 2025 21:02:49 -0700 (PDT) DKIM-Signature: v=1; a=rsa-sha256; c=relaxed/relaxed; d=iol.unh.edu; s=unh-iol; t=1752120169; x=1752724969; darn=dpdk.org; h=references:in-reply-to:cc:to:from:subject:message-id:date:from:to :cc:subject:date:message-id:reply-to; bh=vkz857RTCh5BxahxUT0IoKrgmtq0O42pjoSqvysALRc=; b=eyI/roH+JAoAXJv3yUa/iWzS3XkKg51RrF7JcsA19+E0pbsDtNqZs+D55FcHgO3upm Rj2lKEMCeXQG0pG7kI3C5+2UXFXT86Gnpzy+6NbkKtmmQIfK0IvbG7YtvSi6kbGhQcM6 9w9lOSXAhKrZ/kKmJeV42sC7OZPHkIzwVHjXQ= X-Google-DKIM-Signature: v=1; a=rsa-sha256; c=relaxed/relaxed; d=1e100.net; s=20230601; t=1752120169; x=1752724969; h=references:in-reply-to:cc:to:from:subject:message-id:date :x-gm-message-state:from:to:cc:subject:date:message-id:reply-to; bh=vkz857RTCh5BxahxUT0IoKrgmtq0O42pjoSqvysALRc=; b=NLVE+duZLrkyznPwcG44ghT3V5EeW/obcTHlnC0vUeo3jYWz0ZxSTZONpihVPFT+hX jN0G4+qOCx/FsQ8zSsALaygu8kG9LBv8HG3lDtJJsjHUbBfKoH+AtTAmLUylcOU0TdR/ EGgbjYMPPLPcHZv4VvoPOvS6q3IvAcOm/wMHmZmZ8d45bvMIO3n6T1ZYTd5r/oJuSeTB TATnZ9dBBnYOyUxq3dhsNh914js8uB8UHS7iRWCvNs4Fa2AFNUi/sGmqgVp3q6uDZhWc CjTh2zi3L1spLz6q86H0aGv8zPEN5f/aBysouTK4z9PHRsFCNKORFzyxeKU8FyBqwVyd yNUA== X-Gm-Message-State: AOJu0YzAfqur0855gsX7bxcFopU7qp1COsPLD4JPMeCq/yYMSdv+vWJk s9M1lnAZX9LNv2QD5LfgPL/gKobT+zWATwGsrAL0b+0HpKk6FBrb4jySDmllEnPPrOvIp2V+Y0i qqnC1/3DJlQJx6BWkVObBqE77/PQA+4pTraEeAjnEBQTqVX2eBuysMCG2jRub X-Gm-Gg: ASbGncvQRZe6NvxjuVkKDoZBBP41fv2PqmY4pV4tKuil7pqwuqKHmyRGllxP+yhvu7t TY8jNqzDbFYMkb/xbn2KhSe4Jg4A1YuwZBaczgtpbb8zHGsvFK8nlwNejV+NyZ7tjOE3lmY7yhg pvI2j93NayjQQs8PXjgfKYcZ/6VgxXUogQnkOZnogseDf2mUqDwDdRsvf92VnxPVp+ImYnb5kfU pet/IM4D9hqNSc9wRjzF15QH0t/spWri8LR2NW617MaPamxHJOdHFb8LlpAHOD3tBihKv/0z+s2 gr+IZYh0JNI597YIDTE1ePg6shwMRQKIPn6iJ5nnsviICsU= X-Google-Smtp-Source: AGHT+IGO0m6/xBDtYKJnpbboAmLsDqjkD4JgC4u/XjR+Hn7wIo6rW9wSE4gX/80OxxILEwkN/SB8Ddw43f4b X-Received: by 2002:a05:6870:e40c:b0:2bc:8c4a:aac2 with SMTP id 586e51a60fabf-2fef875d724mr3785011fac.27.1752120169169; Wed, 09 Jul 2025 21:02:49 -0700 (PDT) Received: from postal.iol.unh.edu (postal.iol.unh.edu. [2606:4100:3880:1234::84]) by smtp-relay.gmail.com with ESMTPS id 586e51a60fabf-2ff11728623sm44879fac.33.2025.07.09.21.02.49 (version=TLS1_2 cipher=ECDHE-ECDSA-AES128-GCM-SHA256 bits=128/128); Wed, 09 Jul 2025 21:02:49 -0700 (PDT) X-Relaying-Domain: iol.unh.edu Date: Wed, 09 Jul 2025 21:02:49 -0700 (PDT) Message-ID: <686f3b69.050a0220.134533.2a63SMTPIN_ADDED_MISSING@mx.google.com> Received: from [172.21.0.6] (unknown [172.18.0.240]) by postal.iol.unh.edu (Postfix) with ESMTP id AAEAF6051830; Thu, 10 Jul 2025 00:02:48 -0400 (EDT) Subject: |SUCCESS| pw155090 [PATCH] examples/ipsec-secgw: fix number of queue From: dpdklab@iol.unh.edu To: Test Report Cc: dpdk-test-reports@iol.unh.edu In-Reply-To: <20250709082325.771994-1-vfialko@marvell.com> References: <20250709082325.771994-1-vfialko@marvell.com> Content-Type: text/plain X-BeenThere: test-report@dpdk.org X-Mailman-Version: 2.1.29 Precedence: list List-Id: automatic DPDK test reports List-Unsubscribe: , List-Archive: List-Post: List-Help: List-Subscribe: , Errors-To: test-report-bounces@dpdk.org Test-Label: iol-unit-amd64-testing Test-Status: SUCCESS http://dpdk.org/patch/155090 _Testing PASS_ Submitter: Volodymyr Fialko Date: Wednesday, July 09 2025 08:23:25 DPDK git baseline: Repo:dpdk Branch: master CommitID:9b298e79703a1343d388d059f4029813f11ac6ad 155090 --> testing pass Upstream job id: Generic-VM-Unit-Test-DPDK#29847 Test environment and result as below: +-------------------------------+----------------+ | Environment | dpdk_unit_test | +===============================+================+ | Debian GNU/Linux 12 | PASS | +-------------------------------+----------------+ | CentOS Stream 10 | PASS | +-------------------------------+----------------+ | Fedora Linux 40 | PASS | +-------------------------------+----------------+ | CentOS Stream 9 | PASS | +-------------------------------+----------------+ | Fedora Linux 41 | PASS | +-------------------------------+----------------+ | Ubuntu 20.04 | PASS | +-------------------------------+----------------+ | Red Hat Enterprise Linux 9.5 | PASS | +-------------------------------+----------------+ | Ubuntu 24.04 | PASS | +-------------------------------+----------------+ | Ubuntu 22.04 | PASS | +-------------------------------+----------------+ | Red Hat Enterprise Linux 8.10 | PASS | +-------------------------------+----------------+ | Windows Server 2022 | PASS | +-------------------------------+----------------+ Debian GNU/Linux 12 Kernel: 5.15 Compiler: gcc gcc (Debian 12.2.0-14+deb12u1) 12.2.0 CentOS Stream 10 Kernel: 5.15 Compiler: gcc gcc (GCC) 14.2.1 20250110 (Red Hat 14.2.1-8) Fedora Linux 40 Kernel: 5.15 Compiler: gcc gcc (GCC) 14.2.1 20240912 (Red Hat 14.2.1-3) CentOS Stream 9 Kernel: 5.15 Compiler: gcc gcc (GCC) 11.5.0 20240719 (Red Hat 11.5.0-7) Fedora Linux 41 Kernel: 5.15 Compiler: clang gcc (GCC) 14.3.1 20250523 (Red Hat 14.3.1-1) Ubuntu 20.04 Kernel: 5.15 Compiler: gcc gcc (Ubuntu 9.4.0-1ubuntu1~20.04.2) 9.4.0 Red Hat Enterprise Linux 9.5 Kernel: 5.15 Compiler: gcc gcc (GCC) 11.5.0 20240719 (Red Hat 11.5.0-2) Ubuntu 24.04 Kernel: 5.15 Compiler: gcc gcc (Ubuntu 13.3.0-6ubuntu2~24.04) 13.3.0 Ubuntu 22.04 Kernel: 5.15 Compiler: gcc gcc (Ubuntu 11.4.0-1ubuntu1~22.04) 11.4.0 Red Hat Enterprise Linux 8.10 Kernel: 5.15 Compiler: gcc gcc (GCC) 8.5.0 20210514 (Red Hat 8.5.0-22) Windows Server 2022 Kernel: 10.0.20348.2031 Compiler: clang 15.0.7, gcc 14.1.0 (MinGW), and MSVC VS 19.39.33521 To view detailed results, visit: https://lab.dpdk.org/results/dashboard/patchsets/33622/ UNH-IOL DPDK Community Lab To manage your email subscriptions, visit: https://lab.dpdk.org/results/dashboard/preferences/subscriptions/