From mboxrd@z Thu Jan 1 00:00:00 1970 Return-Path: Received: from mails.dpdk.org (mails.dpdk.org [217.70.189.124]) by inbox.dpdk.org (Postfix) with ESMTP id CF1DB46AEA for ; Thu, 10 Jul 2025 06:13:14 +0200 (CEST) Received: from mails.dpdk.org (localhost [127.0.0.1]) by mails.dpdk.org (Postfix) with ESMTP id C4B33402D1; Thu, 10 Jul 2025 06:13:14 +0200 (CEST) Received: from mail-qv1-f99.google.com (mail-qv1-f99.google.com [209.85.219.99]) by mails.dpdk.org (Postfix) with ESMTP id 45ADC402D1 for ; Thu, 10 Jul 2025 06:13:13 +0200 (CEST) Received: by mail-qv1-f99.google.com with SMTP id 6a1803df08f44-6fafdd322d3so6556586d6.3 for ; Wed, 09 Jul 2025 21:13:13 -0700 (PDT) DKIM-Signature: v=1; a=rsa-sha256; c=relaxed/relaxed; d=iol.unh.edu; s=unh-iol; t=1752120792; x=1752725592; darn=dpdk.org; h=references:in-reply-to:cc:to:from:subject:message-id:date:from:to :cc:subject:date:message-id:reply-to; bh=3+TLu0CBFnWdPccxcHhs02UthuRTKrpiWM3iQCNS/bo=; b=QYxodyEVjAMQC+Yyzigvb+x7J0tptqlkGztFNx0kHjreCc7vPBZuf7WejiJOTJC/YH +SmuCMEbeGMS0VMcPRFqu1gQd1tmI+QkUvh82l8VeuWOWYJ5/IGzZ5BDZ6SCU9JH8oRs lRfAoFwn1bbB9MAUkJys7SwFC35/C+ksQoCcM= X-Google-DKIM-Signature: v=1; a=rsa-sha256; c=relaxed/relaxed; d=1e100.net; s=20230601; t=1752120792; x=1752725592; h=references:in-reply-to:cc:to:from:subject:message-id:date :x-gm-message-state:from:to:cc:subject:date:message-id:reply-to; bh=3+TLu0CBFnWdPccxcHhs02UthuRTKrpiWM3iQCNS/bo=; b=XeedXCWV2DDa18BCUK1eOHosZZT3XMHXkt9xnm0Gnd+5P6ze1ruOhmYWqpfMABKM0D edFNLWf+RPUAT/nXChWZlcfDW2Y3GvzlhR70+k5RZ/Ny97pvTMbI5DzolzQ4jpggGAfd /iAh0AwnpsLlCvgfzwyj5ak/UIR09kkacxj4GyG5wt/lLYy8QDcDQct6RZljU++ZOMIi TbxBw/FcmZdJKbM9oNxb2gGWBjHbyHVHKSiHkDbxrBX0YdP7YrKPFCYJUT0s9E2czx97 qrQB5jnj7VU4a59QJNs++lPIcJJNzSrkM/yFSYi26Zy32LaQJCqKQhe1S7wasCuYvBuY oEHw== X-Gm-Message-State: AOJu0YzdDkMLQ+k/Rs6rJDpPAagXOuwIrVpmvdYI+MW3uISwjw3DgiR5 Z6v1fsl7L4G4S7vLraClxoRUeH4boWP6Ay/LccqFvFafI5vg3me6W5kMJ8g4gPDRmTwRjezFLFC t6v2xDt0Fjbq4yjGQALarjZw/Cplf79afL5+Mrh8q0CTYerydfwpO4867jUmO X-Gm-Gg: ASbGncvOO0snIyAA7qCiPaNGxXgbRu4nWnEITXqd71qKRD0npEiRHKF9VDwdNzhXce8 n6V2h0M5tG60jkSRdSTakH9bfoRtxpi7NRXNbs9lct4p/0sDrMftpe2n3OjQZyvIAfhVvQt9E9/ ILiRCRawpvBciB4+WVTdP8g4aUILcGaJrTzTPaQNBAsdGMbMCvE4cAAHTvbTK+M7Bn5Qy1WVnYS yQfgYdI23g0VOUiChrvIc1dFD8zAqn9BUwHWA2XJprG5Y8kvXnh8AhoNcdxEfTjGy+mEOZ72iWn 3ei988RnnNZGTU+/Qbb36KZGvwiPQdoCVwTR/jJZCtH+lmE= X-Google-Smtp-Source: AGHT+IGsNtXCC4I78z5LYBPAAFapLQuaQ6mkBOqWqaz9omvyu6i2I4FUKX8K6BMzx8c2Y5h9WiQZfbnkIcCY X-Received: by 2002:ad4:5dec:0:b0:702:f45a:3fee with SMTP id 6a1803df08f44-7049802a781mr18632546d6.8.1752120792543; Wed, 09 Jul 2025 21:13:12 -0700 (PDT) Received: from postal.iol.unh.edu (postal.iol.unh.edu. [2606:4100:3880:1234::84]) by smtp-relay.gmail.com with ESMTPS id 6a1803df08f44-704979d1284sm323416d6.25.2025.07.09.21.13.12 (version=TLS1_2 cipher=ECDHE-ECDSA-AES128-GCM-SHA256 bits=128/128); Wed, 09 Jul 2025 21:13:12 -0700 (PDT) X-Relaying-Domain: iol.unh.edu Date: Wed, 09 Jul 2025 21:13:12 -0700 (PDT) Message-ID: <686f3dd8.d40a0220.335b60.1d5bSMTPIN_ADDED_MISSING@mx.google.com> Received: from [172.21.0.5] (unknown [172.18.0.240]) by postal.iol.unh.edu (Postfix) with ESMTP id 394C96051830; Thu, 10 Jul 2025 00:13:12 -0400 (EDT) Subject: |WARNING| pw155011 [PATCH] app/testpmd: allow multiple cmdline-file From: dpdklab@iol.unh.edu To: Test Report Cc: dpdk-test-reports@iol.unh.edu In-Reply-To: <20250704140551.4151993-1-bruce.richardson@intel.com> References: <20250704140551.4151993-1-bruce.richardson@intel.com> Content-Type: text/plain X-BeenThere: test-report@dpdk.org X-Mailman-Version: 2.1.29 Precedence: list List-Id: automatic DPDK test reports List-Unsubscribe: , List-Archive: List-Post: List-Help: List-Subscribe: , Errors-To: test-report-bounces@dpdk.org Test-Label: iol-compile-amd64-testing Test-Status: WARNING http://dpdk.org/patch/155011 _Testing issues_ Submitter: Bruce Richardson Date: Friday, July 04 2025 14:05:51 DPDK git baseline: Repo:dpdk Branch: master CommitID:ba982f9a1ca9b96ed0394b764f1523d482e963a2 155011 --> testing issues Upstream job id: Windows-Compile-DPDK-Native#29704 Test environment and result as below: +-------------------------------+--------------------+-------------------+------------------+-------------------+-------------------------+ | Environment | dpdk_meson_compile | dpdk_compile_spdk | dpdk_compile_ovs | dpdk_msvc_compile | dpdk_llvm_clang_compile | +===============================+====================+===================+==================+===================+=========================+ | CentOS Stream 9 | PASS | PASS | SKIPPED | SKIPPED | SKIPPED | +-------------------------------+--------------------+-------------------+------------------+-------------------+-------------------------+ | CentOS Stream 10 | PASS | SKIPPED | SKIPPED | SKIPPED | SKIPPED | +-------------------------------+--------------------+-------------------+------------------+-------------------+-------------------------+ | Debian GNU/Linux 12 | PASS | PASS | SKIPPED | SKIPPED | SKIPPED | +-------------------------------+--------------------+-------------------+------------------+-------------------+-------------------------+ | Fedora Linux 40 | PASS | PASS | SKIPPED | SKIPPED | SKIPPED | +-------------------------------+--------------------+-------------------+------------------+-------------------+-------------------------+ | Fedora Linux 41 | PASS | PASS | PASS | SKIPPED | SKIPPED | +-------------------------------+--------------------+-------------------+------------------+-------------------+-------------------------+ | openSUSE Leap 15.6 | PASS | SKIPPED | SKIPPED | SKIPPED | SKIPPED | +-------------------------------+--------------------+-------------------+------------------+-------------------+-------------------------+ | Red Hat Enterprise Linux 9.5 | PASS | SKIPPED | SKIPPED | SKIPPED | SKIPPED | +-------------------------------+--------------------+-------------------+------------------+-------------------+-------------------------+ | Ubuntu 20.04 | PASS | SKIPPED | SKIPPED | SKIPPED | SKIPPED | +-------------------------------+--------------------+-------------------+------------------+-------------------+-------------------------+ | Ubuntu 22.04 | PASS | PASS | SKIPPED | SKIPPED | SKIPPED | +-------------------------------+--------------------+-------------------+------------------+-------------------+-------------------------+ | FreeBSD 14.2 | PASS | SKIPPED | SKIPPED | SKIPPED | SKIPPED | +-------------------------------+--------------------+-------------------+------------------+-------------------+-------------------------+ | Ubuntu 24.04 | PASS | SKIPPED | SKIPPED | SKIPPED | SKIPPED | +-------------------------------+--------------------+-------------------+------------------+-------------------+-------------------------+ | Alpine Linux 3.22.0 | PASS | SKIPPED | SKIPPED | SKIPPED | SKIPPED | +-------------------------------+--------------------+-------------------+------------------+-------------------+-------------------------+ | Red Hat Enterprise Linux 8.10 | PASS | SKIPPED | SKIPPED | SKIPPED | SKIPPED | +-------------------------------+--------------------+-------------------+------------------+-------------------+-------------------------+ | Windows Server 2022 | SKIPPED | SKIPPED | SKIPPED | PASS | PASS | +-------------------------------+--------------------+-------------------+------------------+-------------------+-------------------------+ CentOS Stream 9 Kernel: 5.15 Compiler: gcc gcc (GCC) 11.5.0 20240719 (Red Hat 11.5.0-7) CentOS Stream 10 Kernel: 5.15 Compiler: gcc gcc (GCC) 14.2.1 20250110 (Red Hat 14.2.1-8) Debian GNU/Linux 12 Kernel: 5.15 Compiler: gcc gcc (Debian 12.2.0-14+deb12u1) 12.2.0 Fedora Linux 40 Kernel: 5.15 Compiler: clang gcc (GCC) 14.2.1 20240912 (Red Hat 14.2.1-3) Fedora Linux 41 Kernel: 5.15 Compiler: clang gcc (GCC) 14.3.1 20250523 (Red Hat 14.3.1-1) openSUSE Leap 15.6 Kernel: 5.15 Compiler: gcc gcc (SUSE Linux) 7.5.0 Red Hat Enterprise Linux 9.5 Kernel: 5.15 Compiler: gcc gcc (GCC) 11.5.0 20240719 (Red Hat 11.5.0-2) Ubuntu 20.04 Kernel: 5.15 Compiler: gcc gcc (Ubuntu 9.4.0-1ubuntu1~20.04.2) 9.4.0 Ubuntu 22.04 Kernel: 5.15 Compiler: gcc gcc (Ubuntu 11.4.0-1ubuntu1~22.04) 11.4.0 FreeBSD 14.2 Kernel: 14.2-RELEASE Compiler: clang 18.1.6 Ubuntu 24.04 Kernel: 5.15 Compiler: gcc gcc (Ubuntu 13.3.0-6ubuntu2~24.04) 13.3.0 Alpine Linux 3.22.0 Kernel: 5.15 Compiler: gcc gcc (Alpine 14.2.0) 14.2.0 Red Hat Enterprise Linux 8.10 Kernel: 5.15 Compiler: gcc gcc (GCC) 8.5.0 20210514 (Red Hat 8.5.0-22) Windows Server 2022 Kernel: 10.0.20348.2031 Compiler: clang 15.0.7, gcc 14.1.0 (MinGW), and MSVC VS 19.39.33521 To view detailed results, visit: https://lab.dpdk.org/results/dashboard/patchsets/33594/ UNH-IOL DPDK Community Lab To manage your email subscriptions, visit: https://lab.dpdk.org/results/dashboard/preferences/subscriptions/