From mboxrd@z Thu Jan 1 00:00:00 1970 Return-Path: Received: from mails.dpdk.org (mails.dpdk.org [217.70.189.124]) by inbox.dpdk.org (Postfix) with ESMTP id BEF6246AEA for ; Thu, 10 Jul 2025 06:22:15 +0200 (CEST) Received: from mails.dpdk.org (localhost [127.0.0.1]) by mails.dpdk.org (Postfix) with ESMTP id 98783402D1; Thu, 10 Jul 2025 06:22:15 +0200 (CEST) Received: from mail-pg1-f227.google.com (mail-pg1-f227.google.com [209.85.215.227]) by mails.dpdk.org (Postfix) with ESMTP id 601CC402D1 for ; Thu, 10 Jul 2025 06:22:14 +0200 (CEST) Received: by mail-pg1-f227.google.com with SMTP id 41be03b00d2f7-af51596da56so538783a12.0 for ; Wed, 09 Jul 2025 21:22:14 -0700 (PDT) DKIM-Signature: v=1; a=rsa-sha256; c=relaxed/relaxed; d=iol.unh.edu; s=unh-iol; t=1752121333; x=1752726133; darn=dpdk.org; h=references:in-reply-to:cc:to:from:subject:message-id:date:from:to :cc:subject:date:message-id:reply-to; bh=0HSHjftGehZwJsky2zns0jCMVrvAitXAEMT7xQE2DwY=; b=KfwJoD4uEulXeMQ/qoYD+iDmGo0UGI6znLH64N+JXsQm8kvN6fQzJW7SpUrcCfLTD5 EDn9JNpk9SSZiycmVcCMMoVtkMlsx8hxP4d6Z3B9ae63ETyeTeYtqGiX7LJ6iTLneFGU BlQZh26hbJ9UIkxx7V9ecfC9+i21Mt2w94LQI= X-Google-DKIM-Signature: v=1; a=rsa-sha256; c=relaxed/relaxed; d=1e100.net; s=20230601; t=1752121333; x=1752726133; h=references:in-reply-to:cc:to:from:subject:message-id:date :x-gm-message-state:from:to:cc:subject:date:message-id:reply-to; bh=0HSHjftGehZwJsky2zns0jCMVrvAitXAEMT7xQE2DwY=; b=rT7OGoyygN80Orx1Z/X+ChrFj1NqjTYNcO4KBJkVfhgzvdMMN+u76aMmNewWR27pBg 7r1Cocr15sf7oabwOYxaGWCFpb6+jvfav8FnQgwRtxChIKa00Ivfp5sRN9ZLVL09UwyY 2C1oucw7lcCw+eyn60Wf7EGLkm1hunM517mQejcEKr6b1k9p9r2O7UB8HHERpJE925NO LrFgta1DsA46PWZ3fNqiZgukOOzz31MCLEuXBYJN6cHCw1nQ21O8/k2mVNBEDXtVh4n+ 6UjiG93dtbJJ7Hh5p7K1mOUpf6uDqPazbXYbzd5sK9a3xa/M2zPmQsYoR17ajDcPOfCv Cubw== X-Gm-Message-State: AOJu0YxZy795rEqNwhX2ekpoUQ7lbfcFuDXy9wMX+lJX/ksjRn0WWpiD s+5UfY4sfegU8fBkzqAG+Al6baqaUY1/Jb3AGKpxgdYCVAQTYiZYjNcp2iUNFtpeJSbEoHX/hYu VUb8fnUVdQEJuHxYaolAFEm7ZnUskiDCOhkog5of8PabH X-Gm-Gg: ASbGncvJ9re+lE4iE2g8fgZT8DiHOEEDBnMZ/kp2BBf7EtmJypNSaiQuKnXPduvJb3A Y8vAirM96agCanMUZp9WICaW7srhPKhUsDAwql/lmDXgYnBK1Es59oN0IJGW88GjbhbpLGQB5j9 ZJLr3J9AL6E1bZ8q/8ZgyylaLduc632Uc8+I9cUZX66fjfG8vaS4m0e6FBx7NmE4BuskEfqCDFA l3IyI5qEklSXdrcodzSwkXImjl6aj3BAy8twNdbA1rTGSjlSu/ZP5ufAojFtegEc4S9H3sbiywr 76QrGI568ARJZ1tGb+9eqixkbtmotI8jqr7cvdtA5yk+MqVZWDNhZqUMo5PaXCuFUyhp2A== X-Google-Smtp-Source: AGHT+IGmwyne+pTqguSykl6RPhLGFNd3DTCjSRuPoQ2Su6dBU+NFaIYaoYlwyKY43BZrkipvam1wqovXtzfm X-Received: by 2002:a17:903:22cb:b0:235:225d:3098 with SMTP id d9443c01a7336-23de48a04f8mr17314645ad.46.1752121333340; Wed, 09 Jul 2025 21:22:13 -0700 (PDT) Received: from postal.iol.unh.edu (postal.iol.unh.edu. [132.177.123.84]) by smtp-relay.gmail.com with ESMTPS id d9443c01a7336-23de42a4eb9sm338315ad.49.2025.07.09.21.22.13 (version=TLS1_2 cipher=ECDHE-ECDSA-AES128-GCM-SHA256 bits=128/128); Wed, 09 Jul 2025 21:22:13 -0700 (PDT) X-Relaying-Domain: iol.unh.edu Date: Wed, 09 Jul 2025 21:22:13 -0700 (PDT) Message-ID: <686f3ff5.170a0220.27314f.1e40SMTPIN_ADDED_MISSING@mx.google.com> Received: from [172.21.0.5] (unknown [172.18.0.240]) by postal.iol.unh.edu (Postfix) with ESMTP id 24BD16051830; Thu, 10 Jul 2025 00:22:12 -0400 (EDT) Subject: |SUCCESS| pw155106 [PATCH] net/mlx5: fix panic for non template age From: dpdklab@iol.unh.edu To: Test Report Cc: dpdk-test-reports@iol.unh.edu In-Reply-To: <20250709102508.229287-1-mkashani@nvidia.com> References: <20250709102508.229287-1-mkashani@nvidia.com> Content-Type: text/plain X-BeenThere: test-report@dpdk.org X-Mailman-Version: 2.1.29 Precedence: list List-Id: automatic DPDK test reports List-Unsubscribe: , List-Archive: List-Post: List-Help: List-Subscribe: , Errors-To: test-report-bounces@dpdk.org Test-Label: iol-unit-amd64-testing Test-Status: SUCCESS http://dpdk.org/patch/155106 _Testing PASS_ Submitter: Maayan Kashani Date: Wednesday, July 09 2025 10:25:07 DPDK git baseline: Repo:dpdk Branch: master CommitID:6d828a3e774829165137aa2713e3040edd7f46bf 155106 --> testing pass Upstream job id: Generic-VM-Unit-Test-DPDK#29848 Test environment and result as below: +-------------------------------+----------------+ | Environment | dpdk_unit_test | +===============================+================+ | CentOS Stream 9 | PASS | +-------------------------------+----------------+ | Debian GNU/Linux 12 | PASS | +-------------------------------+----------------+ | CentOS Stream 10 | PASS | +-------------------------------+----------------+ | Red Hat Enterprise Linux 9.5 | PASS | +-------------------------------+----------------+ | Fedora Linux 41 | PASS | +-------------------------------+----------------+ | Ubuntu 20.04 | PASS | +-------------------------------+----------------+ | Fedora Linux 40 | PASS | +-------------------------------+----------------+ | Ubuntu 24.04 | PASS | +-------------------------------+----------------+ | Red Hat Enterprise Linux 8.10 | PASS | +-------------------------------+----------------+ | Ubuntu 22.04 | PASS | +-------------------------------+----------------+ | Windows Server 2022 | PASS | +-------------------------------+----------------+ CentOS Stream 9 Kernel: 5.15 Compiler: gcc gcc (GCC) 11.5.0 20240719 (Red Hat 11.5.0-7) Debian GNU/Linux 12 Kernel: 5.15 Compiler: gcc gcc (Debian 12.2.0-14+deb12u1) 12.2.0 CentOS Stream 10 Kernel: 5.15 Compiler: gcc gcc (GCC) 14.2.1 20250110 (Red Hat 14.2.1-8) Red Hat Enterprise Linux 9.5 Kernel: 5.15 Compiler: gcc gcc (GCC) 11.5.0 20240719 (Red Hat 11.5.0-2) Fedora Linux 41 Kernel: 5.15 Compiler: clang gcc (GCC) 14.3.1 20250523 (Red Hat 14.3.1-1) Ubuntu 20.04 Kernel: 5.15 Compiler: gcc gcc (Ubuntu 9.4.0-1ubuntu1~20.04.2) 9.4.0 Fedora Linux 40 Kernel: 5.15 Compiler: clang gcc (GCC) 14.2.1 20240912 (Red Hat 14.2.1-3) Ubuntu 24.04 Kernel: 5.15 Compiler: gcc gcc (Ubuntu 13.3.0-6ubuntu2~24.04) 13.3.0 Red Hat Enterprise Linux 8.10 Kernel: 5.15 Compiler: gcc gcc (GCC) 8.5.0 20210514 (Red Hat 8.5.0-22) Ubuntu 22.04 Kernel: 5.15 Compiler: gcc gcc (Ubuntu 11.4.0-1ubuntu1~22.04) 11.4.0 Windows Server 2022 Kernel: 10.0.20348.2031 Compiler: clang 15.0.7, gcc 14.1.0 (MinGW), and MSVC VS 19.39.33521 To view detailed results, visit: https://lab.dpdk.org/results/dashboard/patchsets/33625/ UNH-IOL DPDK Community Lab To manage your email subscriptions, visit: https://lab.dpdk.org/results/dashboard/preferences/subscriptions/