From mboxrd@z Thu Jan 1 00:00:00 1970 Return-Path: Received: from mails.dpdk.org (mails.dpdk.org [217.70.189.124]) by inbox.dpdk.org (Postfix) with ESMTP id 6A24046AEA for ; Thu, 10 Jul 2025 06:55:45 +0200 (CEST) Received: from mails.dpdk.org (localhost [127.0.0.1]) by mails.dpdk.org (Postfix) with ESMTP id 425CE402D1; Thu, 10 Jul 2025 06:55:45 +0200 (CEST) Received: from mail-qv1-f100.google.com (mail-qv1-f100.google.com [209.85.219.100]) by mails.dpdk.org (Postfix) with ESMTP id BA418402D1 for ; Thu, 10 Jul 2025 06:55:43 +0200 (CEST) Received: by mail-qv1-f100.google.com with SMTP id 6a1803df08f44-6fd0a91ae98so4083926d6.1 for ; Wed, 09 Jul 2025 21:55:43 -0700 (PDT) DKIM-Signature: v=1; a=rsa-sha256; c=relaxed/relaxed; d=iol.unh.edu; s=unh-iol; t=1752123343; x=1752728143; darn=dpdk.org; h=cc:to:from:subject:message-id:date:from:to:cc:subject:date :message-id:reply-to; bh=K5fhxDzG7I3ElMrSZ9RjxgsDYwurc3pmuoM+xkUf/ZE=; b=Xcrh6jYBmkDu4WQvjjHvH+gdInAJm5QEyOkM+zWRYZuOfmil5FDxao01HmsyPBQsp4 TH61wYFlXDRQdFk2EvXwxobSHRRqxxb04N62cKOz/yA21pmgwFQJAh+XywhJhRZBHyid 9u+77kVqP0e1Plitci3hTRhgC2urvZwuFtebs= X-Google-DKIM-Signature: v=1; a=rsa-sha256; c=relaxed/relaxed; d=1e100.net; s=20230601; t=1752123343; x=1752728143; h=cc:to:from:subject:message-id:date:x-gm-message-state:from:to:cc :subject:date:message-id:reply-to; bh=K5fhxDzG7I3ElMrSZ9RjxgsDYwurc3pmuoM+xkUf/ZE=; b=vdhkql0cer6GB/h5UA4qnGJEwIv0C9vGyISgSbnKdeMbGkOgSnizfkePHczbAXRFdK 9f8dj491ISx490oPuyekFHfycdvRX/pE/H8bauMWSyXfAVqoo1z0Ks8nB2MvI9rQCDjV lpT17yub4RzPJApTzKgt7TZDjk+cvJY63zUntL3Md5oaVs2zX7ZaMQPZnwQXObk/90pk 8PMYSIrihEqSJIgdOzCgIynIUdfLKwmjOP61nNgN/JZ03KbIa64th4HtL8KZtvaXFRdp aX9/de8xdpkeeHIwYB1gMj1h7EvgOn8lpMKt8jo3T2vhHKF4BPCJ7IMfev53CpN61098 rWiQ== X-Gm-Message-State: AOJu0Yz4kcaIbRqVOK1bfQoqd0G4dxBdJxNgh9sWymsTmTYWJudRMXNc Obt8hwNPzlpShGMLZTX/UDDHadE/oT0bxIuITu7z3wVgtBru4WaSb3Cqv505cdDDiNCmxwNswaS oj0VQBPaEN2YoQ4ONg1CbCyZPiLC/ZeIx3cvgVFpppF1O X-Gm-Gg: ASbGnctNlSQiFwnKogq55JcjLd2z/PuATLn+bBJ6e9QKUcquYVBIRbta7mAqEuiCtxx FeK7rs8/ffAMcQXiyD5OHGHZNhcwDPTpxs6aWufe4p9UFXzB5HQ2ALyTgI0oxZeccl+CqVd5ABn Nh74zh2lz9TNStWtKUMKfOnQX/KP36SB3Nhd9dl5nTbNMQsBHD0JeGRkA5IE85TTArOstADqIGd 4xtaid6U++4iSnTy1528A34pmOwCvMXDj3rG9TwDEtFde4Z0i2x7duxeM4NE4xdSv03xEN+GLly AVFStHjG+CdAZl3mO2BcirRThtUs/Rl7tnT/0CAqjaLNMjSxnDfs07zix0MyOfsa+c3S0Q== X-Google-Smtp-Source: AGHT+IG2zUIk/IX5FVljb6g1GAatJdybJKpZZK7xpf6zdSsKMCDjFNHdCujh0D+RYFWeB8o88gE0iv3WspaJ X-Received: by 2002:a05:6214:3387:b0:6fd:74d4:b6 with SMTP id 6a1803df08f44-7049811ff5fmr17222716d6.28.1752123343082; Wed, 09 Jul 2025 21:55:43 -0700 (PDT) Received: from postal.iol.unh.edu (postal.iol.unh.edu. [132.177.123.84]) by smtp-relay.gmail.com with ESMTPS id 6a1803df08f44-70497dcd50csm313326d6.68.2025.07.09.21.55.43 (version=TLS1_2 cipher=ECDHE-ECDSA-AES128-GCM-SHA256 bits=128/128); Wed, 09 Jul 2025 21:55:43 -0700 (PDT) X-Relaying-Domain: iol.unh.edu Date: Wed, 09 Jul 2025 21:55:43 -0700 (PDT) Message-ID: <686f47cf.050a0220.302f45.1afcSMTPIN_ADDED_MISSING@mx.google.com> Received: from [172.21.0.5] (unknown [172.18.0.240]) by postal.iol.unh.edu (Postfix) with ESMTP id CDAF46051830; Thu, 10 Jul 2025 00:55:42 -0400 (EDT) Subject: |SUCCESS| [GIT MASTER] 9fe9c0b231c8da5435bfccb1963121b4277f961c From: dpdklab@iol.unh.edu To: Test Report Cc: dpdk-test-reports@iol.unh.edu Content-Type: text/plain X-BeenThere: test-report@dpdk.org X-Mailman-Version: 2.1.29 Precedence: list List-Id: automatic DPDK test reports List-Unsubscribe: , List-Archive: List-Post: List-Help: List-Subscribe: , Errors-To: test-report-bounces@dpdk.org _Testing PASS_ Branch: dpdk 9fe9c0b231c8da5435bfccb1963121b4277f961c --> testing pass Upstream job id: Generic-DPDK-Compile-Meson#407572 Test environment and result as below: +------------------------------+--------------------+ | Environment | dpdk_meson_compile | +==============================+====================+ | Red Hat Enterprise Linux 9.5 | PASS | +------------------------------+--------------------+ | Ubuntu 20.04 | PASS | +------------------------------+--------------------+ | Debian GNU/Linux 12 | PASS | +------------------------------+--------------------+ | Fedora Linux 40 | PASS | +------------------------------+--------------------+ | Fedora Linux 41 | PASS | +------------------------------+--------------------+ | Ubuntu 22.04 | PASS | +------------------------------+--------------------+ | Ubuntu 24.04 | PASS | +------------------------------+--------------------+ | CentOS Stream 9 | PASS | +------------------------------+--------------------+ | CentOS Stream 10 | PASS | +------------------------------+--------------------+ Red Hat Enterprise Linux 9.5 Kernel: 5.4 Compiler: gcc gcc (GCC) 11.5.0 20240719 (Red Hat 11.5.0-2) Ubuntu 20.04 Kernel: 5.15 Compiler: aarch64-linux-gnu-gcc gcc (Ubuntu 9.4.0-1ubuntu1~20.04.2) 9.4.0 Debian GNU/Linux 12 Kernel: 5.4 Compiler: gcc gcc (Debian 12.2.0-14+deb12u1) 12.2.0 Fedora Linux 40 Kernel: 5.4 Compiler: gcc gcc (GCC) 14.2.1 20240912 (Red Hat 14.2.1-3) Fedora Linux 41 Kernel: 5.4 Compiler: clang gcc (GCC) 14.3.1 20250523 (Red Hat 14.3.1-1) Ubuntu 22.04 Kernel: 5.4 Compiler: gcc gcc (Ubuntu 11.4.0-1ubuntu1~22.04) 11.4.0 Ubuntu 24.04 Kernel: 5.4 Compiler: gcc gcc (Ubuntu 13.3.0-6ubuntu2~24.04) 13.3.0 CentOS Stream 9 Kernel: 5.4 Compiler: gcc gcc (GCC) 11.5.0 20240719 (Red Hat 11.5.0-7) CentOS Stream 10 Kernel: 5.4 Compiler: gcc gcc (GCC) 14.2.1 20250110 (Red Hat 14.2.1-8) To view detailed results, visit: https://lab.dpdk.org/results/dashboard/tarballs/34221/ UNH-IOL DPDK Community Lab To manage your email subscriptions, visit: https://lab.dpdk.org/results/dashboard/preferences/subscriptions/