From mboxrd@z Thu Jan 1 00:00:00 1970 Return-Path: Received: from mails.dpdk.org (mails.dpdk.org [217.70.189.124]) by inbox.dpdk.org (Postfix) with ESMTP id 7BB6D46AEA for ; Thu, 10 Jul 2025 07:09:36 +0200 (CEST) Received: from mails.dpdk.org (localhost [127.0.0.1]) by mails.dpdk.org (Postfix) with ESMTP id 66DF8402D1; Thu, 10 Jul 2025 07:09:36 +0200 (CEST) Received: from mail-pl1-f227.google.com (mail-pl1-f227.google.com [209.85.214.227]) by mails.dpdk.org (Postfix) with ESMTP id 0E993402D1 for ; Thu, 10 Jul 2025 07:09:35 +0200 (CEST) Received: by mail-pl1-f227.google.com with SMTP id d9443c01a7336-2353a2bc210so6299045ad.2 for ; Wed, 09 Jul 2025 22:09:34 -0700 (PDT) DKIM-Signature: v=1; a=rsa-sha256; c=relaxed/relaxed; d=iol.unh.edu; s=unh-iol; t=1752124174; x=1752728974; darn=dpdk.org; h=references:in-reply-to:cc:to:from:subject:message-id:date:from:to :cc:subject:date:message-id:reply-to; bh=DoAemlu4l6LizTNuP9K37kaavKF7prt6Gqyf33bmKnk=; b=C0/hcvg1yRZjd1rdxSqGQB93Gs0tjHLZtllYrTfCUNUajNjt7X9OKGM/u7w8jwhcN/ Bw/7YsR2coyqT1TQeKnDfC9iGV2FokJazVh1OTQff+0uLV0GzDxF9KZ7DdBXo8Gn6e/4 YkiaaQJDetGNnJphm+jeNYEMXiSjXrpR6VQgI= X-Google-DKIM-Signature: v=1; a=rsa-sha256; c=relaxed/relaxed; d=1e100.net; s=20230601; t=1752124174; x=1752728974; h=references:in-reply-to:cc:to:from:subject:message-id:date :x-gm-message-state:from:to:cc:subject:date:message-id:reply-to; bh=DoAemlu4l6LizTNuP9K37kaavKF7prt6Gqyf33bmKnk=; b=eEC/tpuEaw6/0gb91DHmeTaJRUJrsGFodDMtGmUnU2FiR0Y06of2NkK52078VVoEbB IZ4HNRfNuRN5AvVP33Z/bPTCHdlX6Knh5CQWeXLbLbaZnhh01I2WXDYrTwJyVA9fNGt1 A3+4ikkoGQr67ouhIiCQSB12DOYYkzy33uHwijXAH6zIdtsjZAVzMzYrNPDI0MOYGzH6 2q7WhV7pWBjL0Xcc/5d8P3TzSHBLJlSkww870KaVEkaaax9+0fVr77gi2HWTRL+ZU422 slSL2jMDYG34MAU8qgmaR4Hqk/xVQHmgYWEY5RrM6Xa1fDeOF7Xl2TKBlL/7CRl+9Plb hQjw== X-Gm-Message-State: AOJu0Yz4HZC79S/EapzL9SxyFJ2h6Gw6K3GjysEC+iJS6nf/otvN3MVS DlcWIZxbp5u2mblLSS1z00cSszeQCaszZiwyjecd+g7ICes+1vlp5C4xt+zT9s+Fqgd80JQSB/0 FMZrKwbaGBNfPNIBXkZFgKB3hUJXI6HtmonfBbq5FtCK/ X-Gm-Gg: ASbGncuLVCX4rCzcCUNWEDUE40WkepTOVKa08N0KToi5OpTVfMVNUA9dq+TSjUMduXa TzzQP1n5tdBcYYQYIWM7oYK5nVV+dA16e8o5vNP6h0/nYvCD+XSi7SS0Gy6hV4Cz52tPOcMZQFX Y1ORyvWOCulkxBjSC7BSlCvYTCziamCTihSXdbEDPRRRvtzJCzqp3A/0FTc+Dg8WqDWJ3SPVUYJ cXjOD4dt+NU7J0Bjy5/bfZan8KsqBI8ATAKOTHapzyE1C1vb9JkDpx4lHoQLZGdQJCYT6+khSvU ofjVBSAQSxc0Dga2G33r4mSMjrMh78NpJ7ML2R4XTylCQand0UTGsJY195S3C1DlPiT8/w== X-Google-Smtp-Source: AGHT+IHRrNBKiAqEUIpaaPDlONxdM8Y2SgweYjYixQl2QhCG5tH9RkPnsOUMYTuVHB0BJ4/0WuUwehTNv0sM X-Received: by 2002:a17:902:ea03:b0:224:10a2:cae7 with SMTP id d9443c01a7336-23de24f45damr39248235ad.40.1752124174070; Wed, 09 Jul 2025 22:09:34 -0700 (PDT) Received: from postal.iol.unh.edu (postal.iol.unh.edu. [132.177.123.84]) by smtp-relay.gmail.com with ESMTPS id d9443c01a7336-23de4320bccsm377595ad.81.2025.07.09.22.09.33 (version=TLS1_2 cipher=ECDHE-ECDSA-AES128-GCM-SHA256 bits=128/128); Wed, 09 Jul 2025 22:09:34 -0700 (PDT) X-Relaying-Domain: iol.unh.edu Date: Wed, 09 Jul 2025 22:09:34 -0700 (PDT) Message-ID: <686f4b0e.170a0220.10f4bd.2131SMTPIN_ADDED_MISSING@mx.google.com> Received: from [172.21.0.5] (unknown [172.18.0.240]) by postal.iol.unh.edu (Postfix) with ESMTP id 41F306051830; Thu, 10 Jul 2025 01:09:33 -0400 (EDT) Subject: |WARNING| pw155011 [PATCH] app/testpmd: allow multiple cmdline-file From: dpdklab@iol.unh.edu To: Test Report Cc: dpdk-test-reports@iol.unh.edu In-Reply-To: <20250704140551.4151993-1-bruce.richardson@intel.com> References: <20250704140551.4151993-1-bruce.richardson@intel.com> Content-Type: text/plain X-BeenThere: test-report@dpdk.org X-Mailman-Version: 2.1.29 Precedence: list List-Id: automatic DPDK test reports List-Unsubscribe: , List-Archive: List-Post: List-Help: List-Subscribe: , Errors-To: test-report-bounces@dpdk.org Test-Label: iol-compile-amd64-testing Test-Status: WARNING http://dpdk.org/patch/155011 _Testing issues_ Submitter: Bruce Richardson Date: Friday, July 04 2025 14:05:51 DPDK git baseline: Repo:dpdk Branch: master CommitID:ba982f9a1ca9b96ed0394b764f1523d482e963a2 155011 --> testing issues Upstream job id: Windows-Compile-DPDK-Native#29705 Test environment and result as below: +-------------------------------+--------------------+-------------------+------------------+-------------------+-------------------------+----------------------+ | Environment | dpdk_meson_compile | dpdk_compile_spdk | dpdk_compile_ovs | dpdk_msvc_compile | dpdk_llvm_clang_compile | dpdk_mingw64_compile | +===============================+====================+===================+==================+===================+=========================+======================+ | CentOS Stream 9 | PASS | PASS | SKIPPED | SKIPPED | SKIPPED | SKIPPED | +-------------------------------+--------------------+-------------------+------------------+-------------------+-------------------------+----------------------+ | CentOS Stream 10 | PASS | SKIPPED | SKIPPED | SKIPPED | SKIPPED | SKIPPED | +-------------------------------+--------------------+-------------------+------------------+-------------------+-------------------------+----------------------+ | Debian GNU/Linux 12 | PASS | PASS | SKIPPED | SKIPPED | SKIPPED | SKIPPED | +-------------------------------+--------------------+-------------------+------------------+-------------------+-------------------------+----------------------+ | Fedora Linux 40 | PASS | PASS | SKIPPED | SKIPPED | SKIPPED | SKIPPED | +-------------------------------+--------------------+-------------------+------------------+-------------------+-------------------------+----------------------+ | Fedora Linux 41 | PASS | PASS | PASS | SKIPPED | SKIPPED | SKIPPED | +-------------------------------+--------------------+-------------------+------------------+-------------------+-------------------------+----------------------+ | openSUSE Leap 15.6 | PASS | SKIPPED | SKIPPED | SKIPPED | SKIPPED | SKIPPED | +-------------------------------+--------------------+-------------------+------------------+-------------------+-------------------------+----------------------+ | Red Hat Enterprise Linux 9.5 | PASS | SKIPPED | SKIPPED | SKIPPED | SKIPPED | SKIPPED | +-------------------------------+--------------------+-------------------+------------------+-------------------+-------------------------+----------------------+ | Ubuntu 20.04 | PASS | SKIPPED | SKIPPED | SKIPPED | SKIPPED | SKIPPED | +-------------------------------+--------------------+-------------------+------------------+-------------------+-------------------------+----------------------+ | Ubuntu 22.04 | PASS | PASS | SKIPPED | SKIPPED | SKIPPED | SKIPPED | +-------------------------------+--------------------+-------------------+------------------+-------------------+-------------------------+----------------------+ | FreeBSD 14.2 | PASS | SKIPPED | SKIPPED | SKIPPED | SKIPPED | SKIPPED | +-------------------------------+--------------------+-------------------+------------------+-------------------+-------------------------+----------------------+ | Ubuntu 24.04 | PASS | SKIPPED | SKIPPED | SKIPPED | SKIPPED | SKIPPED | +-------------------------------+--------------------+-------------------+------------------+-------------------+-------------------------+----------------------+ | Alpine Linux 3.22.0 | PASS | SKIPPED | SKIPPED | SKIPPED | SKIPPED | SKIPPED | +-------------------------------+--------------------+-------------------+------------------+-------------------+-------------------------+----------------------+ | Red Hat Enterprise Linux 8.10 | PASS | SKIPPED | SKIPPED | SKIPPED | SKIPPED | SKIPPED | +-------------------------------+--------------------+-------------------+------------------+-------------------+-------------------------+----------------------+ | Windows Server 2022 | SKIPPED | SKIPPED | SKIPPED | PASS | PASS | PASS | +-------------------------------+--------------------+-------------------+------------------+-------------------+-------------------------+----------------------+ CentOS Stream 9 Kernel: 5.15 Compiler: gcc gcc (GCC) 11.5.0 20240719 (Red Hat 11.5.0-7) CentOS Stream 10 Kernel: 5.15 Compiler: gcc gcc (GCC) 14.2.1 20250110 (Red Hat 14.2.1-8) Debian GNU/Linux 12 Kernel: 5.15 Compiler: gcc gcc (Debian 12.2.0-14+deb12u1) 12.2.0 Fedora Linux 40 Kernel: 5.15 Compiler: clang gcc (GCC) 14.2.1 20240912 (Red Hat 14.2.1-3) Fedora Linux 41 Kernel: 5.15 Compiler: clang gcc (GCC) 14.3.1 20250523 (Red Hat 14.3.1-1) openSUSE Leap 15.6 Kernel: 5.15 Compiler: gcc gcc (SUSE Linux) 7.5.0 Red Hat Enterprise Linux 9.5 Kernel: 5.15 Compiler: gcc gcc (GCC) 11.5.0 20240719 (Red Hat 11.5.0-2) Ubuntu 20.04 Kernel: 5.15 Compiler: gcc gcc (Ubuntu 9.4.0-1ubuntu1~20.04.2) 9.4.0 Ubuntu 22.04 Kernel: 5.15 Compiler: gcc gcc (Ubuntu 11.4.0-1ubuntu1~22.04) 11.4.0 FreeBSD 14.2 Kernel: 14.2-RELEASE Compiler: clang 18.1.6 Ubuntu 24.04 Kernel: 5.15 Compiler: gcc gcc (Ubuntu 13.3.0-6ubuntu2~24.04) 13.3.0 Alpine Linux 3.22.0 Kernel: 5.15 Compiler: gcc gcc (Alpine 14.2.0) 14.2.0 Red Hat Enterprise Linux 8.10 Kernel: 5.15 Compiler: gcc gcc (GCC) 8.5.0 20210514 (Red Hat 8.5.0-22) Windows Server 2022 Kernel: 10.0.20348.2031 Compiler: clang 15.0.7, gcc 14.1.0 (MinGW), and MSVC VS 19.39.33521 To view detailed results, visit: https://lab.dpdk.org/results/dashboard/patchsets/33594/ UNH-IOL DPDK Community Lab To manage your email subscriptions, visit: https://lab.dpdk.org/results/dashboard/preferences/subscriptions/