From mboxrd@z Thu Jan 1 00:00:00 1970 Return-Path: Received: from mails.dpdk.org (mails.dpdk.org [217.70.189.124]) by inbox.dpdk.org (Postfix) with ESMTP id A067746AEA for ; Thu, 10 Jul 2025 07:22:39 +0200 (CEST) Received: from mails.dpdk.org (localhost [127.0.0.1]) by mails.dpdk.org (Postfix) with ESMTP id 7ACCA402D1; Thu, 10 Jul 2025 07:22:39 +0200 (CEST) Received: from mail-pl1-f225.google.com (mail-pl1-f225.google.com [209.85.214.225]) by mails.dpdk.org (Postfix) with ESMTP id 033A7402D1 for ; Thu, 10 Jul 2025 07:22:37 +0200 (CEST) Received: by mail-pl1-f225.google.com with SMTP id d9443c01a7336-23636167b30so5565075ad.1 for ; Wed, 09 Jul 2025 22:22:37 -0700 (PDT) DKIM-Signature: v=1; a=rsa-sha256; c=relaxed/relaxed; d=iol.unh.edu; s=unh-iol; t=1752124957; x=1752729757; darn=dpdk.org; h=references:in-reply-to:cc:to:from:subject:message-id:date:from:to :cc:subject:date:message-id:reply-to; bh=Saf7mpKhywxG2ZuAJOjunMudWw1vZ1BvywBis1d7FFI=; b=HN+3wMsmQm8+Y9OzkOKfTyynY0mT9zbH3xg8uAOXbV3/wsCVyLZGLFQzi7p+Mn0VJN VV7q/2lyop+qrScL7frQ3JYsAvgNQw0+nTy+Z578UJljeAbSRpAKo2ylRVLyjV2dyzn5 rt2dtMZHXuo7POWFBglpFojfpzDIbrmxU2DEM= X-Google-DKIM-Signature: v=1; a=rsa-sha256; c=relaxed/relaxed; d=1e100.net; s=20230601; t=1752124957; x=1752729757; h=references:in-reply-to:cc:to:from:subject:message-id:date :x-gm-message-state:from:to:cc:subject:date:message-id:reply-to; bh=Saf7mpKhywxG2ZuAJOjunMudWw1vZ1BvywBis1d7FFI=; b=IintEgUHAsts+ewZ1CPm62D+UDyQ4zfUwzaCR8J610tRUUT6iXZROfTmkqkGA5YQZn kXJGDm6PklVUj8dyN3rgptdSZg7DRBQ29K+eNMaqCnMn0TTRantxNCeKOcwfRfH0LyTH w2lifQ56z85n58XknQ2HXMjl6achCZfTj2ODBV8PXn7EOvyrm+XaHjdmLrJo7DnJ2+Sf oYKOO6S/cnUAEhwAXybbBwmfkqOweCrWaqqTUaC1MGCqrpWsr4fqRZFeuvx9nLWHPHLs vDqmLA8B8ihBk3tr1B5jkJFo55pkahO/vUZyJ3IjxtZYIlE1+YFOZkr85k1DsDgf7eKN MZjA== X-Gm-Message-State: AOJu0Yz+GzoTsYoGi752wt8nXt31IeoR6RPwypgfHy2pRc+0156Yne/u IeKf18zTSZjZTP23WNLqCJhQek7Ox80jMrfFv2XbiZjfTt3DVaUddS7grP7nynmoAo/QOUi2tBb YsH8bMy3f3Ij8W25Jfd/vx3i1+62vwAlLgbNc+ij+Xuw+ X-Gm-Gg: ASbGnctbsDqmEfycKHnYNIJwUoYmzfHwWoH+c+4/3JPCeE3vauONwP+2QCCrWjAnJDq hEvpIf1OvwTghXfbIKsliHYUOBEbp/ZbhzIhwqqKITwE0a6sY6aCNkwQ2q3QzsB+pUFnl0gBFeU OJ2rvoHZgCb08kL0IPjPtZa86qe+dQbUqz6NIT6A56pN9vHIi87cp9LEnb+n+cuiiDDl0+2eK4D AtU3bKWg7yUbW0Ah9DJf40ziAO28wUHtTspedBMn13RCcjUqRz2CBQrzm3HcrsPZsgVpyXncwp8 z2yP60YESvMOpQ9/4sWK7Uru3tN/8GLNbdKqQtMVQVZWDvpAErhhacMQ3xQshcN4H1Gk9Q== X-Google-Smtp-Source: AGHT+IHOs3h/VaP9/sALSuXbrlMTsQBcxgKAB9svjxdxQC9V5vL45WkZv/YDOsb6mFTuTJo2IjkmSLJWt0zc X-Received: by 2002:a17:903:3c6e:b0:236:9726:7261 with SMTP id d9443c01a7336-23de24f407cmr38748525ad.39.1752124957042; Wed, 09 Jul 2025 22:22:37 -0700 (PDT) Received: from postal.iol.unh.edu (postal.iol.unh.edu. [132.177.123.84]) by smtp-relay.gmail.com with ESMTPS id d9443c01a7336-23de4266a2asm401715ad.8.2025.07.09.22.22.36 (version=TLS1_2 cipher=ECDHE-ECDSA-AES128-GCM-SHA256 bits=128/128); Wed, 09 Jul 2025 22:22:37 -0700 (PDT) X-Relaying-Domain: iol.unh.edu Date: Wed, 09 Jul 2025 22:22:37 -0700 (PDT) Message-ID: <686f4e1d.170a0220.21568c.23d5SMTPIN_ADDED_MISSING@mx.google.com> Received: from [172.21.0.6] (unknown [172.18.0.240]) by postal.iol.unh.edu (Postfix) with ESMTP id 3F2396051830; Thu, 10 Jul 2025 01:22:36 -0400 (EDT) Subject: |SUCCESS| pw155106 [PATCH] net/mlx5: fix panic for non template age From: dpdklab@iol.unh.edu To: Test Report Cc: dpdk-test-reports@iol.unh.edu In-Reply-To: <20250709102508.229287-1-mkashani@nvidia.com> References: <20250709102508.229287-1-mkashani@nvidia.com> Content-Type: text/plain X-BeenThere: test-report@dpdk.org X-Mailman-Version: 2.1.29 Precedence: list List-Id: automatic DPDK test reports List-Unsubscribe: , List-Archive: List-Post: List-Help: List-Subscribe: , Errors-To: test-report-bounces@dpdk.org Test-Label: iol-unit-amd64-testing Test-Status: SUCCESS http://dpdk.org/patch/155106 _Testing PASS_ Submitter: Maayan Kashani Date: Wednesday, July 09 2025 10:25:07 DPDK git baseline: Repo:dpdk Branch: master CommitID:6d828a3e774829165137aa2713e3040edd7f46bf 155106 --> testing pass Upstream job id: Generic-VM-Unit-Test-DPDK#29849 Test environment and result as below: +-------------------------------+----------------+ | Environment | dpdk_unit_test | +===============================+================+ | CentOS Stream 9 | PASS | +-------------------------------+----------------+ | Debian GNU/Linux 12 | PASS | +-------------------------------+----------------+ | CentOS Stream 10 | PASS | +-------------------------------+----------------+ | Red Hat Enterprise Linux 9.5 | PASS | +-------------------------------+----------------+ | Fedora Linux 41 | PASS | +-------------------------------+----------------+ | Ubuntu 20.04 | PASS | +-------------------------------+----------------+ | Fedora Linux 40 | PASS | +-------------------------------+----------------+ | Ubuntu 24.04 | PASS | +-------------------------------+----------------+ | Red Hat Enterprise Linux 8.10 | PASS | +-------------------------------+----------------+ | Ubuntu 22.04 | PASS | +-------------------------------+----------------+ | Windows Server 2022 | PASS | +-------------------------------+----------------+ CentOS Stream 9 Kernel: 5.15 Compiler: gcc gcc (GCC) 11.5.0 20240719 (Red Hat 11.5.0-7) Debian GNU/Linux 12 Kernel: 5.15 Compiler: gcc gcc (Debian 12.2.0-14+deb12u1) 12.2.0 CentOS Stream 10 Kernel: 5.15 Compiler: gcc gcc (GCC) 14.2.1 20250110 (Red Hat 14.2.1-8) Red Hat Enterprise Linux 9.5 Kernel: 5.15 Compiler: gcc gcc (GCC) 11.5.0 20240719 (Red Hat 11.5.0-2) Fedora Linux 41 Kernel: 5.15 Compiler: clang gcc (GCC) 14.3.1 20250523 (Red Hat 14.3.1-1) Ubuntu 20.04 Kernel: 5.15 Compiler: gcc gcc (Ubuntu 9.4.0-1ubuntu1~20.04.2) 9.4.0 Fedora Linux 40 Kernel: 5.15 Compiler: clang gcc (GCC) 14.2.1 20240912 (Red Hat 14.2.1-3) Ubuntu 24.04 Kernel: 5.15 Compiler: gcc gcc (Ubuntu 13.3.0-6ubuntu2~24.04) 13.3.0 Red Hat Enterprise Linux 8.10 Kernel: 5.15 Compiler: gcc gcc (GCC) 8.5.0 20210514 (Red Hat 8.5.0-22) Ubuntu 22.04 Kernel: 5.15 Compiler: gcc gcc (Ubuntu 11.4.0-1ubuntu1~22.04) 11.4.0 Windows Server 2022 Kernel: 10.0.20348.2031 Compiler: clang 15.0.7, gcc 14.1.0 (MinGW), and MSVC VS 19.39.33521 To view detailed results, visit: https://lab.dpdk.org/results/dashboard/patchsets/33625/ UNH-IOL DPDK Community Lab To manage your email subscriptions, visit: https://lab.dpdk.org/results/dashboard/preferences/subscriptions/