From mboxrd@z Thu Jan 1 00:00:00 1970 Return-Path: Received: from mails.dpdk.org (mails.dpdk.org [217.70.189.124]) by inbox.dpdk.org (Postfix) with ESMTP id 5EEBF46AEA for ; Thu, 10 Jul 2025 07:31:33 +0200 (CEST) Received: from mails.dpdk.org (localhost [127.0.0.1]) by mails.dpdk.org (Postfix) with ESMTP id 39FC7402D1; Thu, 10 Jul 2025 07:31:33 +0200 (CEST) Received: from mail-pg1-f226.google.com (mail-pg1-f226.google.com [209.85.215.226]) by mails.dpdk.org (Postfix) with ESMTP id 123A6402D1 for ; Thu, 10 Jul 2025 07:31:32 +0200 (CEST) Received: by mail-pg1-f226.google.com with SMTP id 41be03b00d2f7-b31d489a76dso609749a12.1 for ; Wed, 09 Jul 2025 22:31:32 -0700 (PDT) DKIM-Signature: v=1; a=rsa-sha256; c=relaxed/relaxed; d=iol.unh.edu; s=unh-iol; t=1752125491; x=1752730291; darn=dpdk.org; h=references:in-reply-to:cc:to:from:subject:message-id:date:from:to :cc:subject:date:message-id:reply-to; bh=RUWVEDHTKX4mY8VVwg5Pe/L2Uf02lgTcbGISYBC9zUE=; b=AEpu76b/2EytQCbRVPP7l5On4sK7sKExY9k/124jglpMgi0/1h7n1Azj+Z+rJzzf1H hHu21PfV8Ynm/tlLYlh3aEdoAE9e8GpbFEPzWHkAn1AvhJA/wj2YV4943P9yKsSqfWMf Nkk8g16k5cq8iWQR3tbHZQw1XWjTuFbws6VDM= X-Google-DKIM-Signature: v=1; a=rsa-sha256; c=relaxed/relaxed; d=1e100.net; s=20230601; t=1752125491; x=1752730291; h=references:in-reply-to:cc:to:from:subject:message-id:date :x-gm-message-state:from:to:cc:subject:date:message-id:reply-to; bh=RUWVEDHTKX4mY8VVwg5Pe/L2Uf02lgTcbGISYBC9zUE=; b=RVLjDVxZ13rei7jGy65DE1X7qfMcO2KWGWykxVZRX84Mf6gpTcJ6meBOqb653G8AEU 8fG1O56mlFFRVQIN4K3vfE+iUZtbIPRgFWBGrm2eWUPlQjGxxd3apB41Eo2M6RhV+5Qn WqR5X3MRhLh0CVsk5QDR4kYKlJkqjz38DYm4qwRaU6vCOW1EVLL/uUwR/pk/RXOCM9f3 AClHK9ad3iLWfRW/OwpubuCLDm9TnEZA3FuQD3DfoH9oJxI5cFyIRwjnLOXcNSEaFThX ih9tOGoQrf4hFvJ7oBF7Ts5jxYTTvAqgP4PBPT71gS3fIBHw+LDWwOwxlo2xs9CoA0QV GgJw== X-Gm-Message-State: AOJu0Yy1Q56pX9xSJGrDCL5BN5+7KZzY26QqEVwPF+TIIiYQkVmTtzqm 9NgTrDzqrUTYpCjM5uTSMZTjeFiCpoDa6YGpsxL9PY1vELyA6Q7vteGAeqsD+X5+GGZXyyxUj0+ N8pRU4o+zxyhg3IF+CQLXIrQPIJr3iQBwN1zYjwYdEYM/ X-Gm-Gg: ASbGncvM6ofkdK/83fQlDUAR5Jod7jyRe+dZ/QtVJpZq7PZf8keQsa6oMBJNYnWb86/ fUNuqk3XXokPOQSMN6A4KAT2bW8I/KQqwBaGLSRtmpqPGraRGhhab/VWxVPhs8yYR1fdmM0vE2r vlC5sCnokhnieRMcWFRX+RLoC6gv5ldDH2qqAUpMn9oN7Iy8Rlr4rFVZLHrt5pAz5UQRnoNDbc+ zdehal6u6VrLHRFTvvr6zMJeVYWdArV2B4r7iXmUkR9hupNNIGENANwqJQ2DSA4seo6uP7llBeM uHYlIX5iSuuUCnTV9Q9S2YiNdZtdvcTK5pzrYC1quFH1YyRxQzBSXKZAFkas1QMQWozzbg== X-Google-Smtp-Source: AGHT+IH5vB7DDZIROhTzFzHRQM0GmPOkbNa9YYYjZpclKpiZM6boJKVlQLmX5VtDxLdtc79nUDCCsBMXEHmo X-Received: by 2002:a17:902:e882:b0:235:f55d:99cc with SMTP id d9443c01a7336-23de480ad63mr21445025ad.2.1752125490954; Wed, 09 Jul 2025 22:31:30 -0700 (PDT) Received: from postal.iol.unh.edu (postal.iol.unh.edu. [132.177.123.84]) by smtp-relay.gmail.com with ESMTPS id d9443c01a7336-23de4266a1fsm408795ad.3.2025.07.09.22.31.30 (version=TLS1_2 cipher=ECDHE-ECDSA-AES128-GCM-SHA256 bits=128/128); Wed, 09 Jul 2025 22:31:30 -0700 (PDT) X-Relaying-Domain: iol.unh.edu Date: Wed, 09 Jul 2025 22:31:30 -0700 (PDT) Message-ID: <686f5032.170a0220.1e6169.23c8SMTPIN_ADDED_MISSING@mx.google.com> Received: from [172.21.0.6] (unknown [172.18.0.240]) by postal.iol.unh.edu (Postfix) with ESMTP id 699696051830; Thu, 10 Jul 2025 01:31:30 -0400 (EDT) Subject: |SUCCESS| pw155122 [PATCH] [net] net/vmxnet3: fix mapping of mempool From: dpdklab@iol.unh.edu To: Test Report Cc: dpdk-test-reports@iol.unh.edu In-Reply-To: <20250709212905.126851-1-ronak.doshi@broadcom.com> References: <20250709212905.126851-1-ronak.doshi@broadcom.com> Content-Type: text/plain X-BeenThere: test-report@dpdk.org X-Mailman-Version: 2.1.29 Precedence: list List-Id: automatic DPDK test reports List-Unsubscribe: , List-Archive: List-Post: List-Help: List-Subscribe: , Errors-To: test-report-bounces@dpdk.org Test-Label: iol-compile-arm64-testing Test-Status: SUCCESS http://dpdk.org/patch/155122 _Testing PASS_ Submitter: Ronak Doshi Date: Wednesday, July 09 2025 21:29:03 DPDK git baseline: Repo:dpdk Branch: master CommitID:ba982f9a1ca9b96ed0394b764f1523d482e963a2 155122 --> testing pass Upstream job id: Generic-DPDK-Compile-Meson#407603 Test environment and result as below: +------------------------------+--------------------+ | Environment | dpdk_meson_compile | +==============================+====================+ | Red Hat Enterprise Linux 9.5 | PASS | +------------------------------+--------------------+ | Ubuntu 20.04 | PASS | +------------------------------+--------------------+ | Fedora Linux 40 | PASS | +------------------------------+--------------------+ | Debian GNU/Linux 12 | PASS | +------------------------------+--------------------+ | Fedora Linux 41 | PASS | +------------------------------+--------------------+ | Ubuntu 22.04 | PASS | +------------------------------+--------------------+ | Ubuntu 24.04 | PASS | +------------------------------+--------------------+ | CentOS Stream 9 | PASS | +------------------------------+--------------------+ | CentOS Stream 10 | PASS | +------------------------------+--------------------+ Red Hat Enterprise Linux 9.5 Kernel: 5.4 Compiler: gcc gcc (GCC) 11.5.0 20240719 (Red Hat 11.5.0-2) Ubuntu 20.04 Kernel: 5.15 Compiler: aarch64-linux-gnu-gcc gcc (Ubuntu 9.4.0-1ubuntu1~20.04.2) 9.4.0 Fedora Linux 40 Kernel: 5.4 Compiler: gcc gcc (GCC) 14.2.1 20240912 (Red Hat 14.2.1-3) Debian GNU/Linux 12 Kernel: 5.4 Compiler: gcc gcc (Debian 12.2.0-14+deb12u1) 12.2.0 Fedora Linux 41 Kernel: 5.4 Compiler: gcc gcc (GCC) 14.3.1 20250523 (Red Hat 14.3.1-1) Ubuntu 22.04 Kernel: 5.4 Compiler: gcc gcc (Ubuntu 11.4.0-1ubuntu1~22.04) 11.4.0 Ubuntu 24.04 Kernel: 5.4 Compiler: gcc gcc (Ubuntu 13.3.0-6ubuntu2~24.04) 13.3.0 CentOS Stream 9 Kernel: 5.4 Compiler: gcc gcc (GCC) 11.5.0 20240719 (Red Hat 11.5.0-7) CentOS Stream 10 Kernel: 5.4 Compiler: gcc gcc (GCC) 14.2.1 20250110 (Red Hat 14.2.1-8) To view detailed results, visit: https://lab.dpdk.org/results/dashboard/patchsets/33630/ UNH-IOL DPDK Community Lab To manage your email subscriptions, visit: https://lab.dpdk.org/results/dashboard/preferences/subscriptions/