From mboxrd@z Thu Jan 1 00:00:00 1970 Return-Path: Received: from mails.dpdk.org (mails.dpdk.org [217.70.189.124]) by inbox.dpdk.org (Postfix) with ESMTP id 6852346AEA for ; Thu, 10 Jul 2025 07:33:09 +0200 (CEST) Received: from mails.dpdk.org (localhost [127.0.0.1]) by mails.dpdk.org (Postfix) with ESMTP id 634F7402D1; Thu, 10 Jul 2025 07:33:09 +0200 (CEST) Received: from mail-qv1-f97.google.com (mail-qv1-f97.google.com [209.85.219.97]) by mails.dpdk.org (Postfix) with ESMTP id 86B57402D1 for ; Thu, 10 Jul 2025 07:33:08 +0200 (CEST) Received: by mail-qv1-f97.google.com with SMTP id 6a1803df08f44-70478ba562aso19874336d6.1 for ; Wed, 09 Jul 2025 22:33:08 -0700 (PDT) DKIM-Signature: v=1; a=rsa-sha256; c=relaxed/relaxed; d=iol.unh.edu; s=unh-iol; t=1752125588; x=1752730388; darn=dpdk.org; h=references:in-reply-to:cc:to:from:subject:message-id:date:from:to :cc:subject:date:message-id:reply-to; bh=I4NagAH/8SdyOBfolM6itaogNCUmqOE1uovWQLjvZKI=; b=bCDyjGEy2BhPe4/usS0BbfNt4eA6t0r7wxV1TEfZyW82Y3oloaDf7hzUHbab3fXDNL DxZpgoUC4W7sio/jqq7WfS/MtMWe2I/0dT3cilY+Z7yeL3vC+wyQ2xgcsklOf3tmqpp7 37+VRYOYZhwi5KI7AQF+nRzZvDphjSnh8GyhE= X-Google-DKIM-Signature: v=1; a=rsa-sha256; c=relaxed/relaxed; d=1e100.net; s=20230601; t=1752125588; x=1752730388; h=references:in-reply-to:cc:to:from:subject:message-id:date :x-gm-message-state:from:to:cc:subject:date:message-id:reply-to; bh=I4NagAH/8SdyOBfolM6itaogNCUmqOE1uovWQLjvZKI=; b=FS9pvbK1VYu7ZuqwqLG/W0Y9BMfU2WXyh3N9Jo6kT1vhw5Q3yOLpT6MtjeJjNF2xWh lFVKdNd3c6dQyHcPH4WDrjT9WAi3epsCJiADSi1ihUYinnYOVK7z07BG8Kf4Fk3reNEJ nCt04VCZ9KHfWHztFRETl8b3PX/SKCLw/XCZUxZR6hsuI4QMDrvPb2c5gm5sx22SuylJ Ysva7DYOIwnJefYxi7P35gwnLA+BVcV+kTYOMgnrJNj0+2jlTPJvNPpge30YNO2UYrll 87Fw4QRo968DQ3Dse+7eHeHvGZVhctCgJruktTUvpEvKNRiAzwVrIE8r0X0PBVWhy2pM JJUw== X-Gm-Message-State: AOJu0YzBSPkMOSQrYQJCrBDVYqaLY8F5f2dF4GLo1IYdhrRUhCpmJDCG Ol7wmwd3K3Imm1Mt9IKM/K2riM5onVAJ5fE5CKKgwlTf88PLGFoi5/Q/AnXJOjHXdSnRftGMfm0 h0qnYAopW+tUD51aTRgjkUg7gmhngbsN3p7982rfjdYL6ju55USEK9oVXGRAP X-Gm-Gg: ASbGncvKQKsvKYtCHOU7fFdjDj4G8q9zsaCniCV7yTLTyDNCszaNrtsuGRtvUMAKrRv 6O3O3ZLnheKW+zcAXUSlpjvLXd1n6fQlCdtF4VrX/0HRazu5sDZaTCKhN7RFgGPVgJyaYazCfwY XNruZr3CyOSRCO3A9M4qT3y/CNB63WPek6+H7ECci3fCVmhx130TU3VvLqssp6z1m/bFvutTeRP vvwlDmopNb/XMXQraWo3ixmekX9AccvBWUZ2U3x62KqcCcoSrtxHijTYUmljNkKRHXOV9OS1joI xhpqcFL2nrOdpIAoTI0LLEyAWxcQnX3pyAihEyYr/GVEReg= X-Google-Smtp-Source: AGHT+IG4myVrEz87kegQjiNeWxbU0kTKxU+TGhvveM5XN0Kc7OS5qP9fnHRBRQnqUuK1CKjDB/ROrAc9kWKV X-Received: by 2002:a05:6214:80c9:b0:702:bb49:1996 with SMTP id 6a1803df08f44-70495aba1bbmr24284486d6.11.1752125587643; Wed, 09 Jul 2025 22:33:07 -0700 (PDT) Received: from postal.iol.unh.edu (postal.iol.unh.edu. [2606:4100:3880:1234::84]) by smtp-relay.gmail.com with ESMTPS id 6a1803df08f44-704979a7a5esm384516d6.19.2025.07.09.22.33.07 (version=TLS1_2 cipher=ECDHE-ECDSA-AES128-GCM-SHA256 bits=128/128); Wed, 09 Jul 2025 22:33:07 -0700 (PDT) X-Relaying-Domain: iol.unh.edu Date: Wed, 09 Jul 2025 22:33:07 -0700 (PDT) Message-ID: <686f5093.050a0220.22986e.21caSMTPIN_ADDED_MISSING@mx.google.com> Received: from [172.21.0.5] (unknown [172.18.0.240]) by postal.iol.unh.edu (Postfix) with ESMTP id 694666051830; Thu, 10 Jul 2025 01:33:07 -0400 (EDT) Subject: |SUCCESS| pw155122 [PATCH] [net] net/vmxnet3: fix mapping of mempool From: dpdklab@iol.unh.edu To: Test Report Cc: dpdk-test-reports@iol.unh.edu In-Reply-To: <20250709212905.126851-1-ronak.doshi@broadcom.com> References: <20250709212905.126851-1-ronak.doshi@broadcom.com> Content-Type: text/plain X-BeenThere: test-report@dpdk.org X-Mailman-Version: 2.1.29 Precedence: list List-Id: automatic DPDK test reports List-Unsubscribe: , List-Archive: List-Post: List-Help: List-Subscribe: , Errors-To: test-report-bounces@dpdk.org Test-Label: iol-compile-arm64-testing Test-Status: SUCCESS http://dpdk.org/patch/155122 _Testing PASS_ Submitter: Ronak Doshi Date: Wednesday, July 09 2025 21:29:03 DPDK git baseline: Repo:dpdk Branch: master CommitID:ba982f9a1ca9b96ed0394b764f1523d482e963a2 155122 --> testing pass Upstream job id: Generic-DPDK-Compile-Meson#407605 Test environment and result as below: +------------------------------+--------------------+ | Environment | dpdk_meson_compile | +==============================+====================+ | Red Hat Enterprise Linux 9.5 | PASS | +------------------------------+--------------------+ | Ubuntu 20.04 | PASS | +------------------------------+--------------------+ | Fedora Linux 40 | PASS | +------------------------------+--------------------+ | Debian GNU/Linux 12 | PASS | +------------------------------+--------------------+ | Fedora Linux 41 | PASS | +------------------------------+--------------------+ | Ubuntu 22.04 | PASS | +------------------------------+--------------------+ | Ubuntu 24.04 | PASS | +------------------------------+--------------------+ | CentOS Stream 9 | PASS | +------------------------------+--------------------+ | CentOS Stream 10 | PASS | +------------------------------+--------------------+ Red Hat Enterprise Linux 9.5 Kernel: 5.4 Compiler: gcc gcc (GCC) 11.5.0 20240719 (Red Hat 11.5.0-2) Ubuntu 20.04 Kernel: 5.15 Compiler: aarch64-linux-gnu-gcc gcc (Ubuntu 9.4.0-1ubuntu1~20.04.2) 9.4.0 Fedora Linux 40 Kernel: 5.4 Compiler: gcc gcc (GCC) 14.2.1 20240912 (Red Hat 14.2.1-3) Debian GNU/Linux 12 Kernel: 5.4 Compiler: gcc gcc (Debian 12.2.0-14+deb12u1) 12.2.0 Fedora Linux 41 Kernel: 5.4 Compiler: gcc gcc (GCC) 14.3.1 20250523 (Red Hat 14.3.1-1) Ubuntu 22.04 Kernel: 5.4 Compiler: gcc gcc (Ubuntu 11.4.0-1ubuntu1~22.04) 11.4.0 Ubuntu 24.04 Kernel: 5.4 Compiler: gcc gcc (Ubuntu 13.3.0-6ubuntu2~24.04) 13.3.0 CentOS Stream 9 Kernel: 5.4 Compiler: gcc gcc (GCC) 11.5.0 20240719 (Red Hat 11.5.0-7) CentOS Stream 10 Kernel: 5.4 Compiler: gcc gcc (GCC) 14.2.1 20250110 (Red Hat 14.2.1-8) To view detailed results, visit: https://lab.dpdk.org/results/dashboard/patchsets/33630/ UNH-IOL DPDK Community Lab To manage your email subscriptions, visit: https://lab.dpdk.org/results/dashboard/preferences/subscriptions/