From mboxrd@z Thu Jan 1 00:00:00 1970 Return-Path: Received: from mails.dpdk.org (mails.dpdk.org [217.70.189.124]) by inbox.dpdk.org (Postfix) with ESMTP id 2C56D46B35 for ; Thu, 10 Jul 2025 08:44:53 +0200 (CEST) Received: from mails.dpdk.org (localhost [127.0.0.1]) by mails.dpdk.org (Postfix) with ESMTP id 0A233402D1; Thu, 10 Jul 2025 08:44:53 +0200 (CEST) Received: from mail-pf1-f228.google.com (mail-pf1-f228.google.com [209.85.210.228]) by mails.dpdk.org (Postfix) with ESMTP id B346D402D1 for ; Thu, 10 Jul 2025 08:44:51 +0200 (CEST) Received: by mail-pf1-f228.google.com with SMTP id d2e1a72fcca58-73972a54919so613061b3a.3 for ; Wed, 09 Jul 2025 23:44:51 -0700 (PDT) DKIM-Signature: v=1; a=rsa-sha256; c=relaxed/relaxed; d=iol.unh.edu; s=unh-iol; t=1752129891; x=1752734691; darn=dpdk.org; h=references:in-reply-to:cc:to:from:subject:message-id:date:from:to :cc:subject:date:message-id:reply-to; bh=guwQxL7TS+qHgmF6oKrK4Q20IyiQV8ZPQf5BTm1c1qY=; b=hozH7C5APodtRvUmKcM19o5aQxvuMeHTxN0k6JomDYYMtU7xySexTL5yfsVRA05V9o dmCKnZBI7r8jgobhM5zisU4pV+azslIKkchdZ8on35zpxgRPthWSCSPc8HYNzITk3Myf JHW3+Cq4zQ2OxCzda+wiBQ3WjUdP8fPaa5Ync= X-Google-DKIM-Signature: v=1; a=rsa-sha256; c=relaxed/relaxed; d=1e100.net; s=20230601; t=1752129891; x=1752734691; h=references:in-reply-to:cc:to:from:subject:message-id:date :x-gm-message-state:from:to:cc:subject:date:message-id:reply-to; bh=guwQxL7TS+qHgmF6oKrK4Q20IyiQV8ZPQf5BTm1c1qY=; b=NGAMbvTVyObPN4E+ytSgwNgHnk1cywevglPa0T1FS9vyIONfV1shVQrRguvy+8nX+/ JpCMX17aYLYGBsnZozIWxISi2X3MrHucqDc/MxjL0AWyZr9MWw83ZmflsnNl88uZx1pg /jDckM/fY8/S5ylZTJiqR7j0lUPMdCDT16YjtaT7haM0EY0eU+2Ibk0VjxiuJavF+bDs 1kaKqKDQvSfGNrIAEqkxKimH1M8A7fL1X6CR+9lRWl5xBHDuJGIjC94e0pxpw6b+Xv0T 58G3yr9rM/PJjvEH89VAwQWFL2ZwSFHQ7u9PSEzDvOO/GkpHiEK0Y+d2zzcDQAtghRKa r5Zg== X-Gm-Message-State: AOJu0Yw7lg/bWALLlosPwYCwMcN10xagJXXn61hF1niloosGBQgJVmQT ZFxzdzxcbRbyFzECPHb0Flsrby/Y5Vtxdo40YEZdiVMdo5GN1g+DijSb68dHGkT2uPk5pUbBREC JI2j7YPAEvPBG5voTBAafbDeANF1KWshR+Y89lKqFqwYV X-Gm-Gg: ASbGncuXEj9NxyqN/oE+7eZEOIX+fuIEw8t1GDCSgWkxqYd+n2n53RGgpmZYWcrdF00 9f9zPd0Lo9LovxqZsAgZTBMJk7lsbkk63YkOshH6oy8rzcwD3nic+tdAAdplUn9LLeRDHhrpIM/ Ihfwxa/mlFH7iFu63UrMZzQ59jkiK3+bgt4paJK4K2WsIz1kza1/2PCDu8WL5qAvzPqBTkcuXI+ /oA/3FYdi0dWl6RjG2mjLg+7LLDX/3PBWPsSgX5h8ENjsX6kQyFk0aFc5qkWKRbXLAxK01Bc0fb OSDKxM9RMoHzKZhDwtpBnuBro88okherrLCUmJqj1r/XbEx7Qa8pYOmyNcTIk4kn8IZ6LA== X-Google-Smtp-Source: AGHT+IGRvrV8AtwJNwevdrAluoHGDVv5wfCHsjMcRR6i7HS9x/AQNr70E8zMQhTUJr+SjX1K0PXQxlB1B+5e X-Received: by 2002:a05:6a20:9194:b0:21f:ee3f:8ad5 with SMTP id adf61e73a8af0-23005ab2733mr2462712637.20.1752129890705; Wed, 09 Jul 2025 23:44:50 -0700 (PDT) Received: from postal.iol.unh.edu (postal.iol.unh.edu. [132.177.123.84]) by smtp-relay.gmail.com with ESMTPS id d2e1a72fcca58-74eb9f243fcsm39531b3a.14.2025.07.09.23.44.50 (version=TLS1_2 cipher=ECDHE-ECDSA-AES128-GCM-SHA256 bits=128/128); Wed, 09 Jul 2025 23:44:50 -0700 (PDT) X-Relaying-Domain: iol.unh.edu Date: Wed, 09 Jul 2025 23:44:50 -0700 (PDT) Message-ID: <686f6162.050a0220.e04b6.2317SMTPIN_ADDED_MISSING@mx.google.com> Received: from [172.21.0.6] (unknown [172.18.0.240]) by postal.iol.unh.edu (Postfix) with ESMTP id DF1476051830; Thu, 10 Jul 2025 02:44:49 -0400 (EDT) Subject: |SUCCESS| pw155108 [PATCH] [v1,1/1] net/iavf: fix order of inclusion From: dpdklab@iol.unh.edu To: Test Report Cc: dpdk-test-reports@iol.unh.edu In-Reply-To: <552f8241f4f65fce0c8b43797612a97dec5d9ebc.1752066381.git.anatoly.burakov@intel.com> References: <552f8241f4f65fce0c8b43797612a97dec5d9ebc.1752066381.git.anatoly.burakov@intel.com> Content-Type: text/plain X-BeenThere: test-report@dpdk.org X-Mailman-Version: 2.1.29 Precedence: list List-Id: automatic DPDK test reports List-Unsubscribe: , List-Archive: List-Post: List-Help: List-Subscribe: , Errors-To: test-report-bounces@dpdk.org Test-Label: iol-unit-amd64-testing Test-Status: SUCCESS http://dpdk.org/patch/155108 _Testing PASS_ Submitter: Burakov, Anatoly Date: Wednesday, July 09 2025 13:06:29 DPDK git baseline: Repo:dpdk Branch: master CommitID:f1853a0cc95eaae5842b88be0cbcd5becc2e94b7 155108 --> testing pass Upstream job id: Generic-VM-Unit-Test-DPDK#29850 Test environment and result as below: +-------------------------------+----------------+ | Environment | dpdk_unit_test | +===============================+================+ | CentOS Stream 10 | PASS | +-------------------------------+----------------+ | Fedora Linux 40 | PASS | +-------------------------------+----------------+ | Debian GNU/Linux 12 | PASS | +-------------------------------+----------------+ | Fedora Linux 41 | PASS | +-------------------------------+----------------+ | Red Hat Enterprise Linux 8.10 | PASS | +-------------------------------+----------------+ | CentOS Stream 9 | PASS | +-------------------------------+----------------+ | Red Hat Enterprise Linux 9.5 | PASS | +-------------------------------+----------------+ | Ubuntu 24.04 | PASS | +-------------------------------+----------------+ | Ubuntu 20.04 | PASS | +-------------------------------+----------------+ | Ubuntu 22.04 | PASS | +-------------------------------+----------------+ | Windows Server 2022 | PASS | +-------------------------------+----------------+ CentOS Stream 10 Kernel: 5.15 Compiler: gcc gcc (GCC) 14.2.1 20250110 (Red Hat 14.2.1-8) Fedora Linux 40 Kernel: 5.15 Compiler: gcc gcc (GCC) 14.2.1 20240912 (Red Hat 14.2.1-3) Debian GNU/Linux 12 Kernel: 5.15 Compiler: gcc gcc (Debian 12.2.0-14+deb12u1) 12.2.0 Fedora Linux 41 Kernel: 5.15 Compiler: clang gcc (GCC) 14.3.1 20250523 (Red Hat 14.3.1-1) Red Hat Enterprise Linux 8.10 Kernel: 5.15 Compiler: gcc gcc (GCC) 8.5.0 20210514 (Red Hat 8.5.0-22) CentOS Stream 9 Kernel: 5.15 Compiler: gcc gcc (GCC) 11.5.0 20240719 (Red Hat 11.5.0-7) Red Hat Enterprise Linux 9.5 Kernel: 5.15 Compiler: gcc gcc (GCC) 11.5.0 20240719 (Red Hat 11.5.0-2) Ubuntu 24.04 Kernel: 5.15 Compiler: gcc gcc (Ubuntu 13.3.0-6ubuntu2~24.04) 13.3.0 Ubuntu 20.04 Kernel: 5.15 Compiler: gcc gcc (Ubuntu 9.4.0-1ubuntu1~20.04.2) 9.4.0 Ubuntu 22.04 Kernel: 5.15 Compiler: gcc gcc (Ubuntu 11.4.0-1ubuntu1~22.04) 11.4.0 Windows Server 2022 Kernel: 10.0.20348.2031 Compiler: clang 15.0.7, gcc 14.1.0 (MinGW), and MSVC VS 19.39.33521 To view detailed results, visit: https://lab.dpdk.org/results/dashboard/patchsets/33627/ UNH-IOL DPDK Community Lab To manage your email subscriptions, visit: https://lab.dpdk.org/results/dashboard/preferences/subscriptions/