From mboxrd@z Thu Jan 1 00:00:00 1970 Return-Path: Received: from mails.dpdk.org (mails.dpdk.org [217.70.189.124]) by inbox.dpdk.org (Postfix) with ESMTP id 6540146B35 for ; Thu, 10 Jul 2025 08:48:41 +0200 (CEST) Received: from mails.dpdk.org (localhost [127.0.0.1]) by mails.dpdk.org (Postfix) with ESMTP id 5B9F4402D1; Thu, 10 Jul 2025 08:48:41 +0200 (CEST) Received: from mail-oa1-f99.google.com (mail-oa1-f99.google.com [209.85.160.99]) by mails.dpdk.org (Postfix) with ESMTP id 40131402D1 for ; Thu, 10 Jul 2025 08:48:40 +0200 (CEST) Received: by mail-oa1-f99.google.com with SMTP id 586e51a60fabf-2ebb468cbb4so582865fac.2 for ; Wed, 09 Jul 2025 23:48:40 -0700 (PDT) DKIM-Signature: v=1; a=rsa-sha256; c=relaxed/relaxed; d=iol.unh.edu; s=unh-iol; t=1752130119; x=1752734919; darn=dpdk.org; h=cc:to:from:subject:message-id:date:from:to:cc:subject:date :message-id:reply-to; bh=aBRC86SfEp1c8lB9t1PK9CFyXujksZEiOMUsXgJNrqM=; b=S5jSNk4wJsKAzexLljzvqkUK1pA95L34aUnBVfArGMwsuDPeD87K7e/Aqm9E0+Pf/G jff7quKh7FaDYZuQYv/RjpwkJC9jj9EjupgadyeuufjMIgkncLqpR/KjVc6kU99qm5O4 jKm83gn5qaUmM7X7UG2ie3wqoUQ7cWsuvW+IQ= X-Google-DKIM-Signature: v=1; a=rsa-sha256; c=relaxed/relaxed; d=1e100.net; s=20230601; t=1752130119; x=1752734919; h=cc:to:from:subject:message-id:date:x-gm-message-state:from:to:cc :subject:date:message-id:reply-to; bh=aBRC86SfEp1c8lB9t1PK9CFyXujksZEiOMUsXgJNrqM=; b=kLK6Lj8lpBDAT18hqTmhoGCL4Dbumz7hdVwkf6kUDclMc6zKm45yHpV1WUlmEyx0vw UXlcVZIvSzZVDPIJOVlsNJ3CkkiynFbL1nL9xGvJ1JnSi9Vgzndz3nKO23RaT1oq3qDi XnIyFW3RZBGeFroUp1KD+QNHijeWj/eKa/hhLTttug1JJP/CBAijrLjDC0Wh+MN7vqCs yJUvvWO6fN+cXqTgNlNv+GIIFgczMWSBrJTdTGqrxqmPlDNQTevsnHaW5XWScQ5c7LUy Tp3TWqLZKzDlYzgPXK7YejX2Lg/OXYsTvqqIRiZQYOVCu3MgUE6K4gfRCP2EhOVxYltZ PGuA== X-Gm-Message-State: AOJu0YxWZB2f1eoMDWBjbx37zWjU87yaWifUu9RoCKRO4+myNRDz2Tm8 u/d6k7y9Gcmz+PlEfOdjNOs0lg8OEe8gA9FrslGD85uLyrv9HW/6kNcCSeq0OrrZuHOxVWZ8i/l 3r1Gm62kq/orh+Og8mmqWZMMPaAlrHNzLdJYN+wo/SLzT X-Gm-Gg: ASbGncuA7aOdrf6KfiAPg9g5Rn1A4mFAEOr0CAc2j0ry1bZYianmRfxxcxLC0OLE6fL TZoYZmdkdWHloQ8Wy3pG2PpMj9c+QHYn0e+7d6LlHR0zDVNFUhQ4nRy8x4klopHBo5yNYz+hZ3Z LNnUQghSKIc/4zj6+3n0g8bRnn+flXVirnB3N5q27TPuNDVAhRP5quN4Ao6o8h+z4eAr/3Oeehe vGjb3Wehb64wbyiSQIOosoOJyyuF++DuGo4XDo6AwlT336q3VcGMNPMDyVZMO3YGJ9VoGWSfsr5 2YMhXHpEVr53jQRrrzSrvTABw7dlFAdhqeDWZkR+PvR0lGUEZ27ItoN4lIU+rftFvqlCew== X-Google-Smtp-Source: AGHT+IHHQIV485BSzo+rvpnxsHOTHMCFafuHuji6o6svf947K3lc/JhrkpvuTlJEAgP2FPt3Pzuz6o6HKXGt X-Received: by 2002:a05:6870:e412:b0:2e8:f216:7b23 with SMTP id 586e51a60fabf-2ff10aa3586mr954616fac.37.1752130119423; Wed, 09 Jul 2025 23:48:39 -0700 (PDT) Received: from postal.iol.unh.edu (postal.iol.unh.edu. [132.177.123.84]) by smtp-relay.gmail.com with ESMTPS id 586e51a60fabf-2ff116cf4cfsm65019fac.22.2025.07.09.23.48.39 (version=TLS1_2 cipher=ECDHE-ECDSA-AES128-GCM-SHA256 bits=128/128); Wed, 09 Jul 2025 23:48:39 -0700 (PDT) X-Relaying-Domain: iol.unh.edu Date: Wed, 09 Jul 2025 23:48:39 -0700 (PDT) Message-ID: <686f6247.050a0220.1262c0.380cSMTPIN_ADDED_MISSING@mx.google.com> Received: from [172.21.0.5] (unknown [172.18.0.240]) by postal.iol.unh.edu (Postfix) with ESMTP id 154CC6051830; Thu, 10 Jul 2025 02:48:39 -0400 (EDT) Subject: |WARNING| [GIT MASTER] 9fe9c0b231c8da5435bfccb1963121b4277f961c From: dpdklab@iol.unh.edu To: Test Report Cc: dpdk-test-reports@iol.unh.edu Content-Type: text/plain X-BeenThere: test-report@dpdk.org X-Mailman-Version: 2.1.29 Precedence: list List-Id: automatic DPDK test reports List-Unsubscribe: , List-Archive: List-Post: List-Help: List-Subscribe: , Errors-To: test-report-bounces@dpdk.org _Testing issues_ Branch: dpdk 9fe9c0b231c8da5435bfccb1963121b4277f961c --> testing issues Upstream job id: Windows-Compile-DPDK-Native#29708 Test environment and result as below: +-------------------------------+--------------------+-------------------+------------------+-------------------+-------------------------+ | Environment | dpdk_meson_compile | dpdk_compile_spdk | dpdk_compile_ovs | dpdk_msvc_compile | dpdk_llvm_clang_compile | +===============================+====================+===================+==================+===================+=========================+ | CentOS Stream 10 | PASS | SKIPPED | SKIPPED | SKIPPED | SKIPPED | +-------------------------------+--------------------+-------------------+------------------+-------------------+-------------------------+ | Fedora Linux 40 | PASS | WARN | SKIPPED | SKIPPED | SKIPPED | +-------------------------------+--------------------+-------------------+------------------+-------------------+-------------------------+ | Fedora Linux 41 | PASS | WARN | PASS | SKIPPED | SKIPPED | +-------------------------------+--------------------+-------------------+------------------+-------------------+-------------------------+ | Debian GNU/Linux 12 | PASS | PASS | SKIPPED | SKIPPED | SKIPPED | +-------------------------------+--------------------+-------------------+------------------+-------------------+-------------------------+ | Ubuntu 22.04 | PASS | PASS | SKIPPED | SKIPPED | SKIPPED | +-------------------------------+--------------------+-------------------+------------------+-------------------+-------------------------+ | openSUSE Leap 15.6 | PASS | SKIPPED | SKIPPED | SKIPPED | SKIPPED | +-------------------------------+--------------------+-------------------+------------------+-------------------+-------------------------+ | Red Hat Enterprise Linux 8.10 | PASS | SKIPPED | SKIPPED | SKIPPED | SKIPPED | +-------------------------------+--------------------+-------------------+------------------+-------------------+-------------------------+ | Red Hat Enterprise Linux 9.5 | PASS | SKIPPED | SKIPPED | SKIPPED | SKIPPED | +-------------------------------+--------------------+-------------------+------------------+-------------------+-------------------------+ | Ubuntu 24.04 | PASS | PASS | PASS | SKIPPED | SKIPPED | +-------------------------------+--------------------+-------------------+------------------+-------------------+-------------------------+ | Ubuntu 20.04 | PASS | SKIPPED | SKIPPED | SKIPPED | SKIPPED | +-------------------------------+--------------------+-------------------+------------------+-------------------+-------------------------+ | Alpine Linux 3.22.0 | PASS | SKIPPED | SKIPPED | SKIPPED | SKIPPED | +-------------------------------+--------------------+-------------------+------------------+-------------------+-------------------------+ | Arch Linux 20250613.0.365270 | PASS | SKIPPED | SKIPPED | SKIPPED | SKIPPED | +-------------------------------+--------------------+-------------------+------------------+-------------------+-------------------------+ | FreeBSD 14.2 | PASS | SKIPPED | SKIPPED | SKIPPED | SKIPPED | +-------------------------------+--------------------+-------------------+------------------+-------------------+-------------------------+ | Windows Server 2022 | SKIPPED | SKIPPED | SKIPPED | PASS | PASS | +-------------------------------+--------------------+-------------------+------------------+-------------------+-------------------------+ ==== 20 line log output for Fedora Linux 41 (dpdk_compile_spdk): ==== --- Failed to get log output --- ==== End log output ==== CentOS Stream 10 Kernel: 5.15 Compiler: gcc gcc (GCC) 14.2.1 20250110 (Red Hat 14.2.1-8) Fedora Linux 40 Kernel: 5.15 Compiler: gcc gcc (GCC) 14.2.1 20240912 (Red Hat 14.2.1-3) Fedora Linux 41 Kernel: 5.15 Compiler: gcc gcc (GCC) 14.3.1 20250523 (Red Hat 14.3.1-1) Debian GNU/Linux 12 Kernel: 5.15 Compiler: gcc gcc (Debian 12.2.0-14+deb12u1) 12.2.0 Ubuntu 22.04 Kernel: 5.15 Compiler: gcc gcc (Ubuntu 11.4.0-1ubuntu1~22.04) 11.4.0 openSUSE Leap 15.6 Kernel: 5.15 Compiler: gcc gcc (SUSE Linux) 7.5.0 Red Hat Enterprise Linux 8.10 Kernel: 5.15 Compiler: gcc gcc (GCC) 8.5.0 20210514 (Red Hat 8.5.0-22) Red Hat Enterprise Linux 9.5 Kernel: 5.15 Compiler: gcc gcc (GCC) 11.5.0 20240719 (Red Hat 11.5.0-2) Ubuntu 24.04 Kernel: 5.15 Compiler: gcc gcc (Ubuntu 13.3.0-6ubuntu2~24.04) 13.3.0 Ubuntu 20.04 Kernel: 4.19 Compiler: gcc gcc (Ubuntu 9.4.0-1ubuntu1~20.04.2) 9.4.0 Alpine Linux 3.22.0 Kernel: 5.15 Compiler: gcc gcc (Alpine 14.2.0) 14.2.0 Arch Linux 20250613.0.365270 Kernel: 5.15 Compiler: gcc gcc (GCC) 15.1.1 20250425 FreeBSD 14.2 Kernel: 14.2-RELEASE Compiler: clang 18.1.6 Windows Server 2022 Kernel: 10.0.20348.2031 Compiler: clang 15.0.7, gcc 14.1.0 (MinGW), and MSVC VS 19.39.33521 To view detailed results, visit: https://lab.dpdk.org/results/dashboard/tarballs/34221/ UNH-IOL DPDK Community Lab To manage your email subscriptions, visit: https://lab.dpdk.org/results/dashboard/preferences/subscriptions/