From mboxrd@z Thu Jan 1 00:00:00 1970 Return-Path: Received: from mails.dpdk.org (mails.dpdk.org [217.70.189.124]) by inbox.dpdk.org (Postfix) with ESMTP id 5B7A646B35 for ; Thu, 10 Jul 2025 08:58:48 +0200 (CEST) Received: from mails.dpdk.org (localhost [127.0.0.1]) by mails.dpdk.org (Postfix) with ESMTP id 43665402D1; Thu, 10 Jul 2025 08:58:48 +0200 (CEST) Received: from mail-io1-f98.google.com (mail-io1-f98.google.com [209.85.166.98]) by mails.dpdk.org (Postfix) with ESMTP id 45F89402D1 for ; Thu, 10 Jul 2025 08:58:47 +0200 (CEST) Received: by mail-io1-f98.google.com with SMTP id ca18e2360f4ac-876ae3f7768so63624639f.0 for ; Wed, 09 Jul 2025 23:58:47 -0700 (PDT) DKIM-Signature: v=1; a=rsa-sha256; c=relaxed/relaxed; d=iol.unh.edu; s=unh-iol; t=1752130726; x=1752735526; darn=dpdk.org; h=cc:to:from:subject:message-id:date:from:to:cc:subject:date :message-id:reply-to; bh=FD5xWzLn0BZqUUzWZcqxVUvByri7jQiJpo6GfZQYQCY=; b=KiWkyGrzGUCiT1F9Osr5K95OwZwjCrsw0MFkCLlc3HYvy2QNggJ3qHgshKvxfK+IO6 c6xXjVECrNDeQ+qleN+o0CSOywdzttIRJaUJR7toDMnp/p9w4f1Mhor3T5lVO7jxybzo 2ZhYSPbPwKEW3wiy5diZBXZXJueQzF3NPrP3g= X-Google-DKIM-Signature: v=1; a=rsa-sha256; c=relaxed/relaxed; d=1e100.net; s=20230601; t=1752130726; x=1752735526; h=cc:to:from:subject:message-id:date:x-gm-message-state:from:to:cc :subject:date:message-id:reply-to; bh=FD5xWzLn0BZqUUzWZcqxVUvByri7jQiJpo6GfZQYQCY=; b=FbagHqYdMwKMmtw46aPZqe4EAKyR06FG+eZijmiBOmI7DSHxW/I3LEIFuwrwXJFURW Z9mxmDuWoRbL8wMmCjtrrO9H1of7zbrP6eVkhKjezGgkHfy1nPdNB8Yk//0VAV2OsRox 9p93+XDDyH60Ie7Hhh3qWAVkhmWgfWNeCUivuTMmVWmDP2M9ckBXcNt4NV2f9cOFSDJH 0FA//w0T1cU01UyDemzR7gnRt8UXVQ6MDtUO3xTK/8WKi4OeGPxeMESYqhwAQxNJErxp Hi8JIx3jPnvNSP8sbcmn8SfXkjZWCtwuLzrp22rG4SmowvHPLDYAfDBICJcTGAifVEU5 K9hQ== X-Gm-Message-State: AOJu0YxWmc+Do67+GMlCZRrqig1le4enGPat94rvQMCGm1YyKSdatY18 OAq4a9fOYC4H+xIuLiA+AGydg4yfDSB8ecYE3aMZZmRcAG2Omwuj5nITKFXcn1/xW5ce+Llty6q QUHufXlU5oVRq9478Q5oEGbyngpfU17Az0moeT65LuXie X-Gm-Gg: ASbGncvasXud3Jkr67YkGORMoBetSIBUdNlKnTNBcWPBF/ab7fPNffDJTeAvIlEw/OB GxRZR0P6z6prJDcgGXZBpmyPzq5AS/8LpNfbhuFJ7dy3nMY9eh9f8JrRJ80rvaQirBeH8KJBnaT wDdUGYMf22bgHryOHw+UXMt9DCQ9gBu+TbwaKTjJqBpIXLFzbjMBkdYxNO0jURmpedG4oPL4DIo NQHmoeePYxb48Jd1F5gEoINOy9meJYNieiDigmk0WwhJUMlkWMocaWymHfuRpEe/Sg9FgbuOfU0 HrZmgCW3GZhNLdK511bganr7gwHREhlRWVpDwRid02aYzqMQ0a07Vat4GMoxE0Nou7S4Sg== X-Google-Smtp-Source: AGHT+IGJx1zsS4e/cE1TCu/evAOx6UudNib+BR1EKiLV3P/0DRVZtwbc/TzL8gZLyMbXmf4Bpba6Kc748ext X-Received: by 2002:a05:6602:7190:b0:875:b493:a1d0 with SMTP id ca18e2360f4ac-87968f5b4d7mr157457939f.3.1752130726563; Wed, 09 Jul 2025 23:58:46 -0700 (PDT) Received: from postal.iol.unh.edu (postal.iol.unh.edu. [132.177.123.84]) by smtp-relay.gmail.com with ESMTPS id 8926c6da1cb9f-50556531536sm39199173.12.2025.07.09.23.58.46 (version=TLS1_2 cipher=ECDHE-ECDSA-AES128-GCM-SHA256 bits=128/128); Wed, 09 Jul 2025 23:58:46 -0700 (PDT) X-Relaying-Domain: iol.unh.edu Date: Wed, 09 Jul 2025 23:58:46 -0700 (PDT) Message-ID: <686f64a6.050a0220.174d89.2408SMTPIN_ADDED_MISSING@mx.google.com> Received: from [172.21.0.5] (unknown [172.18.0.240]) by postal.iol.unh.edu (Postfix) with ESMTP id 14A876051830; Thu, 10 Jul 2025 02:58:46 -0400 (EDT) Subject: |WARNING| [GIT MASTER] 9fe9c0b231c8da5435bfccb1963121b4277f961c From: dpdklab@iol.unh.edu To: Test Report Cc: dpdk-test-reports@iol.unh.edu Content-Type: text/plain X-BeenThere: test-report@dpdk.org X-Mailman-Version: 2.1.29 Precedence: list List-Id: automatic DPDK test reports List-Unsubscribe: , List-Archive: List-Post: List-Help: List-Subscribe: , Errors-To: test-report-bounces@dpdk.org _Testing issues_ Branch: dpdk 9fe9c0b231c8da5435bfccb1963121b4277f961c --> testing issues Upstream job id: Windows-Compile-DPDK-Native#29709 Test environment and result as below: +-------------------------------+--------------------+-------------------+------------------+-------------------+-------------------------+----------------------+ | Environment | dpdk_meson_compile | dpdk_compile_spdk | dpdk_compile_ovs | dpdk_msvc_compile | dpdk_llvm_clang_compile | dpdk_mingw64_compile | +===============================+====================+===================+==================+===================+=========================+======================+ | CentOS Stream 10 | PASS | SKIPPED | SKIPPED | SKIPPED | SKIPPED | SKIPPED | +-------------------------------+--------------------+-------------------+------------------+-------------------+-------------------------+----------------------+ | Fedora Linux 40 | PASS | WARN | SKIPPED | SKIPPED | SKIPPED | SKIPPED | +-------------------------------+--------------------+-------------------+------------------+-------------------+-------------------------+----------------------+ | Fedora Linux 41 | PASS | WARN | PASS | SKIPPED | SKIPPED | SKIPPED | +-------------------------------+--------------------+-------------------+------------------+-------------------+-------------------------+----------------------+ | Debian GNU/Linux 12 | PASS | PASS | SKIPPED | SKIPPED | SKIPPED | SKIPPED | +-------------------------------+--------------------+-------------------+------------------+-------------------+-------------------------+----------------------+ | Ubuntu 22.04 | PASS | PASS | SKIPPED | SKIPPED | SKIPPED | SKIPPED | +-------------------------------+--------------------+-------------------+------------------+-------------------+-------------------------+----------------------+ | openSUSE Leap 15.6 | PASS | SKIPPED | SKIPPED | SKIPPED | SKIPPED | SKIPPED | +-------------------------------+--------------------+-------------------+------------------+-------------------+-------------------------+----------------------+ | Red Hat Enterprise Linux 8.10 | PASS | SKIPPED | SKIPPED | SKIPPED | SKIPPED | SKIPPED | +-------------------------------+--------------------+-------------------+------------------+-------------------+-------------------------+----------------------+ | Red Hat Enterprise Linux 9.5 | PASS | SKIPPED | SKIPPED | SKIPPED | SKIPPED | SKIPPED | +-------------------------------+--------------------+-------------------+------------------+-------------------+-------------------------+----------------------+ | Ubuntu 24.04 | PASS | PASS | PASS | SKIPPED | SKIPPED | SKIPPED | +-------------------------------+--------------------+-------------------+------------------+-------------------+-------------------------+----------------------+ | Ubuntu 20.04 | PASS | SKIPPED | SKIPPED | SKIPPED | SKIPPED | SKIPPED | +-------------------------------+--------------------+-------------------+------------------+-------------------+-------------------------+----------------------+ | Alpine Linux 3.22.0 | PASS | SKIPPED | SKIPPED | SKIPPED | SKIPPED | SKIPPED | +-------------------------------+--------------------+-------------------+------------------+-------------------+-------------------------+----------------------+ | Arch Linux 20250613.0.365270 | PASS | SKIPPED | SKIPPED | SKIPPED | SKIPPED | SKIPPED | +-------------------------------+--------------------+-------------------+------------------+-------------------+-------------------------+----------------------+ | FreeBSD 14.2 | PASS | SKIPPED | SKIPPED | SKIPPED | SKIPPED | SKIPPED | +-------------------------------+--------------------+-------------------+------------------+-------------------+-------------------------+----------------------+ | Windows Server 2022 | SKIPPED | SKIPPED | SKIPPED | PASS | PASS | PASS | +-------------------------------+--------------------+-------------------+------------------+-------------------+-------------------------+----------------------+ ==== 20 line log output for Fedora Linux 41 (dpdk_compile_spdk): ==== --- Failed to get log output --- ==== End log output ==== CentOS Stream 10 Kernel: 5.15 Compiler: gcc gcc (GCC) 14.2.1 20250110 (Red Hat 14.2.1-8) Fedora Linux 40 Kernel: 5.15 Compiler: gcc gcc (GCC) 14.2.1 20240912 (Red Hat 14.2.1-3) Fedora Linux 41 Kernel: 5.15 Compiler: gcc gcc (GCC) 14.3.1 20250523 (Red Hat 14.3.1-1) Debian GNU/Linux 12 Kernel: 5.15 Compiler: gcc gcc (Debian 12.2.0-14+deb12u1) 12.2.0 Ubuntu 22.04 Kernel: 5.15 Compiler: gcc gcc (Ubuntu 11.4.0-1ubuntu1~22.04) 11.4.0 openSUSE Leap 15.6 Kernel: 5.15 Compiler: gcc gcc (SUSE Linux) 7.5.0 Red Hat Enterprise Linux 8.10 Kernel: 5.15 Compiler: gcc gcc (GCC) 8.5.0 20210514 (Red Hat 8.5.0-22) Red Hat Enterprise Linux 9.5 Kernel: 5.15 Compiler: gcc gcc (GCC) 11.5.0 20240719 (Red Hat 11.5.0-2) Ubuntu 24.04 Kernel: 5.15 Compiler: gcc gcc (Ubuntu 13.3.0-6ubuntu2~24.04) 13.3.0 Ubuntu 20.04 Kernel: 4.19 Compiler: gcc gcc (Ubuntu 9.4.0-1ubuntu1~20.04.2) 9.4.0 Alpine Linux 3.22.0 Kernel: 5.15 Compiler: gcc gcc (Alpine 14.2.0) 14.2.0 Arch Linux 20250613.0.365270 Kernel: 5.15 Compiler: gcc gcc (GCC) 15.1.1 20250425 FreeBSD 14.2 Kernel: 14.2-RELEASE Compiler: clang 18.1.6 Windows Server 2022 Kernel: 10.0.20348.2031 Compiler: clang 15.0.7, gcc 14.1.0 (MinGW), and MSVC VS 19.39.33521 To view detailed results, visit: https://lab.dpdk.org/results/dashboard/tarballs/34221/ UNH-IOL DPDK Community Lab To manage your email subscriptions, visit: https://lab.dpdk.org/results/dashboard/preferences/subscriptions/