From mboxrd@z Thu Jan 1 00:00:00 1970 Return-Path: Received: from mails.dpdk.org (mails.dpdk.org [217.70.189.124]) by inbox.dpdk.org (Postfix) with ESMTP id C1F2A46B35 for ; Thu, 10 Jul 2025 09:02:49 +0200 (CEST) Received: from mails.dpdk.org (localhost [127.0.0.1]) by mails.dpdk.org (Postfix) with ESMTP id 96A4F402D1; Thu, 10 Jul 2025 09:02:49 +0200 (CEST) Received: from mail-pl1-f227.google.com (mail-pl1-f227.google.com [209.85.214.227]) by mails.dpdk.org (Postfix) with ESMTP id 148A9402D1 for ; Thu, 10 Jul 2025 09:02:48 +0200 (CEST) Received: by mail-pl1-f227.google.com with SMTP id d9443c01a7336-23aeac7d77aso6914985ad.3 for ; Thu, 10 Jul 2025 00:02:47 -0700 (PDT) DKIM-Signature: v=1; a=rsa-sha256; c=relaxed/relaxed; d=iol.unh.edu; s=unh-iol; t=1752130967; x=1752735767; darn=dpdk.org; h=references:in-reply-to:cc:to:from:subject:message-id:date:from:to :cc:subject:date:message-id:reply-to; bh=vWpIXkuaZg5bH2/c8rBGVw+5LsfwdLEy+3/+78Sx724=; b=d5Qvq1uMFlFVzeEazcpgjk9gN/PLQ9AJtCy0+Nq2jbDV6+wWNGdQuPWVR16XrauzAY p/i9d8bmkz350z0fASEoSmXmNCOdUtbpf+31Ngqm0eLD/N8UQqgN/8OkOrw7dQsvbuk1 DPsbbaBzvLZBsbgswediumAXlZbDqCrPg+zqA= X-Google-DKIM-Signature: v=1; a=rsa-sha256; c=relaxed/relaxed; d=1e100.net; s=20230601; t=1752130967; x=1752735767; h=references:in-reply-to:cc:to:from:subject:message-id:date :x-gm-message-state:from:to:cc:subject:date:message-id:reply-to; bh=vWpIXkuaZg5bH2/c8rBGVw+5LsfwdLEy+3/+78Sx724=; b=bA7XPz62B8Q98eUv2bIRDGEEnXl+8gzZlkNcAXonWtDClV09wFBtpJhqqehBI/qq9D 8fUL3WWYDGEm95URu/iH1ZYzMSMp6hUo+wewyu1HuHKcwJx1J6otBrb1O900Ex1Zf4gP mOmfGOPzH+gEbMtuu2ub0Pgx4r17X4PsuwGWMuTFTJb/j1doNZ2Sj/v3g2PNaw+JThh+ bAiTLrCevBxTy7RMt6fOKLbCAuWspvDTrXnM9kOEKZUna6qXGYhX2X7uoxqIdg6htPgs q+I7Vz6rZrgRRcrrrx4cK9pQmR0ER9DdKQGDsA4V9MFhC53qNtd64T6VU6CKRX4KwrsL +GRQ== X-Gm-Message-State: AOJu0Yx/EPFvAqIWbpkpqFK11YJ29SfsAYvCKXMDBk7jml4NB2+kbsYO X96Y+Y7tksx4lC4SGs+HZcWAEc41GXvYf26hKTI1zp6rU6NOQelRbt71cf2WWHnfiDnD5DKyCpo cbvZqaJbdS9NxtJxr4tk4LMFYVG+8qJ6nRL2rzjK3+H4jRjLUFnZgVRrt9/7k X-Gm-Gg: ASbGncvyq8Ir0ee5fPd1kK+K5+AYOyA2zPX/bridqPTa5afcv/zUpIZWmY144PYgdWN uur7NeY6RKgJ5TC1BVu9HbGZgW9xLsQ9At5cqFv7dvrsjxOO0lCO8owvKW4GzK6RjdUB3Hy6thC T4RhV6/zYd2L6eyCPRhf8z/i4L3AvbUVWpHjcLxyr1Grs/FLDpYSm3kO9aW3/1P++pua4747QA9 MLssXIHEaUw90gFoK3y3GyzrRPLn7BRnFEoiY9QlXtC0HAgN0PttsGk7njRr9gVMyLCjP7fevnu m18K8CRnSg4XTt5K26fu3AawrLoUZ4DIl8z7HpLEIGwRjMU= X-Google-Smtp-Source: AGHT+IGnqhI84TtDOkp5OaO3QJxPmZ3JhCxgM73pyaz8GeESOstdUfKAvtTVpvm400d094HJLcLqBeGha+P/ X-Received: by 2002:a17:903:90e:b0:235:e8da:8d1 with SMTP id d9443c01a7336-23ddb19202amr75390755ad.8.1752130967106; Thu, 10 Jul 2025 00:02:47 -0700 (PDT) Received: from postal.iol.unh.edu (postal.iol.unh.edu. [2606:4100:3880:1234::84]) by smtp-relay.gmail.com with ESMTPS id d9443c01a7336-23de42a5267sm476885ad.46.2025.07.10.00.02.47 (version=TLS1_2 cipher=ECDHE-ECDSA-AES128-GCM-SHA256 bits=128/128); Thu, 10 Jul 2025 00:02:47 -0700 (PDT) X-Relaying-Domain: iol.unh.edu Date: Thu, 10 Jul 2025 00:02:47 -0700 (PDT) Message-ID: <686f6597.170a0220.37e013.2c23SMTPIN_ADDED_MISSING@mx.google.com> Received: from [172.21.0.6] (unknown [172.18.0.240]) by postal.iol.unh.edu (Postfix) with ESMTP id 4DA1C6051830; Thu, 10 Jul 2025 03:02:46 -0400 (EDT) Subject: |SUCCESS| pw155108 [PATCH] [v1,1/1] net/iavf: fix order of inclusion From: dpdklab@iol.unh.edu To: Test Report Cc: dpdk-test-reports@iol.unh.edu In-Reply-To: <552f8241f4f65fce0c8b43797612a97dec5d9ebc.1752066381.git.anatoly.burakov@intel.com> References: <552f8241f4f65fce0c8b43797612a97dec5d9ebc.1752066381.git.anatoly.burakov@intel.com> Content-Type: text/plain X-BeenThere: test-report@dpdk.org X-Mailman-Version: 2.1.29 Precedence: list List-Id: automatic DPDK test reports List-Unsubscribe: , List-Archive: List-Post: List-Help: List-Subscribe: , Errors-To: test-report-bounces@dpdk.org Test-Label: iol-unit-amd64-testing Test-Status: SUCCESS http://dpdk.org/patch/155108 _Testing PASS_ Submitter: Burakov, Anatoly Date: Wednesday, July 09 2025 13:06:29 DPDK git baseline: Repo:dpdk Branch: master CommitID:f1853a0cc95eaae5842b88be0cbcd5becc2e94b7 155108 --> testing pass Upstream job id: Generic-VM-Unit-Test-DPDK#29851 Test environment and result as below: +-------------------------------+----------------+ | Environment | dpdk_unit_test | +===============================+================+ | CentOS Stream 10 | PASS | +-------------------------------+----------------+ | Fedora Linux 40 | PASS | +-------------------------------+----------------+ | Debian GNU/Linux 12 | PASS | +-------------------------------+----------------+ | Fedora Linux 41 | PASS | +-------------------------------+----------------+ | Red Hat Enterprise Linux 8.10 | PASS | +-------------------------------+----------------+ | CentOS Stream 9 | PASS | +-------------------------------+----------------+ | Red Hat Enterprise Linux 9.5 | PASS | +-------------------------------+----------------+ | Ubuntu 24.04 | PASS | +-------------------------------+----------------+ | Ubuntu 20.04 | PASS | +-------------------------------+----------------+ | Ubuntu 22.04 | PASS | +-------------------------------+----------------+ | Windows Server 2022 | PASS | +-------------------------------+----------------+ CentOS Stream 10 Kernel: 5.15 Compiler: gcc gcc (GCC) 14.2.1 20250110 (Red Hat 14.2.1-8) Fedora Linux 40 Kernel: 5.15 Compiler: gcc gcc (GCC) 14.2.1 20240912 (Red Hat 14.2.1-3) Debian GNU/Linux 12 Kernel: 5.15 Compiler: gcc gcc (Debian 12.2.0-14+deb12u1) 12.2.0 Fedora Linux 41 Kernel: 5.15 Compiler: clang gcc (GCC) 14.3.1 20250523 (Red Hat 14.3.1-1) Red Hat Enterprise Linux 8.10 Kernel: 5.15 Compiler: gcc gcc (GCC) 8.5.0 20210514 (Red Hat 8.5.0-22) CentOS Stream 9 Kernel: 5.15 Compiler: gcc gcc (GCC) 11.5.0 20240719 (Red Hat 11.5.0-7) Red Hat Enterprise Linux 9.5 Kernel: 5.15 Compiler: gcc gcc (GCC) 11.5.0 20240719 (Red Hat 11.5.0-2) Ubuntu 24.04 Kernel: 5.15 Compiler: gcc gcc (Ubuntu 13.3.0-6ubuntu2~24.04) 13.3.0 Ubuntu 20.04 Kernel: 5.15 Compiler: gcc gcc (Ubuntu 9.4.0-1ubuntu1~20.04.2) 9.4.0 Ubuntu 22.04 Kernel: 5.15 Compiler: gcc gcc (Ubuntu 11.4.0-1ubuntu1~22.04) 11.4.0 Windows Server 2022 Kernel: 10.0.20348.2031 Compiler: clang 15.0.7, gcc 14.1.0 (MinGW), and MSVC VS 19.39.33521 To view detailed results, visit: https://lab.dpdk.org/results/dashboard/patchsets/33627/ UNH-IOL DPDK Community Lab To manage your email subscriptions, visit: https://lab.dpdk.org/results/dashboard/preferences/subscriptions/