From mboxrd@z Thu Jan 1 00:00:00 1970 Return-Path: Received: from mails.dpdk.org (mails.dpdk.org [217.70.189.124]) by inbox.dpdk.org (Postfix) with ESMTP id 4810C46B35 for ; Thu, 10 Jul 2025 09:19:31 +0200 (CEST) Received: from mails.dpdk.org (localhost [127.0.0.1]) by mails.dpdk.org (Postfix) with ESMTP id 2A1EE402D1; Thu, 10 Jul 2025 09:19:31 +0200 (CEST) Received: from mail-io1-f97.google.com (mail-io1-f97.google.com [209.85.166.97]) by mails.dpdk.org (Postfix) with ESMTP id 53776402D1 for ; Thu, 10 Jul 2025 09:19:29 +0200 (CEST) Received: by mail-io1-f97.google.com with SMTP id ca18e2360f4ac-86cf3dd8c97so72727339f.2 for ; Thu, 10 Jul 2025 00:19:29 -0700 (PDT) DKIM-Signature: v=1; a=rsa-sha256; c=relaxed/relaxed; d=iol.unh.edu; s=unh-iol; t=1752131968; x=1752736768; darn=dpdk.org; h=references:in-reply-to:cc:to:from:subject:message-id:date:from:to :cc:subject:date:message-id:reply-to; bh=i4kfM4AqLI8iSC25XonnjdgySv+F5q6DLj/k5NMRdgo=; b=U4ZjLJUMHvRo2KCWriKc+VRcXe7Nr4rqvDEXSTP99ANvDwKoWHCzuIvIud8uES9Am+ nE2Z3OOMzc/R3Cu6cDXNSLCTJpibqPVCERjZndLEJaMrxx4hpkUGFJwCsmX4qreSj273 bk895b8YyMCrFi8ah8CYgzSFyf+b3+ezwhQrM= X-Google-DKIM-Signature: v=1; a=rsa-sha256; c=relaxed/relaxed; d=1e100.net; s=20230601; t=1752131968; x=1752736768; h=references:in-reply-to:cc:to:from:subject:message-id:date :x-gm-message-state:from:to:cc:subject:date:message-id:reply-to; bh=i4kfM4AqLI8iSC25XonnjdgySv+F5q6DLj/k5NMRdgo=; b=iR8UuY5JMXs3WouKqyJFhcZjjDWv/uRLonkCms1eoiX8J6KJa0uHmheKOpLpgHfZgr gF6dWifm1hPIZipC1VOu2zZ5+Lld/xyxh0Gfy1qaY4nkjkO2IOoSypCmWdLqoGgH/LLH Z+FNiJRM/VeZEsKEV6sXhtdjIzO4zBS+IPizYauaaLssDrLr6On+TO27vew0CFx/cu5m e9zOwFFLbd6jhU3zZekcB3+7YQcDLHYmog36WEcST/sTeRBpDIQPwwZuzoHQVScUFxGN GvrYJVZg2clG91Uk/oI60fi/3WX1K1n+en4QguN5Gm7UjDaSDvRGn/Z1UODcNU/fFRtX yE7Q== X-Gm-Message-State: AOJu0Yye0C+/+Jg/E1bKk4JSTy56ZoBoB57sX5Ru0lrwN/eMoWahuLQZ CyMGU0LBoFAoshsgfGEfMYbprmka++/vXMaCqou/dxwdQ2ApdGInNnguh6Y1oIvKEpth/Kep6F/ VejdQsUsxqTwtG7oVbExFW/UP5h0rvE2aYEWi/G7Agdiv X-Gm-Gg: ASbGncs+3n8LwX5SOHXshSwNKOpnzbI2wXhdrTtrzNjgCbry2BDV1XIinQJYU3gvz97 EI6r20fhYwnpkUN5/VHDngvfFPu7sIiqXvsCAIQoNX9fK3I/5FB6YpnzLq+gfE5kpAj1iAuo34d lsjMB2JDmU4L98XHPcqxlI8HFjLfYyRpyfEo+up/uAyNTrv6kvUKVD173+cRnYy8kS5NAw2sdZU 0W4iZkpIXNT6Rzop+rdPt9acGVyi1QTu7NEYk4MKLrbIL4axBqkcUaQbfuDM7TiQMFcOfWEOpRz 8+iLKZGIp565mbWoYiA2tJ05dPg4tjpK7EnXWRUkebDBOyeN0aNT0LxfP+O3b7ifYbC73w== X-Google-Smtp-Source: AGHT+IHfRmDeo+R5izaTNLynXzuZ/mxd9SrKcOUv8dVCkip9jBMklaoMIZpOuklCstVqnWJVXxWGla+HFDTl X-Received: by 2002:a05:6e02:3992:b0:3dc:8b57:b750 with SMTP id e9e14a558f8ab-3e2461e8093mr14598415ab.17.1752131968657; Thu, 10 Jul 2025 00:19:28 -0700 (PDT) Received: from postal.iol.unh.edu (postal.iol.unh.edu. [132.177.123.84]) by smtp-relay.gmail.com with ESMTPS id 8926c6da1cb9f-5055698468csm40211173.52.2025.07.10.00.19.28 (version=TLS1_2 cipher=ECDHE-ECDSA-AES128-GCM-SHA256 bits=128/128); Thu, 10 Jul 2025 00:19:28 -0700 (PDT) X-Relaying-Domain: iol.unh.edu Date: Thu, 10 Jul 2025 00:19:28 -0700 (PDT) Message-ID: <686f6980.050a0220.34496b.2490SMTPIN_ADDED_MISSING@mx.google.com> Received: from [172.21.0.5] (unknown [172.18.0.240]) by postal.iol.unh.edu (Postfix) with ESMTP id 286026051830; Thu, 10 Jul 2025 03:19:28 -0400 (EDT) Subject: |SUCCESS| pw155029-155031 [PATCH] [v3,3/3] app/testpmd: improve outp From: dpdklab@iol.unh.edu To: Test Report Cc: dpdk-test-reports@iol.unh.edu In-Reply-To: <20250707111751.183469-4-bruce.richardson@intel.com> References: <20250707111751.183469-4-bruce.richardson@intel.com> Content-Type: text/plain X-BeenThere: test-report@dpdk.org X-Mailman-Version: 2.1.29 Precedence: list List-Id: automatic DPDK test reports List-Unsubscribe: , List-Archive: List-Post: List-Help: List-Subscribe: , Errors-To: test-report-bounces@dpdk.org Test-Label: iol-unit-amd64-testing Test-Status: SUCCESS http://dpdk.org/patch/155031 _Testing PASS_ Submitter: Bruce Richardson Date: Monday, July 07 2025 11:17:51 DPDK git baseline: Repo:dpdk Branch: master CommitID:ba982f9a1ca9b96ed0394b764f1523d482e963a2 155029-155031 --> testing pass Upstream job id: Generic-VM-Unit-Test-DPDK#29852 Test environment and result as below: +-------------------------------+----------------+ | Environment | dpdk_unit_test | +===============================+================+ | CentOS Stream 9 | PASS | +-------------------------------+----------------+ | Fedora Linux 40 | PASS | +-------------------------------+----------------+ | Fedora Linux 41 | PASS | +-------------------------------+----------------+ | CentOS Stream 10 | PASS | +-------------------------------+----------------+ | Debian GNU/Linux 12 | PASS | +-------------------------------+----------------+ | Red Hat Enterprise Linux 8.10 | PASS | +-------------------------------+----------------+ | Ubuntu 22.04 | PASS | +-------------------------------+----------------+ | Ubuntu 20.04 | PASS | +-------------------------------+----------------+ | Red Hat Enterprise Linux 9.5 | PASS | +-------------------------------+----------------+ | Ubuntu 24.04 | PASS | +-------------------------------+----------------+ | Windows Server 2022 | PASS | +-------------------------------+----------------+ CentOS Stream 9 Kernel: 5.15 Compiler: gcc gcc (GCC) 11.5.0 20240719 (Red Hat 11.5.0-7) Fedora Linux 40 Kernel: 5.15 Compiler: gcc gcc (GCC) 14.2.1 20240912 (Red Hat 14.2.1-3) Fedora Linux 41 Kernel: 5.15 Compiler: gcc gcc (GCC) 14.3.1 20250523 (Red Hat 14.3.1-1) CentOS Stream 10 Kernel: 5.15 Compiler: gcc gcc (GCC) 14.2.1 20250110 (Red Hat 14.2.1-8) Debian GNU/Linux 12 Kernel: 5.15 Compiler: gcc gcc (Debian 12.2.0-14+deb12u1) 12.2.0 Red Hat Enterprise Linux 8.10 Kernel: 5.15 Compiler: gcc gcc (GCC) 8.5.0 20210514 (Red Hat 8.5.0-22) Ubuntu 22.04 Kernel: 5.15 Compiler: gcc gcc (Ubuntu 11.4.0-1ubuntu1~22.04) 11.4.0 Ubuntu 20.04 Kernel: 5.15 Compiler: gcc gcc (Ubuntu 9.4.0-1ubuntu1~20.04.2) 9.4.0 Red Hat Enterprise Linux 9.5 Kernel: 5.15 Compiler: gcc gcc (GCC) 11.5.0 20240719 (Red Hat 11.5.0-2) Ubuntu 24.04 Kernel: 5.15 Compiler: gcc gcc (Ubuntu 13.3.0-6ubuntu2~24.04) 13.3.0 Windows Server 2022 Kernel: 10.0.20348.2031 Compiler: clang 15.0.7, gcc 14.1.0 (MinGW), and MSVC VS 19.39.33521 To view detailed results, visit: https://lab.dpdk.org/results/dashboard/patchsets/33604/ UNH-IOL DPDK Community Lab To manage your email subscriptions, visit: https://lab.dpdk.org/results/dashboard/preferences/subscriptions/