From mboxrd@z Thu Jan 1 00:00:00 1970 Return-Path: Received: from mails.dpdk.org (mails.dpdk.org [217.70.189.124]) by inbox.dpdk.org (Postfix) with ESMTP id 804A546B35 for ; Thu, 10 Jul 2025 09:21:17 +0200 (CEST) Received: from mails.dpdk.org (localhost [127.0.0.1]) by mails.dpdk.org (Postfix) with ESMTP id 55ABA402D1; Thu, 10 Jul 2025 09:21:17 +0200 (CEST) Received: from mail-pf1-f225.google.com (mail-pf1-f225.google.com [209.85.210.225]) by mails.dpdk.org (Postfix) with ESMTP id EC3C1402D1 for ; Thu, 10 Jul 2025 09:21:15 +0200 (CEST) Received: by mail-pf1-f225.google.com with SMTP id d2e1a72fcca58-749248d06faso614206b3a.2 for ; Thu, 10 Jul 2025 00:21:15 -0700 (PDT) DKIM-Signature: v=1; a=rsa-sha256; c=relaxed/relaxed; d=iol.unh.edu; s=unh-iol; t=1752132075; x=1752736875; darn=dpdk.org; h=references:in-reply-to:cc:to:from:subject:message-id:date:from:to :cc:subject:date:message-id:reply-to; bh=uXgim5u46y2bWvX6CXBalKzhWhMK/KYw5sFIX0BYk6k=; b=HiUdKMU4zeSijhTeLsg9dJ6Dmc2iQv42XrRYs6IornVud5sxSWexw/tsXLKMXyhccF JOW6E1aM8BKXD5xsMqwycUYEaz/3Vfl20ditNL32VLvyiPU1KctEi7D82JZ/K+SvqJNW mdXMmUsW5PYCr6UxXC0OyRaZ69mIMiJJ9DERc= X-Google-DKIM-Signature: v=1; a=rsa-sha256; c=relaxed/relaxed; d=1e100.net; s=20230601; t=1752132075; x=1752736875; h=references:in-reply-to:cc:to:from:subject:message-id:date :x-gm-message-state:from:to:cc:subject:date:message-id:reply-to; bh=uXgim5u46y2bWvX6CXBalKzhWhMK/KYw5sFIX0BYk6k=; b=B35q+74NaKr/aZaI/vvGd/YFiZ72AA84SyfEocWu1hFLwAOI4FHQum+ss3xDEiAYwX s7VFlxH3Q8E+d2V4T/bqwopP1HqsIHL8aYz1nQ7PqdYqARVNMEN5Xlyx1EToOynPytKf AHcOd9LFtdWBohNrUxdBo0h00RcHtHvtxbkfit63EI1IhRIyqD80JptwH0TVaQ5fgcVn RppsWvZ5ik4CKn6zfYtlUguCesl4AfuQMJ+NNz6WuYoVFIQMmAB97iUCqPb4Otb6a83A XlHwscZ8N0nCMg1v5KJz0M0uHBotyb91ncEbSBBvujBbHtf+hC6Dj28kPBJbTnwoxrxI o+0A== X-Gm-Message-State: AOJu0YxHEz+53v9iO/mwKfA4+aVopfSOaYEepzFDmpSmahVnUIMHP3BY e5zKL/6M8t9xqLUNH1Qrn6DXMZN/533ugkArIOTxojlrocReawIEBo2lFbul5YAdoE97hMKyOtq 92UdKGPCzX+u3xkoMyaT7htFd1XdvQCrAo3Y//ACGMOWU X-Gm-Gg: ASbGncuRJ+WFm0sIp7fdAd963PGJQKi+OUFKGtbA7gtgZegshwxy0ZUvsF9yV+KogXl keIgJbhv+4SrOcs8XPRTAQOCgNNEvjhvyrGFfZZcqA/eGabjTb6wgHXKgrV71Y85eb2EHBw/C4J jMYImROlMBe8IgTHqicQipvHyDUZBOmb0CipsT01R0kHgdVDjE9Kp1uS3s5RPdfsuBuPoFDk52l JzMzm5bzMW9DnNgGaOAI3jo14YpF3w3Xz4NIGBOTscrjIsi8gLqeHLf9OIjaML2NZteNcliZX3M 4Sm4SYiUK5akKYfryrpyItWly2mwYEQ5FPw5KAGboyE/TOsDaRKzVCN9ZyeVK38v0kuFJA== X-Google-Smtp-Source: AGHT+IHBbxAgubwU58/m93BeCcnEWbxTQqbWYGvb75P8GNcPYYeyVLSupIwQ5anjEm7OJa/mm1GK4B2ThIx7 X-Received: by 2002:a05:6a00:808:b0:746:3040:4da2 with SMTP id d2e1a72fcca58-74ea6565872mr9928354b3a.8.1752132075030; Thu, 10 Jul 2025 00:21:15 -0700 (PDT) Received: from postal.iol.unh.edu (postal.iol.unh.edu. [132.177.123.84]) by smtp-relay.gmail.com with ESMTPS id d2e1a72fcca58-74eb9f901e4sm47394b3a.21.2025.07.10.00.21.14 (version=TLS1_2 cipher=ECDHE-ECDSA-AES128-GCM-SHA256 bits=128/128); Thu, 10 Jul 2025 00:21:15 -0700 (PDT) X-Relaying-Domain: iol.unh.edu Date: Thu, 10 Jul 2025 00:21:15 -0700 (PDT) Message-ID: <686f69eb.050a0220.10f8b5.28a9SMTPIN_ADDED_MISSING@mx.google.com> Received: from [172.21.0.6] (unknown [172.18.0.240]) by postal.iol.unh.edu (Postfix) with ESMTP id 395536051830; Thu, 10 Jul 2025 03:21:14 -0400 (EDT) Subject: |WARNING| pw155122 [PATCH] [net] net/vmxnet3: fix mapping of mempool From: dpdklab@iol.unh.edu To: Test Report Cc: dpdk-test-reports@iol.unh.edu In-Reply-To: <20250709212905.126851-1-ronak.doshi@broadcom.com> References: <20250709212905.126851-1-ronak.doshi@broadcom.com> Content-Type: text/plain X-BeenThere: test-report@dpdk.org X-Mailman-Version: 2.1.29 Precedence: list List-Id: automatic DPDK test reports List-Unsubscribe: , List-Archive: List-Post: List-Help: List-Subscribe: , Errors-To: test-report-bounces@dpdk.org Test-Label: iol-compile-amd64-testing Test-Status: WARNING http://dpdk.org/patch/155122 _Testing issues_ Submitter: Ronak Doshi Date: Wednesday, July 09 2025 21:29:03 DPDK git baseline: Repo:dpdk Branch: master CommitID:ba982f9a1ca9b96ed0394b764f1523d482e963a2 155122 --> testing issues Upstream job id: Windows-Compile-DPDK-Native#29711 Test environment and result as below: +-------------------------------+--------------------+-------------------+------------------+-------------------+-------------------------+----------------------+ | Environment | dpdk_meson_compile | dpdk_compile_spdk | dpdk_compile_ovs | dpdk_msvc_compile | dpdk_llvm_clang_compile | dpdk_mingw64_compile | +===============================+====================+===================+==================+===================+=========================+======================+ | CentOS Stream 9 | PASS | PASS | SKIPPED | SKIPPED | SKIPPED | SKIPPED | +-------------------------------+--------------------+-------------------+------------------+-------------------+-------------------------+----------------------+ | CentOS Stream 10 | PASS | SKIPPED | SKIPPED | SKIPPED | SKIPPED | SKIPPED | +-------------------------------+--------------------+-------------------+------------------+-------------------+-------------------------+----------------------+ | Debian GNU/Linux 12 | PASS | PASS | SKIPPED | SKIPPED | SKIPPED | SKIPPED | +-------------------------------+--------------------+-------------------+------------------+-------------------+-------------------------+----------------------+ | Fedora Linux 40 | PASS | PASS | SKIPPED | SKIPPED | SKIPPED | SKIPPED | +-------------------------------+--------------------+-------------------+------------------+-------------------+-------------------------+----------------------+ | Fedora Linux 41 | PASS | PASS | PASS | SKIPPED | SKIPPED | SKIPPED | +-------------------------------+--------------------+-------------------+------------------+-------------------+-------------------------+----------------------+ | Red Hat Enterprise Linux 8.10 | PASS | SKIPPED | SKIPPED | SKIPPED | SKIPPED | SKIPPED | +-------------------------------+--------------------+-------------------+------------------+-------------------+-------------------------+----------------------+ | Ubuntu 22.04 | PASS | PASS | SKIPPED | SKIPPED | SKIPPED | SKIPPED | +-------------------------------+--------------------+-------------------+------------------+-------------------+-------------------------+----------------------+ | Ubuntu 20.04 | PASS | SKIPPED | SKIPPED | SKIPPED | SKIPPED | SKIPPED | +-------------------------------+--------------------+-------------------+------------------+-------------------+-------------------------+----------------------+ | Red Hat Enterprise Linux 9.5 | PASS | SKIPPED | SKIPPED | SKIPPED | SKIPPED | SKIPPED | +-------------------------------+--------------------+-------------------+------------------+-------------------+-------------------------+----------------------+ | Ubuntu 24.04 | PASS | PASS | PASS | SKIPPED | SKIPPED | SKIPPED | +-------------------------------+--------------------+-------------------+------------------+-------------------+-------------------------+----------------------+ | FreeBSD 14.2 | PASS | SKIPPED | SKIPPED | SKIPPED | SKIPPED | SKIPPED | +-------------------------------+--------------------+-------------------+------------------+-------------------+-------------------------+----------------------+ | Alpine Linux 3.22.0 | PASS | SKIPPED | SKIPPED | SKIPPED | SKIPPED | SKIPPED | +-------------------------------+--------------------+-------------------+------------------+-------------------+-------------------------+----------------------+ | openSUSE Leap 15.6 | PASS | SKIPPED | SKIPPED | SKIPPED | SKIPPED | SKIPPED | +-------------------------------+--------------------+-------------------+------------------+-------------------+-------------------------+----------------------+ | Windows Server 2022 | SKIPPED | SKIPPED | SKIPPED | PASS | PASS | PASS | +-------------------------------+--------------------+-------------------+------------------+-------------------+-------------------------+----------------------+ CentOS Stream 9 Kernel: 5.15 Compiler: gcc gcc (GCC) 11.5.0 20240719 (Red Hat 11.5.0-7) CentOS Stream 10 Kernel: 5.15 Compiler: gcc gcc (GCC) 14.2.1 20250110 (Red Hat 14.2.1-8) Debian GNU/Linux 12 Kernel: 5.15 Compiler: gcc gcc (Debian 12.2.0-14+deb12u1) 12.2.0 Fedora Linux 40 Kernel: 5.15 Compiler: clang gcc (GCC) 14.2.1 20240912 (Red Hat 14.2.1-3) Fedora Linux 41 Kernel: 5.15 Compiler: clang gcc (GCC) 14.3.1 20250523 (Red Hat 14.3.1-1) Red Hat Enterprise Linux 8.10 Kernel: 5.15 Compiler: gcc gcc (GCC) 8.5.0 20210514 (Red Hat 8.5.0-22) Ubuntu 22.04 Kernel: 5.15 Compiler: gcc gcc (Ubuntu 11.4.0-1ubuntu1~22.04) 11.4.0 Ubuntu 20.04 Kernel: 5.15 Compiler: gcc gcc (Ubuntu 9.4.0-1ubuntu1~20.04.2) 9.4.0 Red Hat Enterprise Linux 9.5 Kernel: 5.15 Compiler: gcc gcc (GCC) 11.5.0 20240719 (Red Hat 11.5.0-2) Ubuntu 24.04 Kernel: 5.15 Compiler: gcc gcc (Ubuntu 13.3.0-6ubuntu2~24.04) 13.3.0 FreeBSD 14.2 Kernel: 14.2-RELEASE Compiler: clang 18.1.6 Alpine Linux 3.22.0 Kernel: 5.15 Compiler: gcc gcc (Alpine 14.2.0) 14.2.0 openSUSE Leap 15.6 Kernel: 5.15 Compiler: gcc gcc (SUSE Linux) 7.5.0 Windows Server 2022 Kernel: 10.0.20348.2031 Compiler: clang 15.0.7, gcc 14.1.0 (MinGW), and MSVC VS 19.39.33521 To view detailed results, visit: https://lab.dpdk.org/results/dashboard/patchsets/33630/ UNH-IOL DPDK Community Lab To manage your email subscriptions, visit: https://lab.dpdk.org/results/dashboard/preferences/subscriptions/