From mboxrd@z Thu Jan 1 00:00:00 1970 Return-Path: Received: from mails.dpdk.org (mails.dpdk.org [217.70.189.124]) by inbox.dpdk.org (Postfix) with ESMTP id 6CE9246B35 for ; Thu, 10 Jul 2025 09:56:00 +0200 (CEST) Received: from mails.dpdk.org (localhost [127.0.0.1]) by mails.dpdk.org (Postfix) with ESMTP id 3C34E402D1; Thu, 10 Jul 2025 09:56:00 +0200 (CEST) Received: from mail-pj1-f97.google.com (mail-pj1-f97.google.com [209.85.216.97]) by mails.dpdk.org (Postfix) with ESMTP id 26CBD402D1 for ; Thu, 10 Jul 2025 09:55:58 +0200 (CEST) Received: by mail-pj1-f97.google.com with SMTP id 98e67ed59e1d1-311d5fdf1f0so741260a91.1 for ; Thu, 10 Jul 2025 00:55:58 -0700 (PDT) DKIM-Signature: v=1; a=rsa-sha256; c=relaxed/relaxed; d=iol.unh.edu; s=unh-iol; t=1752134157; x=1752738957; darn=dpdk.org; h=references:in-reply-to:cc:to:from:subject:message-id:date:from:to :cc:subject:date:message-id:reply-to; bh=mXMhXg5gyOSaQf8unrx7O8axC+zm3hN4PzspFeBqh9c=; b=jf6wkxKKQgdwA4sJZCM/RhIAj/pyuEsAODxCiSP+e3Q4v2pUPitij2wGHwO8mrIVog uXKgIl10hwS26FyHwCIM4zfR6pIx5lw0sp00iZwv4KpJCF8CPmabEYQvDtIMYQNeAc5J d7KVPcR6Hx/Vd0it/HRy6ocmzgM7pdhmmqjIU= X-Google-DKIM-Signature: v=1; a=rsa-sha256; c=relaxed/relaxed; d=1e100.net; s=20230601; t=1752134157; x=1752738957; h=references:in-reply-to:cc:to:from:subject:message-id:date :x-gm-message-state:from:to:cc:subject:date:message-id:reply-to; bh=mXMhXg5gyOSaQf8unrx7O8axC+zm3hN4PzspFeBqh9c=; b=tB8aX06Y1O222KaTreOEc46yJKNtmogPxLDm0Bht5XiTnTkRr9ITlWISTX+ODi+Eoo SHmNvt85c1L8iijKIz1gBKyWzmvNJDS7xGDKcV2YR+ClHs4aCpbJpUWKM7EISPnwqacj hLzHZtuI5IE/Bre4Wt9g2IxGXnWXl/2S1KjZz9FWanOzDwYNekfyauflhMkuTlON3kwC 4UwlzpPWZuGhKVmdHH16OOayxdf/9v11U/obBx7yuloxGl8pw2AWYAo7KVU+EgRM1Huy yOcBPyRpfmslPEN4MXwa/MRrbh8D5ZulWv/Q2Cs5Lbs5f5NDTO46TqNDwcCgmnvp9i97 MUZQ== X-Gm-Message-State: AOJu0Yw/x9osSv0zpW+x5vdrqtPL8PqW32/b3DW4SrZipoJ5aNLIijxm bo/EJ283wluqlworqsmGQqqMGdakzsxz7pi8N3D23fgzk2g06gDjSUhAGEgMqCZKwwPvIqbxcoZ mLgFdDo+65uqiSnHeWB8b4H24KJucr2g7fB7M1Jbvl6EO X-Gm-Gg: ASbGnctFpFEZmnoz5MSUKLays+YEdCl2wZ6n3Yf8CKGDv3ZqAJg9zbj5w4fEIiJJijp Cpux0jt152z2gtSrSwNkohfCriUK1U9CXz24WyRm7LJt/jwL4b+BJ1eWjIqP6aHcR/b2BhCiT82 pKahuZn7+DuhBYGzUUYz9O0Sxp74jIvwfhnA91KLFK7MMpTi0mUVAaodFM6Nelm1aXXKeA193/5 Q6JKFY43DXceNalnKD7kVe9/pTA9R5QXDWyMAzQyzuTmC2jQ/+7oFeLgImbgmYoqKfFWzu0RXPn f95JZGngrxu/Hcp7MbCM8rjVA6UHSu8CZuLBoGENC2OJ995deQDP0ZvTh0zvK4CuVzhmqg== X-Google-Smtp-Source: AGHT+IESiEgURCtPsfhFz/dvcCoM+ifuT3Q1/T7GrkqtG06Nbi9wYVl2ZzcToCUzmowicPXKUHoHHWMgKuW6 X-Received: by 2002:a17:90b:1d11:b0:313:33ca:3b8b with SMTP id 98e67ed59e1d1-31c3c266b19mr4854342a91.9.1752134157243; Thu, 10 Jul 2025 00:55:57 -0700 (PDT) Received: from postal.iol.unh.edu (postal.iol.unh.edu. [132.177.123.84]) by smtp-relay.gmail.com with ESMTPS id 98e67ed59e1d1-31c3e962af4sm46283a91.1.2025.07.10.00.55.57 (version=TLS1_2 cipher=ECDHE-ECDSA-AES128-GCM-SHA256 bits=128/128); Thu, 10 Jul 2025 00:55:57 -0700 (PDT) X-Relaying-Domain: iol.unh.edu Date: Thu, 10 Jul 2025 00:55:57 -0700 (PDT) Message-ID: <686f720d.170a0220.218d90.2a04SMTPIN_ADDED_MISSING@mx.google.com> Received: from [172.21.0.5] (unknown [172.18.0.240]) by postal.iol.unh.edu (Postfix) with ESMTP id 6EA7B6051835; Thu, 10 Jul 2025 03:55:56 -0400 (EDT) Subject: |SUCCESS| pw155085 [PATCH] [v3] pcapng: allow any protocol link type From: dpdklab@iol.unh.edu To: Test Report Cc: dpdk-test-reports@iol.unh.edu In-Reply-To: <20250708210245.3967578-1-schneide@qti.qualcomm.com> References: <20250708210245.3967578-1-schneide@qti.qualcomm.com> Content-Type: text/plain X-BeenThere: test-report@dpdk.org X-Mailman-Version: 2.1.29 Precedence: list List-Id: automatic DPDK test reports List-Unsubscribe: , List-Archive: List-Post: List-Help: List-Subscribe: , Errors-To: test-report-bounces@dpdk.org Test-Label: iol-unit-amd64-testing Test-Status: SUCCESS http://dpdk.org/patch/155085 _Testing PASS_ Submitter: Schneide Date: Tuesday, July 08 2025 21:02:45 DPDK git baseline: Repo:dpdk Branch: master CommitID:e90979eebbea093f6bab2d7c222fc5f5c9a85eff 155085 --> testing pass Upstream job id: Generic-VM-Unit-Test-DPDK#29854 Test environment and result as below: +-------------------------------+----------------+ | Environment | dpdk_unit_test | +===============================+================+ | CentOS Stream 10 | PASS | +-------------------------------+----------------+ | CentOS Stream 9 | PASS | +-------------------------------+----------------+ | Fedora Linux 40 | PASS | +-------------------------------+----------------+ | Fedora Linux 41 | PASS | +-------------------------------+----------------+ | Debian GNU/Linux 12 | PASS | +-------------------------------+----------------+ | Ubuntu 20.04 | PASS | +-------------------------------+----------------+ | Red Hat Enterprise Linux 9.5 | PASS | +-------------------------------+----------------+ | Red Hat Enterprise Linux 8.10 | PASS | +-------------------------------+----------------+ | Ubuntu 22.04 | PASS | +-------------------------------+----------------+ | Ubuntu 24.04 | PASS | +-------------------------------+----------------+ | Windows Server 2022 | PASS | +-------------------------------+----------------+ CentOS Stream 10 Kernel: 5.15 Compiler: gcc gcc (GCC) 14.2.1 20250110 (Red Hat 14.2.1-8) CentOS Stream 9 Kernel: 5.15 Compiler: gcc gcc (GCC) 11.5.0 20240719 (Red Hat 11.5.0-7) Fedora Linux 40 Kernel: 5.15 Compiler: clang gcc (GCC) 14.2.1 20240912 (Red Hat 14.2.1-3) Fedora Linux 41 Kernel: 5.15 Compiler: clang gcc (GCC) 14.3.1 20250523 (Red Hat 14.3.1-1) Debian GNU/Linux 12 Kernel: 5.15 Compiler: gcc gcc (Debian 12.2.0-14+deb12u1) 12.2.0 Ubuntu 20.04 Kernel: 5.15 Compiler: gcc gcc (Ubuntu 9.4.0-1ubuntu1~20.04.2) 9.4.0 Red Hat Enterprise Linux 9.5 Kernel: 5.15 Compiler: gcc gcc (GCC) 11.5.0 20240719 (Red Hat 11.5.0-2) Red Hat Enterprise Linux 8.10 Kernel: 5.15 Compiler: gcc gcc (GCC) 8.5.0 20210514 (Red Hat 8.5.0-22) Ubuntu 22.04 Kernel: 5.15 Compiler: gcc gcc (Ubuntu 11.4.0-1ubuntu1~22.04) 11.4.0 Ubuntu 24.04 Kernel: 5.15 Compiler: gcc gcc (Ubuntu 13.3.0-6ubuntu2~24.04) 13.3.0 Windows Server 2022 Kernel: 10.0.20348.2031 Compiler: clang 15.0.7, gcc 14.1.0 (MinGW), and MSVC VS 19.39.33521 To view detailed results, visit: https://lab.dpdk.org/results/dashboard/patchsets/33618/ UNH-IOL DPDK Community Lab To manage your email subscriptions, visit: https://lab.dpdk.org/results/dashboard/preferences/subscriptions/