From mboxrd@z Thu Jan 1 00:00:00 1970 Return-Path: Received: from mails.dpdk.org (mails.dpdk.org [217.70.189.124]) by inbox.dpdk.org (Postfix) with ESMTP id EE1CF46B37 for ; Thu, 10 Jul 2025 10:28:29 +0200 (CEST) Received: from mails.dpdk.org (localhost [127.0.0.1]) by mails.dpdk.org (Postfix) with ESMTP id D6454402D1; Thu, 10 Jul 2025 10:28:29 +0200 (CEST) Received: from mail-pg1-f225.google.com (mail-pg1-f225.google.com [209.85.215.225]) by mails.dpdk.org (Postfix) with ESMTP id 61683402D1 for ; Thu, 10 Jul 2025 10:28:28 +0200 (CEST) Received: by mail-pg1-f225.google.com with SMTP id 41be03b00d2f7-b3182c6d03bso960143a12.0 for ; Thu, 10 Jul 2025 01:28:28 -0700 (PDT) DKIM-Signature: v=1; a=rsa-sha256; c=relaxed/relaxed; d=iol.unh.edu; s=unh-iol; t=1752136107; x=1752740907; darn=dpdk.org; h=references:in-reply-to:cc:to:from:subject:message-id:date:from:to :cc:subject:date:message-id:reply-to; bh=nNwMu010lGe/YyAYS8hFGCpRjnfMZr2F696TmMv4Lc4=; b=FDAew6dYufm9Dk9srPSpuUXqFZfOpttKjP7fvJu/tniuvn3C93v7gjFGZLuxqwGnS2 ngIEHdDmfRe6CpuH5wC0vomYMyOIRn/pT+6yVcQ+i6RFE069UPTAk3SRyzD1tmPKhFwh rUBKb0bXq2pn5y4P/5hOO6wepQZeenZEqcFUM= X-Google-DKIM-Signature: v=1; a=rsa-sha256; c=relaxed/relaxed; d=1e100.net; s=20230601; t=1752136107; x=1752740907; h=references:in-reply-to:cc:to:from:subject:message-id:date :x-gm-message-state:from:to:cc:subject:date:message-id:reply-to; bh=nNwMu010lGe/YyAYS8hFGCpRjnfMZr2F696TmMv4Lc4=; b=JmW1uL/8fr8VHKlvRdrBmK/Rjb0/YXs2JHISp1LcWUJkL/OLGyG9KREx3/oT+MScSt dkGJXSoShKsvRI0wP5WQOjhKYE0H/8/QIBRxmCD7yDGKph0uO5vmGEntFaNvNv6DFPtW PSS6qZiyPlorgr7PEOeAEL8p1XtUEPX2ZDh1J8mTIW7rkazqAFgMhjlFW82RlTsBQArq ImXW5OgVmbFdb3r33Rwg3X3Og19YX/BuzJZbiRnAKVbsTNBMzvr+nTG5Yu/bSh7jXRy1 CCDaqbuZ70Omqz3Ej7FUG9KKo0NmHmbv6FEGP9DuAY5O89/WyzKSGm6ClhCYxKX+X7Pa OcJg== X-Gm-Message-State: AOJu0YwOMjLlVSjjlnp1hc2GOtKAz5UTng1Pkai1g4MjNjHu17auY7FS a2n0qcD9c+IklhDN6rWcEoYHFJJsRpYebsfwKf+tmNthgjV8qjZ1HgSiNZH2LuLpdGdeN3HTbqp HaTNkrO7UVu0v8swQKkhB2ITRh9vicgSnRzH+2Q9s69Sx X-Gm-Gg: ASbGncsEW0IbhfrylpwBcycwwU5k+s0OY9Ie04oX1f43FGEyCcA+VKJqHt0I/nLkc9k /sFY4TrCAkrXjQG9pO6bguiW8850sekUsGgT/ojwx5/ASNQYb0a+6Pkk5agM6A0FrATArSv7Wy8 4jz2XUyc44fs4R+oTabr4YAPbqfMNEE+MJ/T9ngd2YVdoZyxqru1ZljiwSGWF529ok8qi6FRcZh cA1ORJqe/qFeGWqzwUYK0K8duWJAtO84SMwq5dNi6PTSRZocxqRIsFLX3a22MxkMqoXk/FIGvEq J6Q2z+O0x9U1vuFZlcU98wo/yAeUsN4P2J2z7Wibc7zWeiuuBjBepZ043bkNELogA0infw== X-Google-Smtp-Source: AGHT+IGFc4glIUggZ80YqLiokCm3vghR46ZIwtjvSSUN9RDIwrYAj1Q9p0NoxZ8O7xwpJuo3sthyMZfDz/i4 X-Received: by 2002:a17:90b:3bd0:b0:311:df4b:4b81 with SMTP id 98e67ed59e1d1-31c2fdd05d6mr8751483a91.25.1752136107416; Thu, 10 Jul 2025 01:28:27 -0700 (PDT) Received: from postal.iol.unh.edu (postal.iol.unh.edu. [132.177.123.84]) by smtp-relay.gmail.com with ESMTPS id 98e67ed59e1d1-31c3eb63c14sm79683a91.12.2025.07.10.01.28.27 (version=TLS1_2 cipher=ECDHE-ECDSA-AES128-GCM-SHA256 bits=128/128); Thu, 10 Jul 2025 01:28:27 -0700 (PDT) X-Relaying-Domain: iol.unh.edu Date: Thu, 10 Jul 2025 01:28:27 -0700 (PDT) Message-ID: <686f79ab.170a0220.dd170.41b7SMTPIN_ADDED_MISSING@mx.google.com> Received: from [172.21.0.5] (unknown [172.18.0.240]) by postal.iol.unh.edu (Postfix) with ESMTP id B0F3D6051830; Thu, 10 Jul 2025 04:28:26 -0400 (EDT) Subject: |SUCCESS| pw155109 [PATCH] [v2] test_bbdev: enable to be compiled on From: dpdklab@iol.unh.edu To: Test Report Cc: dpdk-test-reports@iol.unh.edu In-Reply-To: <1752074012-14869-1-git-send-email-andremue@linux.microsoft.com> References: <1752074012-14869-1-git-send-email-andremue@linux.microsoft.com> Content-Type: text/plain X-BeenThere: test-report@dpdk.org X-Mailman-Version: 2.1.29 Precedence: list List-Id: automatic DPDK test reports List-Unsubscribe: , List-Archive: List-Post: List-Help: List-Subscribe: , Errors-To: test-report-bounces@dpdk.org Test-Label: iol-unit-amd64-testing Test-Status: SUCCESS http://dpdk.org/patch/155109 _Testing PASS_ Submitter: Andre Muezerie Date: Wednesday, July 09 2025 15:13:32 DPDK git baseline: Repo:dpdk Branch: master CommitID:19154c548d15cfa4928fcfb208b381d377039519 155109 --> testing pass Upstream job id: Generic-VM-Unit-Test-DPDK#29857 Test environment and result as below: +-------------------------------+----------------+ | Environment | dpdk_unit_test | +===============================+================+ | CentOS Stream 9 | PASS | +-------------------------------+----------------+ | CentOS Stream 10 | PASS | +-------------------------------+----------------+ | Debian GNU/Linux 12 | PASS | +-------------------------------+----------------+ | Fedora Linux 41 | PASS | +-------------------------------+----------------+ | Fedora Linux 40 | PASS | +-------------------------------+----------------+ | Red Hat Enterprise Linux 9.5 | PASS | +-------------------------------+----------------+ | Ubuntu 20.04 | PASS | +-------------------------------+----------------+ | Red Hat Enterprise Linux 8.10 | PASS | +-------------------------------+----------------+ | Ubuntu 22.04 | PASS | +-------------------------------+----------------+ | Ubuntu 24.04 | PASS | +-------------------------------+----------------+ | Windows Server 2022 | PASS | +-------------------------------+----------------+ CentOS Stream 9 Kernel: 5.15 Compiler: gcc gcc (GCC) 11.5.0 20240719 (Red Hat 11.5.0-7) CentOS Stream 10 Kernel: 5.15 Compiler: gcc gcc (GCC) 14.2.1 20250110 (Red Hat 14.2.1-8) Debian GNU/Linux 12 Kernel: 5.15 Compiler: gcc gcc (Debian 12.2.0-14+deb12u1) 12.2.0 Fedora Linux 41 Kernel: 5.15 Compiler: gcc gcc (GCC) 14.3.1 20250523 (Red Hat 14.3.1-1) Fedora Linux 40 Kernel: 5.15 Compiler: gcc gcc (GCC) 14.2.1 20240912 (Red Hat 14.2.1-3) Red Hat Enterprise Linux 9.5 Kernel: 5.15 Compiler: gcc gcc (GCC) 11.5.0 20240719 (Red Hat 11.5.0-2) Ubuntu 20.04 Kernel: 5.15 Compiler: gcc gcc (Ubuntu 9.4.0-1ubuntu1~20.04.2) 9.4.0 Red Hat Enterprise Linux 8.10 Kernel: 5.15 Compiler: gcc gcc (GCC) 8.5.0 20210514 (Red Hat 8.5.0-22) Ubuntu 22.04 Kernel: 5.15 Compiler: gcc gcc (Ubuntu 11.4.0-1ubuntu1~22.04) 11.4.0 Ubuntu 24.04 Kernel: 5.15 Compiler: gcc gcc (Ubuntu 13.3.0-6ubuntu2~24.04) 13.3.0 Windows Server 2022 Kernel: 10.0.20348.2031 Compiler: clang 15.0.7, gcc 14.1.0 (MinGW), and MSVC VS 19.39.33521 To view detailed results, visit: https://lab.dpdk.org/results/dashboard/patchsets/33628/ UNH-IOL DPDK Community Lab To manage your email subscriptions, visit: https://lab.dpdk.org/results/dashboard/preferences/subscriptions/