From mboxrd@z Thu Jan 1 00:00:00 1970 Return-Path: Received: from mails.dpdk.org (mails.dpdk.org [217.70.189.124]) by inbox.dpdk.org (Postfix) with ESMTP id A4BDF46B37 for ; Thu, 10 Jul 2025 10:36:53 +0200 (CEST) Received: from mails.dpdk.org (localhost [127.0.0.1]) by mails.dpdk.org (Postfix) with ESMTP id 90457402D1; Thu, 10 Jul 2025 10:36:53 +0200 (CEST) Received: from mail-pl1-f225.google.com (mail-pl1-f225.google.com [209.85.214.225]) by mails.dpdk.org (Postfix) with ESMTP id A8701402D1 for ; Thu, 10 Jul 2025 10:36:51 +0200 (CEST) Received: by mail-pl1-f225.google.com with SMTP id d9443c01a7336-2350fc2591dso8284125ad.1 for ; Thu, 10 Jul 2025 01:36:51 -0700 (PDT) DKIM-Signature: v=1; a=rsa-sha256; c=relaxed/relaxed; d=iol.unh.edu; s=unh-iol; t=1752136611; x=1752741411; darn=dpdk.org; h=references:in-reply-to:cc:to:from:subject:message-id:date:from:to :cc:subject:date:message-id:reply-to; bh=JYObX3O15gs1mY/Wow8hnkXnSRXvqSmKwwJ9jDsY6mw=; b=h6W6qRyFjevnT1n/VjzZRIoEzWlg/aY89Se3MQSSsXrpZPvQAONEFLuLzsYArCl8qO n5280DXUUCii3BZihqr5DBFFc94IMnhOrBjw7vWiMudgUTZlvDEt/n6xzDh8MVp8/uN6 IhFn4CB5WWybZUp7jGAB60iQO8CXw2ABSJJWc= X-Google-DKIM-Signature: v=1; a=rsa-sha256; c=relaxed/relaxed; d=1e100.net; s=20230601; t=1752136611; x=1752741411; h=references:in-reply-to:cc:to:from:subject:message-id:date :x-gm-message-state:from:to:cc:subject:date:message-id:reply-to; bh=JYObX3O15gs1mY/Wow8hnkXnSRXvqSmKwwJ9jDsY6mw=; b=vxsQYAhkt4JH69wbi14oGYBpQS0i6Ms+erOWzAS5U2GztIIzHxNsZESNG4kVXbGqxw eSfjxWiYQx/2NDEVoaoK9XkHEwu0AegpAgrZ8RmSWBWPbQgfsEmrF2hiq+2WjlQ1wQJJ wlPEXSq33NK1GptO88kwc5Eeah9ObUQspCkYk5s6tKG2VqKNGE2d8mo5n5d8nO7yK1Pl GjHpcZkHxHB0KgP5ydel3DTJLVeg+EcJ3pmQT+wFoFaKc2LxS6Dm4y0+E5kWUhM8arlg KJKEKimsGNF86cE3pw7lyt+BYXVbS1N3BPXdp3qufn/j9sNVy5QAZVn+cEnGhFjxqLxk 3mEA== X-Gm-Message-State: AOJu0YwwUXLPAt8qkF0v9V+EIV2RzciX3eFhODM92A5gXUbJu8yQKuKP Tyaqdr82x6AeGBRME50qrD72CZGxh87ZuiXIfFlzZ+UvXcqwNnktFV8dmFuvUN5SNoTpB6Ubwl1 jwZCvRMsLSqybvs3i+foX6qasKgS/taOW+eW01ZH16Gwu X-Gm-Gg: ASbGncv0prygWvnNbOTo4EIfGKYkGU3gkzTlL+/CSALCvBVyW6Tew2N+qt+X9fy8x/1 PBGLifDebAkPxLq5wDn2RxpSLkVdz+fDyQRotRSWl4OW/sYZqZ2cPAtdKlPBbslSLF49cxdoKI0 KXRieMyVOewDIUlJ+HiGPTKlr9TMKwMeSpa1AluWPd+dXpzy+lqQs+DF02BdeCRN9i+MPQ9wm8y tiP9gb5dOeD01s5dlgvXVAMYZ0/XlSfirjNz5pmtIrniwJ4Ahq07szVg9JmQNTlG4A1zGeTOz4R LFmcqjCm/pOdPJAobxSYE/kv3k+NUOx87bQKSWm2RvaqW0qTh1GmYAMXCqQc9+lnEvmN9w== X-Google-Smtp-Source: AGHT+IEj5S2YAf/Zqw9V32aUt/rECyd3JEtrdEFdBQwZzAOvvYyJZvd4PcTLC/9vi4wk/vE8620reAuAkotC X-Received: by 2002:a17:903:fae:b0:234:986c:66cf with SMTP id d9443c01a7336-23de2f95c7fmr44463385ad.16.1752136610760; Thu, 10 Jul 2025 01:36:50 -0700 (PDT) Received: from postal.iol.unh.edu (postal.iol.unh.edu. [132.177.123.84]) by smtp-relay.gmail.com with ESMTPS id d9443c01a7336-23de42a3910sm528175ad.44.2025.07.10.01.36.50 (version=TLS1_2 cipher=ECDHE-ECDSA-AES128-GCM-SHA256 bits=128/128); Thu, 10 Jul 2025 01:36:50 -0700 (PDT) X-Relaying-Domain: iol.unh.edu Date: Thu, 10 Jul 2025 01:36:50 -0700 (PDT) Message-ID: <686f7ba2.170a0220.19a6a3.3214SMTPIN_ADDED_MISSING@mx.google.com> Received: from [172.21.0.5] (unknown [172.18.0.240]) by postal.iol.unh.edu (Postfix) with ESMTP id F3D346051830; Thu, 10 Jul 2025 04:36:49 -0400 (EDT) Subject: |SUCCESS| pw155109 [PATCH] [v2] test_bbdev: enable to be compiled on From: dpdklab@iol.unh.edu To: Test Report Cc: dpdk-test-reports@iol.unh.edu In-Reply-To: <1752074012-14869-1-git-send-email-andremue@linux.microsoft.com> References: <1752074012-14869-1-git-send-email-andremue@linux.microsoft.com> Content-Type: text/plain X-BeenThere: test-report@dpdk.org X-Mailman-Version: 2.1.29 Precedence: list List-Id: automatic DPDK test reports List-Unsubscribe: , List-Archive: List-Post: List-Help: List-Subscribe: , Errors-To: test-report-bounces@dpdk.org Test-Label: iol-unit-amd64-testing Test-Status: SUCCESS http://dpdk.org/patch/155109 _Testing PASS_ Submitter: Andre Muezerie Date: Wednesday, July 09 2025 15:13:32 DPDK git baseline: Repo:dpdk Branch: master CommitID:19154c548d15cfa4928fcfb208b381d377039519 155109 --> testing pass Upstream job id: Generic-VM-Unit-Test-DPDK#29858 Test environment and result as below: +-------------------------------+----------------+ | Environment | dpdk_unit_test | +===============================+================+ | CentOS Stream 9 | PASS | +-------------------------------+----------------+ | CentOS Stream 10 | PASS | +-------------------------------+----------------+ | Debian GNU/Linux 12 | PASS | +-------------------------------+----------------+ | Fedora Linux 41 | PASS | +-------------------------------+----------------+ | Fedora Linux 40 | PASS | +-------------------------------+----------------+ | Red Hat Enterprise Linux 9.5 | PASS | +-------------------------------+----------------+ | Ubuntu 20.04 | PASS | +-------------------------------+----------------+ | Red Hat Enterprise Linux 8.10 | PASS | +-------------------------------+----------------+ | Ubuntu 22.04 | PASS | +-------------------------------+----------------+ | Ubuntu 24.04 | PASS | +-------------------------------+----------------+ | Windows Server 2022 | PASS | +-------------------------------+----------------+ CentOS Stream 9 Kernel: 5.15 Compiler: gcc gcc (GCC) 11.5.0 20240719 (Red Hat 11.5.0-7) CentOS Stream 10 Kernel: 5.15 Compiler: gcc gcc (GCC) 14.2.1 20250110 (Red Hat 14.2.1-8) Debian GNU/Linux 12 Kernel: 5.15 Compiler: gcc gcc (Debian 12.2.0-14+deb12u1) 12.2.0 Fedora Linux 41 Kernel: 5.15 Compiler: gcc gcc (GCC) 14.3.1 20250523 (Red Hat 14.3.1-1) Fedora Linux 40 Kernel: 5.15 Compiler: gcc gcc (GCC) 14.2.1 20240912 (Red Hat 14.2.1-3) Red Hat Enterprise Linux 9.5 Kernel: 5.15 Compiler: gcc gcc (GCC) 11.5.0 20240719 (Red Hat 11.5.0-2) Ubuntu 20.04 Kernel: 5.15 Compiler: gcc gcc (Ubuntu 9.4.0-1ubuntu1~20.04.2) 9.4.0 Red Hat Enterprise Linux 8.10 Kernel: 5.15 Compiler: gcc gcc (GCC) 8.5.0 20210514 (Red Hat 8.5.0-22) Ubuntu 22.04 Kernel: 5.15 Compiler: gcc gcc (Ubuntu 11.4.0-1ubuntu1~22.04) 11.4.0 Ubuntu 24.04 Kernel: 5.15 Compiler: gcc gcc (Ubuntu 13.3.0-6ubuntu2~24.04) 13.3.0 Windows Server 2022 Kernel: 10.0.20348.2031 Compiler: clang 15.0.7, gcc 14.1.0 (MinGW), and MSVC VS 19.39.33521 To view detailed results, visit: https://lab.dpdk.org/results/dashboard/patchsets/33628/ UNH-IOL DPDK Community Lab To manage your email subscriptions, visit: https://lab.dpdk.org/results/dashboard/preferences/subscriptions/