From mboxrd@z Thu Jan 1 00:00:00 1970 Return-Path: Received: from mails.dpdk.org (mails.dpdk.org [217.70.189.124]) by inbox.dpdk.org (Postfix) with ESMTP id E1C8846B37 for ; Thu, 10 Jul 2025 10:50:52 +0200 (CEST) Received: from mails.dpdk.org (localhost [127.0.0.1]) by mails.dpdk.org (Postfix) with ESMTP id C2FB9402D1; Thu, 10 Jul 2025 10:50:52 +0200 (CEST) Received: from mail-io1-f99.google.com (mail-io1-f99.google.com [209.85.166.99]) by mails.dpdk.org (Postfix) with ESMTP id 3839D402D1 for ; Thu, 10 Jul 2025 10:50:52 +0200 (CEST) Received: by mail-io1-f99.google.com with SMTP id ca18e2360f4ac-86d00ae076dso59107339f.0 for ; Thu, 10 Jul 2025 01:50:52 -0700 (PDT) DKIM-Signature: v=1; a=rsa-sha256; c=relaxed/relaxed; d=iol.unh.edu; s=unh-iol; t=1752137451; x=1752742251; darn=dpdk.org; h=references:in-reply-to:cc:to:from:subject:message-id:date:from:to :cc:subject:date:message-id:reply-to; bh=agkQoIdmIuBiwnzJuDFjgeisU5JR75lC/Tw6nZGkGis=; b=hUHl1VpbVpT05jjKK0NpSS5uNVNnQCQmR3cCurvcy9cE6ulz1aLHWm3OJY6X3Fk/yN hlPqCXF9CqlddG/Py8IK4SG8ATlHyta0eyIfSXKBzTTZfcYQh5fAWwss7VgQJ4wTm2af 0u8qgkMU9N4bUAvt5XIH28Gb3yMtppMmUDUxg= X-Google-DKIM-Signature: v=1; a=rsa-sha256; c=relaxed/relaxed; d=1e100.net; s=20230601; t=1752137451; x=1752742251; h=references:in-reply-to:cc:to:from:subject:message-id:date :x-gm-message-state:from:to:cc:subject:date:message-id:reply-to; bh=agkQoIdmIuBiwnzJuDFjgeisU5JR75lC/Tw6nZGkGis=; b=vOYjijWvThH4eiqiyFKiNlYvqCxrrTf2632gt6o/PrKz6uYcPcKeIrHQBNmvFpvatx 1BsFWD5dGqdUc9ZT8jrEH2hwbRqqroa9l7Ln2S4JXLk6Yzos0DkfXtXw73itKiEcuPRC 9/lyFIi8qTC3RbquYnY5Q87Y35BpeAZ5o9O3oD6FwXs6UdhWoL5ycA+ObUQ0pru5uITM BQJ7oa+KnOQ8TLrM3t2ZonOUdS6zjpOn0Z/1HIqhzg+2w9INSKl5SBBdIjNYv5+3C/Vt yZEuriwj6PlKkkzeF5pLB++Ad6figQu4zfi0PnLk+ZoEnVx6sUIEZa7wt5S+BZ5EXiYh pkEA== X-Gm-Message-State: AOJu0Yw64+JncLnnqAQxsYHDR2ieXbnpMdI7bnRNgs+cBmklmm/wn28O GcCrIELeCeOOKEF97iwcOrILZ+k3RSdOxk+YkOCEAlecr8RPducbSF3zD1uchsDDperMsLT5jr7 F4RinHFdPlBlcUPRB3vOsULkqJjP0ulTEUzRwlSREaeZS X-Gm-Gg: ASbGnctwXEwm2OkW8ztGmnQgnku5tRHGfE3YNRYEm1J1KAx5mVs/CAf/GXS+NW7iwnw CSR3ijxVmotK1tuIhXfDVRaAg591gsTQuX5iq8dG3hhs9FyzJl6dXcuCj2yMkGxRVtszQIbwy5r l0jBXuJs+jKFXG1Uuh72YJjSjP1DZ+xAzBpmxsWOgInDzsgnYhyi4192CsOYA6VjM0oiO9+OHMU OA8EM19kkWO0xCytWRLcbUvWeDUR6c5QJdByGmz7vr0AQLLNhNj0LKoMdoxYoXEFovRBZcSuf4Y 5xPMbE2TzKzJeEr4CAnUOs5LdDglnkKGmRsC3qFnaPv9klXJz8eERC2YHspq+bQD6Ng7JQ== X-Google-Smtp-Source: AGHT+IFV96oKaAenpwsgW0NsosvHFe7iT6WB3tVMOSr2WDvzZzNVLj2H+iJrTT5A9qtjMWjG3VXwDZ9zb3bK X-Received: by 2002:a05:6e02:4407:20b0:3dc:7b3d:6a45 with SMTP id e9e14a558f8ab-3e24443f387mr15795155ab.0.1752137451447; Thu, 10 Jul 2025 01:50:51 -0700 (PDT) Received: from postal.iol.unh.edu (postal.iol.unh.edu. [132.177.123.84]) by smtp-relay.gmail.com with ESMTPS id e9e14a558f8ab-3e24622f578sm679185ab.61.2025.07.10.01.50.51 (version=TLS1_2 cipher=ECDHE-ECDSA-AES128-GCM-SHA256 bits=128/128); Thu, 10 Jul 2025 01:50:51 -0700 (PDT) X-Relaying-Domain: iol.unh.edu Date: Thu, 10 Jul 2025 01:50:51 -0700 (PDT) Message-ID: <686f7eeb.050a0220.26782f.3a00SMTPIN_ADDED_MISSING@mx.google.com> Received: from [172.21.0.5] (unknown [172.18.0.240]) by postal.iol.unh.edu (Postfix) with ESMTP id C89BC6051830; Thu, 10 Jul 2025 04:50:50 -0400 (EDT) Subject: |SUCCESS| pw155007 [PATCH] [v2,01/14] net/sxe: add base driver direc From: dpdklab@iol.unh.edu To: Test Report Cc: dpdk-test-reports@iol.unh.edu In-Reply-To: <20250704025401.301617-1-liujie5@linkdatatechnology.com> References: <20250704025401.301617-1-liujie5@linkdatatechnology.com> Content-Type: text/plain X-BeenThere: test-report@dpdk.org X-Mailman-Version: 2.1.29 Precedence: list List-Id: automatic DPDK test reports List-Unsubscribe: , List-Archive: List-Post: List-Help: List-Subscribe: , Errors-To: test-report-bounces@dpdk.org Test-Label: iol-unit-amd64-testing Test-Status: SUCCESS http://dpdk.org/patch/155007 _Testing PASS_ Submitter: Jie Liu Date: Friday, July 04 2025 02:53:48 DPDK git baseline: Repo:dpdk Branch: master CommitID:7e6d6106a4ef052d6a2a6bd6e83c5b16a36c65c9 155007 --> testing pass Upstream job id: Generic-VM-Unit-Test-DPDK#29859 Test environment and result as below: +-------------------------------+----------------+ | Environment | dpdk_unit_test | +===============================+================+ | CentOS Stream 9 | PASS | +-------------------------------+----------------+ | CentOS Stream 10 | PASS | +-------------------------------+----------------+ | Fedora Linux 40 | PASS | +-------------------------------+----------------+ | Debian GNU/Linux 12 | PASS | +-------------------------------+----------------+ | Fedora Linux 41 | PASS | +-------------------------------+----------------+ | Red Hat Enterprise Linux 9.5 | PASS | +-------------------------------+----------------+ | Ubuntu 20.04 | PASS | +-------------------------------+----------------+ | Ubuntu 22.04 | PASS | +-------------------------------+----------------+ | Ubuntu 24.04 | PASS | +-------------------------------+----------------+ | Red Hat Enterprise Linux 8.10 | PASS | +-------------------------------+----------------+ | Windows Server 2022 | PASS | +-------------------------------+----------------+ CentOS Stream 9 Kernel: 5.15 Compiler: gcc gcc (GCC) 11.5.0 20240719 (Red Hat 11.5.0-7) CentOS Stream 10 Kernel: 5.15 Compiler: gcc gcc (GCC) 14.2.1 20250110 (Red Hat 14.2.1-8) Fedora Linux 40 Kernel: 5.15 Compiler: gcc gcc (GCC) 14.2.1 20240912 (Red Hat 14.2.1-3) Debian GNU/Linux 12 Kernel: 5.15 Compiler: gcc gcc (Debian 12.2.0-14+deb12u1) 12.2.0 Fedora Linux 41 Kernel: 5.15 Compiler: gcc gcc (GCC) 14.3.1 20250523 (Red Hat 14.3.1-1) Red Hat Enterprise Linux 9.5 Kernel: 5.15 Compiler: gcc gcc (GCC) 11.5.0 20240719 (Red Hat 11.5.0-2) Ubuntu 20.04 Kernel: 5.15 Compiler: gcc gcc (Ubuntu 9.4.0-1ubuntu1~20.04.2) 9.4.0 Ubuntu 22.04 Kernel: 5.15 Compiler: gcc gcc (Ubuntu 11.4.0-1ubuntu1~22.04) 11.4.0 Ubuntu 24.04 Kernel: 5.15 Compiler: gcc gcc (Ubuntu 13.3.0-6ubuntu2~24.04) 13.3.0 Red Hat Enterprise Linux 8.10 Kernel: 5.15 Compiler: gcc gcc (GCC) 8.5.0 20210514 (Red Hat 8.5.0-22) Windows Server 2022 Kernel: 10.0.20348.2031 Compiler: clang 15.0.7, gcc 14.1.0 (MinGW), and MSVC VS 19.39.33521 To view detailed results, visit: https://lab.dpdk.org/results/dashboard/patchsets/33590/ UNH-IOL DPDK Community Lab To manage your email subscriptions, visit: https://lab.dpdk.org/results/dashboard/preferences/subscriptions/