From mboxrd@z Thu Jan 1 00:00:00 1970 Return-Path: Received: from mails.dpdk.org (mails.dpdk.org [217.70.189.124]) by inbox.dpdk.org (Postfix) with ESMTP id 94EFF46B37 for ; Thu, 10 Jul 2025 10:57:59 +0200 (CEST) Received: from mails.dpdk.org (localhost [127.0.0.1]) by mails.dpdk.org (Postfix) with ESMTP id 78CDC402D1; Thu, 10 Jul 2025 10:57:59 +0200 (CEST) Received: from mail-pl1-f225.google.com (mail-pl1-f225.google.com [209.85.214.225]) by mails.dpdk.org (Postfix) with ESMTP id 7E192402D1 for ; Thu, 10 Jul 2025 10:57:58 +0200 (CEST) Received: by mail-pl1-f225.google.com with SMTP id d9443c01a7336-235d6de331fso9433495ad.3 for ; Thu, 10 Jul 2025 01:57:58 -0700 (PDT) DKIM-Signature: v=1; a=rsa-sha256; c=relaxed/relaxed; d=iol.unh.edu; s=unh-iol; t=1752137877; x=1752742677; darn=dpdk.org; h=references:in-reply-to:cc:to:from:subject:message-id:date:from:to :cc:subject:date:message-id:reply-to; bh=T9uPkrDov9HIyTaV8nZ2Hs+4ItYE/NiVuBPeXR44ndo=; b=TT8e5Dz98s6nkvLwgaC7/5s+BueXQ0CHS9JedEycraGv7+luUzor5hR02CvdE1LF6K fz61ixREr/GbSMFJEMIRNEDce1rCvq2dSzRvZT1WheE95xDeC6tb/9YMLc3gmcKOMPYm BodMyLZiNkt+7BmE6aPB/z4uJAhMfJfxkwrKo= X-Google-DKIM-Signature: v=1; a=rsa-sha256; c=relaxed/relaxed; d=1e100.net; s=20230601; t=1752137877; x=1752742677; h=references:in-reply-to:cc:to:from:subject:message-id:date :x-gm-message-state:from:to:cc:subject:date:message-id:reply-to; bh=T9uPkrDov9HIyTaV8nZ2Hs+4ItYE/NiVuBPeXR44ndo=; b=hD0n+SX+eO5QkaHy27AkCvcf0HgcJ2lNP+du28nNRUmC1KEbbM+1LS1T5g+oqzmiQI Gw/CCfT/J0N1m//X75Qyeo1iA3MpXY+CXG07AoygOd7UNqG7fRhfNTZwPSZK8blF7ekd G4l+sXn8Y1Jm2QregiO9JxWxb/hy/HsNE68nx9L7gm08h5geiW6lmGrg3VCZk9ufvoOD K3LZzSfdoPgBSGJ7brUxv2Dt1FximVuUq2uezYDVVWmELQ5H3Kd+W1Xs1zIbScGxip8j mYYOop38iQcIzbVebbXNhs794LVQx3D4RJgR8HYnDSVmx7lW8t2dT/60XP1Mkq21V6Cg YFpQ== X-Gm-Message-State: AOJu0YwXjK6pOmTTs95tuITyG/a5z1fvZPuvlkI4d3MpAhpftOVurJZT TVP1os+eYPsdrNjJbSAti+NrxMrcJ6640SOB7qJhbhWug3oA2hnrO7J8dcZhNMxvv83tseI4JnT mJhrDDRh3iIzM3Oo/O/bkBZe6PI6ChtIgBSU01ucAMSZf X-Gm-Gg: ASbGncvHmJLV+aY/F33qNzrPjpOXltobKGdTZtTX7UZzbDDaL5vUG1oTrZOB50hfEdy DWlJJO5tQ6zl0eEPCOJZ9Ox84Vjwy+CsS9mOpd1kqqKR8EiHJLGxC3ogGmNI2Rx9rP6ilZVs0m2 zospMsvPiTg1wFTsNkjwDHmzEIdIGHjybLpG5xnmoA/NCSDuAkdyC7XSCZMld55srtKqggb6Rxy 8K7nV7IHJHZnOrltduws/40zkCN8OvdwKmHq0YJ4lkqQQt3NafWiSHPISYZxzpUw6SQBqgwVPO+ zkKnN+jAUoAs8oxmEQ1sKG2/HikgpDajKk1cBhYkijfKOuYIPAfsOi5cQXmX+pTzr7PECQ== X-Google-Smtp-Source: AGHT+IFjH8Rwi+KU0ES3MC6aphG//pfhXBayuX0UTzF6v2Hr8TdMpVbhyJWG5jgWLNapMs5Kbe5Lrgt8osOH X-Received: by 2002:a17:902:e78e:b0:234:f580:9ed with SMTP id d9443c01a7336-23de480af79mr26251665ad.21.1752137877590; Thu, 10 Jul 2025 01:57:57 -0700 (PDT) Received: from postal.iol.unh.edu (postal.iol.unh.edu. [132.177.123.84]) by smtp-relay.gmail.com with ESMTPS id d9443c01a7336-23de4320e16sm570645ad.61.2025.07.10.01.57.57 (version=TLS1_2 cipher=ECDHE-ECDSA-AES128-GCM-SHA256 bits=128/128); Thu, 10 Jul 2025 01:57:57 -0700 (PDT) X-Relaying-Domain: iol.unh.edu Date: Thu, 10 Jul 2025 01:57:57 -0700 (PDT) Message-ID: <686f8095.170a0220.2f3464.2f5aSMTPIN_ADDED_MISSING@mx.google.com> Received: from [172.21.0.5] (unknown [172.18.0.240]) by postal.iol.unh.edu (Postfix) with ESMTP id C12B86051830; Thu, 10 Jul 2025 04:57:56 -0400 (EDT) Subject: |SUCCESS| pw155007 [PATCH] [v2,01/14] net/sxe: add base driver direc From: dpdklab@iol.unh.edu To: Test Report Cc: dpdk-test-reports@iol.unh.edu In-Reply-To: <20250704025401.301617-1-liujie5@linkdatatechnology.com> References: <20250704025401.301617-1-liujie5@linkdatatechnology.com> Content-Type: text/plain X-BeenThere: test-report@dpdk.org X-Mailman-Version: 2.1.29 Precedence: list List-Id: automatic DPDK test reports List-Unsubscribe: , List-Archive: List-Post: List-Help: List-Subscribe: , Errors-To: test-report-bounces@dpdk.org Test-Label: iol-unit-amd64-testing Test-Status: SUCCESS http://dpdk.org/patch/155007 _Testing PASS_ Submitter: Jie Liu Date: Friday, July 04 2025 02:53:48 DPDK git baseline: Repo:dpdk Branch: master CommitID:7e6d6106a4ef052d6a2a6bd6e83c5b16a36c65c9 155007 --> testing pass Upstream job id: Generic-VM-Unit-Test-DPDK#29860 Test environment and result as below: +-------------------------------+----------------+ | Environment | dpdk_unit_test | +===============================+================+ | CentOS Stream 9 | PASS | +-------------------------------+----------------+ | CentOS Stream 10 | PASS | +-------------------------------+----------------+ | Fedora Linux 40 | PASS | +-------------------------------+----------------+ | Debian GNU/Linux 12 | PASS | +-------------------------------+----------------+ | Fedora Linux 41 | PASS | +-------------------------------+----------------+ | Red Hat Enterprise Linux 9.5 | PASS | +-------------------------------+----------------+ | Ubuntu 20.04 | PASS | +-------------------------------+----------------+ | Ubuntu 22.04 | PASS | +-------------------------------+----------------+ | Ubuntu 24.04 | PASS | +-------------------------------+----------------+ | Red Hat Enterprise Linux 8.10 | PASS | +-------------------------------+----------------+ | Windows Server 2022 | PASS | +-------------------------------+----------------+ CentOS Stream 9 Kernel: 5.15 Compiler: gcc gcc (GCC) 11.5.0 20240719 (Red Hat 11.5.0-7) CentOS Stream 10 Kernel: 5.15 Compiler: gcc gcc (GCC) 14.2.1 20250110 (Red Hat 14.2.1-8) Fedora Linux 40 Kernel: 5.15 Compiler: gcc gcc (GCC) 14.2.1 20240912 (Red Hat 14.2.1-3) Debian GNU/Linux 12 Kernel: 5.15 Compiler: gcc gcc (Debian 12.2.0-14+deb12u1) 12.2.0 Fedora Linux 41 Kernel: 5.15 Compiler: gcc gcc (GCC) 14.3.1 20250523 (Red Hat 14.3.1-1) Red Hat Enterprise Linux 9.5 Kernel: 5.15 Compiler: gcc gcc (GCC) 11.5.0 20240719 (Red Hat 11.5.0-2) Ubuntu 20.04 Kernel: 5.15 Compiler: gcc gcc (Ubuntu 9.4.0-1ubuntu1~20.04.2) 9.4.0 Ubuntu 22.04 Kernel: 5.15 Compiler: gcc gcc (Ubuntu 11.4.0-1ubuntu1~22.04) 11.4.0 Ubuntu 24.04 Kernel: 5.15 Compiler: gcc gcc (Ubuntu 13.3.0-6ubuntu2~24.04) 13.3.0 Red Hat Enterprise Linux 8.10 Kernel: 5.15 Compiler: gcc gcc (GCC) 8.5.0 20210514 (Red Hat 8.5.0-22) Windows Server 2022 Kernel: 10.0.20348.2031 Compiler: clang 15.0.7, gcc 14.1.0 (MinGW), and MSVC VS 19.39.33521 To view detailed results, visit: https://lab.dpdk.org/results/dashboard/patchsets/33590/ UNH-IOL DPDK Community Lab To manage your email subscriptions, visit: https://lab.dpdk.org/results/dashboard/preferences/subscriptions/