From mboxrd@z Thu Jan 1 00:00:00 1970 Return-Path: Received: from mails.dpdk.org (mails.dpdk.org [217.70.189.124]) by inbox.dpdk.org (Postfix) with ESMTP id 7932446B37 for ; Thu, 10 Jul 2025 11:30:04 +0200 (CEST) Received: from mails.dpdk.org (localhost [127.0.0.1]) by mails.dpdk.org (Postfix) with ESMTP id 52040402D1; Thu, 10 Jul 2025 11:30:04 +0200 (CEST) Received: from mail-oa1-f98.google.com (mail-oa1-f98.google.com [209.85.160.98]) by mails.dpdk.org (Postfix) with ESMTP id 6BC0F402D1 for ; Thu, 10 Jul 2025 11:30:03 +0200 (CEST) Received: by mail-oa1-f98.google.com with SMTP id 586e51a60fabf-2ea080f900cso164061fac.2 for ; Thu, 10 Jul 2025 02:30:03 -0700 (PDT) DKIM-Signature: v=1; a=rsa-sha256; c=relaxed/relaxed; d=iol.unh.edu; s=unh-iol; t=1752139802; x=1752744602; darn=dpdk.org; h=references:in-reply-to:cc:to:from:subject:message-id:date:from:to :cc:subject:date:message-id:reply-to; bh=YPhM/eSX8jjL62pCI56aihxMD7KO1MaSh1Dw59N6RRM=; b=cA/oHhlUEyzYtw7W2o35mOV7ztCtnD/ufcn9mIjl1WXAYYFVWv6pTTMb8JR1kxECpO KO8JPQZdfN8WhPrif3Zc7PHAbx8wPggxmr4FcDDFMzgYqJqq0HJy5kV8JH6rJQzHbgNM fabDiYl1lSAHKEPD8uaMPA8z9Hhr//aoBhb+Y= X-Google-DKIM-Signature: v=1; a=rsa-sha256; c=relaxed/relaxed; d=1e100.net; s=20230601; t=1752139802; x=1752744602; h=references:in-reply-to:cc:to:from:subject:message-id:date :x-gm-message-state:from:to:cc:subject:date:message-id:reply-to; bh=YPhM/eSX8jjL62pCI56aihxMD7KO1MaSh1Dw59N6RRM=; b=bgjJRnsbcWv3/wOPRxU/tNyyT6N72NMof3z27D1OGm3dAneu59xbZ4k2n80nCk+uqL 0Rx5dFsyUdgYVbQH4rCphmqPwRZ++gYFQvMkEhp0RyiqQWoa86HYg/LvZjfDRYjC3h4R TuPoxwKfA7GWQBj0xoOc4iILkOhcp2Yf0NAyF35Gc4KpSkbkPLj4vCsLdxGR7cIU1XHQ O04gIvI633/RUOPOzkCZaiw/CysRh2Wpe1bHRuhlLUBbrmHuB7hPcQuqv2uRzPK4CNhJ kJVR4Nk74ONoyEtCV/8wyYD+XTDqXZZ/mfxAAWBRP6ZAyYaBOyYfHhZ7hGCWDcsLom7s EGXg== X-Gm-Message-State: AOJu0YxPBiFoL2fQxihwWSUIIYkeFfJXS0IgVWDKmIPHgIch+685YD2d K8EH7LIxmAYpYN89B47B7ANv203qO7156Y2eDwmIxsMiB1gOb8vvpB1AjByrQWph7PVbRc1odF+ 90VO+0sK/xOHo860qW76cdiqh63qb42otSh1CIctsYiNy/QXZupEr8jGg+ztP X-Gm-Gg: ASbGnctevDhF3xOnyvK0Hep+F85jovgenWuAoF0KkiPmepDfSfXfP9ga+0o6vjXRgVr Tydx08fSo8AL7sj/TB4idGQLqAhxw58DmV+ymBO/WUU+xwHHY3e1hQBfoxf1yykHnqLdz5u3Ouy AKhjmpiihDghmOIHVvpA1iSmqAtZ76WZhcMeERGbsr6kYeSVDvVBDNJJqYOZHLoVGKneTeUDPfi oQ5UyRW1WB3zADXYgcZ1tjVLxUI/rJJSRCvNaMcpanOlGepKd6i6eHuMswQxFkMUUdrZD/erV0L excTBfdNDcdGk/qauMYaV9wqtEQM7zSn7Tc9BC28EAktQIM= X-Google-Smtp-Source: AGHT+IH3P3VoznoI6svuuhnfVOevv5TelrW18fMmVY/TNG7SxpRt66v9TTPEkLhtED2HZK/HRn12l4HDJfUU X-Received: by 2002:a05:6871:81e:b0:2b8:2f9c:d513 with SMTP id 586e51a60fabf-2ff10991515mr1218531fac.19.1752139802509; Thu, 10 Jul 2025 02:30:02 -0700 (PDT) Received: from postal.iol.unh.edu (postal.iol.unh.edu. [2606:4100:3880:1234::84]) by smtp-relay.gmail.com with ESMTPS id 586e51a60fabf-2ff116ce7c2sm79799fac.24.2025.07.10.02.30.02 (version=TLS1_2 cipher=ECDHE-ECDSA-AES128-GCM-SHA256 bits=128/128); Thu, 10 Jul 2025 02:30:02 -0700 (PDT) X-Relaying-Domain: iol.unh.edu Date: Thu, 10 Jul 2025 02:30:02 -0700 (PDT) Message-ID: <686f881a.050a0220.27bb17.49c0SMTPIN_ADDED_MISSING@mx.google.com> Received: from [172.21.0.5] (unknown [172.18.0.240]) by postal.iol.unh.edu (Postfix) with ESMTP id 0889A6051830; Thu, 10 Jul 2025 05:30:02 -0400 (EDT) Subject: |SUCCESS| pw155011 [PATCH] app/testpmd: allow multiple cmdline-file From: dpdklab@iol.unh.edu To: Test Report Cc: dpdk-test-reports@iol.unh.edu In-Reply-To: <20250704140551.4151993-1-bruce.richardson@intel.com> References: <20250704140551.4151993-1-bruce.richardson@intel.com> Content-Type: text/plain X-BeenThere: test-report@dpdk.org X-Mailman-Version: 2.1.29 Precedence: list List-Id: automatic DPDK test reports List-Unsubscribe: , List-Archive: List-Post: List-Help: List-Subscribe: , Errors-To: test-report-bounces@dpdk.org Test-Label: iol-unit-amd64-testing Test-Status: SUCCESS http://dpdk.org/patch/155011 _Testing PASS_ Submitter: Bruce Richardson Date: Friday, July 04 2025 14:05:51 DPDK git baseline: Repo:dpdk Branch: master CommitID:ba982f9a1ca9b96ed0394b764f1523d482e963a2 155011 --> testing pass Upstream job id: Generic-VM-Unit-Test-DPDK#29863 Test environment and result as below: +-------------------------------+----------------+ | Environment | dpdk_unit_test | +===============================+================+ | CentOS Stream 10 | PASS | +-------------------------------+----------------+ | Debian GNU/Linux 12 | PASS | +-------------------------------+----------------+ | CentOS Stream 9 | PASS | +-------------------------------+----------------+ | Fedora Linux 40 | PASS | +-------------------------------+----------------+ | Red Hat Enterprise Linux 8.10 | PASS | +-------------------------------+----------------+ | Red Hat Enterprise Linux 9.5 | PASS | +-------------------------------+----------------+ | Ubuntu 22.04 | PASS | +-------------------------------+----------------+ | Fedora Linux 41 | PASS | +-------------------------------+----------------+ | Ubuntu 20.04 | PASS | +-------------------------------+----------------+ | Ubuntu 24.04 | PASS | +-------------------------------+----------------+ | Windows Server 2022 | PASS | +-------------------------------+----------------+ CentOS Stream 10 Kernel: 5.15 Compiler: gcc gcc (GCC) 14.2.1 20250110 (Red Hat 14.2.1-8) Debian GNU/Linux 12 Kernel: 5.15 Compiler: gcc gcc (Debian 12.2.0-14+deb12u1) 12.2.0 CentOS Stream 9 Kernel: 5.15 Compiler: gcc gcc (GCC) 11.5.0 20240719 (Red Hat 11.5.0-7) Fedora Linux 40 Kernel: 5.15 Compiler: gcc gcc (GCC) 14.2.1 20240912 (Red Hat 14.2.1-3) Red Hat Enterprise Linux 8.10 Kernel: 5.15 Compiler: gcc gcc (GCC) 8.5.0 20210514 (Red Hat 8.5.0-22) Red Hat Enterprise Linux 9.5 Kernel: 5.15 Compiler: gcc gcc (GCC) 11.5.0 20240719 (Red Hat 11.5.0-2) Ubuntu 22.04 Kernel: 5.15 Compiler: gcc gcc (Ubuntu 11.4.0-1ubuntu1~22.04) 11.4.0 Fedora Linux 41 Kernel: 5.15 Compiler: clang gcc (GCC) 14.3.1 20250523 (Red Hat 14.3.1-1) Ubuntu 20.04 Kernel: 5.15 Compiler: gcc gcc (Ubuntu 9.4.0-1ubuntu1~20.04.2) 9.4.0 Ubuntu 24.04 Kernel: 5.15 Compiler: gcc gcc (Ubuntu 13.3.0-6ubuntu2~24.04) 13.3.0 Windows Server 2022 Kernel: 10.0.20348.2031 Compiler: clang 15.0.7, gcc 14.1.0 (MinGW), and MSVC VS 19.39.33521 To view detailed results, visit: https://lab.dpdk.org/results/dashboard/patchsets/33594/ UNH-IOL DPDK Community Lab To manage your email subscriptions, visit: https://lab.dpdk.org/results/dashboard/preferences/subscriptions/