From mboxrd@z Thu Jan 1 00:00:00 1970 Return-Path: Received: from mails.dpdk.org (mails.dpdk.org [217.70.189.124]) by inbox.dpdk.org (Postfix) with ESMTP id 191C946B37 for ; Thu, 10 Jul 2025 11:36:48 +0200 (CEST) Received: from mails.dpdk.org (localhost [127.0.0.1]) by mails.dpdk.org (Postfix) with ESMTP id 1477D402D1; Thu, 10 Jul 2025 11:36:48 +0200 (CEST) Received: from mail-oa1-f99.google.com (mail-oa1-f99.google.com [209.85.160.99]) by mails.dpdk.org (Postfix) with ESMTP id C1908402D1 for ; Thu, 10 Jul 2025 11:36:46 +0200 (CEST) Received: by mail-oa1-f99.google.com with SMTP id 586e51a60fabf-2ef891cd058so577078fac.1 for ; Thu, 10 Jul 2025 02:36:46 -0700 (PDT) DKIM-Signature: v=1; a=rsa-sha256; c=relaxed/relaxed; d=iol.unh.edu; s=unh-iol; t=1752140206; x=1752745006; darn=dpdk.org; h=references:in-reply-to:cc:to:from:subject:message-id:date:from:to :cc:subject:date:message-id:reply-to; bh=lnWaNDeY4XNu8rtypK/W2RGanZo4ITBAxIAb0ZWhyaU=; b=PsfIkGEaKtGga7Q9f1M5jvF8YKsbivc2a1AFMMYbU7RYqx5Y7L3GOEBc0Q1P/cHs8x uggVVBAXkJV51l57CHpYT2ujiLcy+MVcXDYVstnRGm9xjRdYwRdVnUcaU+836/cvkdOi ILFtqxL4TURaDfvft6EIlDkSs87FK9/kZRPrM= X-Google-DKIM-Signature: v=1; a=rsa-sha256; c=relaxed/relaxed; d=1e100.net; s=20230601; t=1752140206; x=1752745006; h=references:in-reply-to:cc:to:from:subject:message-id:date :x-gm-message-state:from:to:cc:subject:date:message-id:reply-to; bh=lnWaNDeY4XNu8rtypK/W2RGanZo4ITBAxIAb0ZWhyaU=; b=SUFmsF3W1hs6lwv3iJqdwHcui96OYkF7ofmfDhaVSpZWuZI1MtpQiWy/4trbnz9XIM B59Ur/Cj7N8isHytlXYvylfXYZCPgUOF+79IznLgrGUjFP+pgkwdLJMDRS1yiA3d5KkZ PlSW6iMTQKxMlHZ23UpPZz2aZW2g2HyiJbgWQgAi18cwLSjoZn6+dBBiYJADcrwO/DqN wUz71TcyNpsjjfZjcyVHPwGUa9Qoj7t1JX3tMCMaWgrIQhJ9oqecvqLELPNXwJsc6yD2 Leok/eY9ejcT2G7vWnPD1s/NtCWNqg6BCoI+ug/Wogw4bOhJYeCeiXJ2iyo0zLx2wHyK U3GQ== X-Gm-Message-State: AOJu0YwSqvcYOfFF49DD/q4F5jt1md97pLbecgmrN5OCTGfG06v5tO0w UIcAdGLmbmO3Bv43q/rrTUzhKKYjt/YD4A0hoUZV41DYuDF83Odaq8e7JzwJpopaPfa0PNmp0CK wmCuQmozhjiuLYTtF1CIlx5xboulQNgPIxFGCzBZf2eEtBKRd70YAh9J2Azqm X-Gm-Gg: ASbGncuqUnl2KsWi9rYoWj7Nf9fUHTfJIoFh7Ieb8xRJr3nEmIfvIHJxpXGf4/ENiLg a3ADHs0tK78hwVBPudqEyil057uFwDaObvxa9BC4Ww6o/HxRKqrzqbgwo9vCeT/IyEolAwbHli5 JDPrjvYaJeOAnjzUTvbWrrmQ1xIT9lSS7Up5i7vFF3Xt/bBK1dzUWwERYKddQmjo2o+SHeB+Geb vozgvFUQYq89L/RiJEVFSNW6bziwmaCbygh/SeBXp/opQhdqowP1kczMXimzD6s2FwnVuTwrsqy DZYKTDi+PDOqnhxJWiWK8qMD684owJcje7qwbbnc0miH274= X-Google-Smtp-Source: AGHT+IEVeoqw/UVhKJHuWin0Y0ZgI5kWgldu24DIPXp4XPA3S5WHVfOSyjEMehAe0CV1Cw0OuzLsug4OkUUm X-Received: by 2002:a05:6871:5212:b0:2f6:c9a6:4f7f with SMTP id 586e51a60fabf-2ff10ac4969mr1381591fac.39.1752140205911; Thu, 10 Jul 2025 02:36:45 -0700 (PDT) Received: from postal.iol.unh.edu (postal.iol.unh.edu. [2606:4100:3880:1234::84]) by smtp-relay.gmail.com with ESMTPS id 586e51a60fabf-2ff11236e13sm81723fac.10.2025.07.10.02.36.45 (version=TLS1_2 cipher=ECDHE-ECDSA-AES128-GCM-SHA256 bits=128/128); Thu, 10 Jul 2025 02:36:45 -0700 (PDT) X-Relaying-Domain: iol.unh.edu Date: Thu, 10 Jul 2025 02:36:45 -0700 (PDT) Message-ID: <686f89ad.050a0220.257d62.4303SMTPIN_ADDED_MISSING@mx.google.com> Received: from [172.21.0.5] (unknown [172.18.0.240]) by postal.iol.unh.edu (Postfix) with ESMTP id 67BEA6051830; Thu, 10 Jul 2025 05:36:45 -0400 (EDT) Subject: |SUCCESS| pw155011 [PATCH] app/testpmd: allow multiple cmdline-file From: dpdklab@iol.unh.edu To: Test Report Cc: dpdk-test-reports@iol.unh.edu In-Reply-To: <20250704140551.4151993-1-bruce.richardson@intel.com> References: <20250704140551.4151993-1-bruce.richardson@intel.com> Content-Type: text/plain X-BeenThere: test-report@dpdk.org X-Mailman-Version: 2.1.29 Precedence: list List-Id: automatic DPDK test reports List-Unsubscribe: , List-Archive: List-Post: List-Help: List-Subscribe: , Errors-To: test-report-bounces@dpdk.org Test-Label: iol-unit-amd64-testing Test-Status: SUCCESS http://dpdk.org/patch/155011 _Testing PASS_ Submitter: Bruce Richardson Date: Friday, July 04 2025 14:05:51 DPDK git baseline: Repo:dpdk Branch: master CommitID:ba982f9a1ca9b96ed0394b764f1523d482e963a2 155011 --> testing pass Upstream job id: Generic-VM-Unit-Test-DPDK#29864 Test environment and result as below: +-------------------------------+----------------+ | Environment | dpdk_unit_test | +===============================+================+ | CentOS Stream 10 | PASS | +-------------------------------+----------------+ | Debian GNU/Linux 12 | PASS | +-------------------------------+----------------+ | CentOS Stream 9 | PASS | +-------------------------------+----------------+ | Fedora Linux 40 | PASS | +-------------------------------+----------------+ | Red Hat Enterprise Linux 8.10 | PASS | +-------------------------------+----------------+ | Red Hat Enterprise Linux 9.5 | PASS | +-------------------------------+----------------+ | Ubuntu 22.04 | PASS | +-------------------------------+----------------+ | Fedora Linux 41 | PASS | +-------------------------------+----------------+ | Ubuntu 20.04 | PASS | +-------------------------------+----------------+ | Ubuntu 24.04 | PASS | +-------------------------------+----------------+ | Windows Server 2022 | PASS | +-------------------------------+----------------+ CentOS Stream 10 Kernel: 5.15 Compiler: gcc gcc (GCC) 14.2.1 20250110 (Red Hat 14.2.1-8) Debian GNU/Linux 12 Kernel: 5.15 Compiler: gcc gcc (Debian 12.2.0-14+deb12u1) 12.2.0 CentOS Stream 9 Kernel: 5.15 Compiler: gcc gcc (GCC) 11.5.0 20240719 (Red Hat 11.5.0-7) Fedora Linux 40 Kernel: 5.15 Compiler: gcc gcc (GCC) 14.2.1 20240912 (Red Hat 14.2.1-3) Red Hat Enterprise Linux 8.10 Kernel: 5.15 Compiler: gcc gcc (GCC) 8.5.0 20210514 (Red Hat 8.5.0-22) Red Hat Enterprise Linux 9.5 Kernel: 5.15 Compiler: gcc gcc (GCC) 11.5.0 20240719 (Red Hat 11.5.0-2) Ubuntu 22.04 Kernel: 5.15 Compiler: gcc gcc (Ubuntu 11.4.0-1ubuntu1~22.04) 11.4.0 Fedora Linux 41 Kernel: 5.15 Compiler: clang gcc (GCC) 14.3.1 20250523 (Red Hat 14.3.1-1) Ubuntu 20.04 Kernel: 5.15 Compiler: gcc gcc (Ubuntu 9.4.0-1ubuntu1~20.04.2) 9.4.0 Ubuntu 24.04 Kernel: 5.15 Compiler: gcc gcc (Ubuntu 13.3.0-6ubuntu2~24.04) 13.3.0 Windows Server 2022 Kernel: 10.0.20348.2031 Compiler: clang 15.0.7, gcc 14.1.0 (MinGW), and MSVC VS 19.39.33521 To view detailed results, visit: https://lab.dpdk.org/results/dashboard/patchsets/33594/ UNH-IOL DPDK Community Lab To manage your email subscriptions, visit: https://lab.dpdk.org/results/dashboard/preferences/subscriptions/