From mboxrd@z Thu Jan 1 00:00:00 1970 Return-Path: Received: from mails.dpdk.org (mails.dpdk.org [217.70.189.124]) by inbox.dpdk.org (Postfix) with ESMTP id 6F93346B38 for ; Thu, 10 Jul 2025 12:11:34 +0200 (CEST) Received: from mails.dpdk.org (localhost [127.0.0.1]) by mails.dpdk.org (Postfix) with ESMTP id 6B36E402D1; Thu, 10 Jul 2025 12:11:34 +0200 (CEST) Received: from mail-pf1-f228.google.com (mail-pf1-f228.google.com [209.85.210.228]) by mails.dpdk.org (Postfix) with ESMTP id 4C27D402D1 for ; Thu, 10 Jul 2025 12:11:33 +0200 (CEST) Received: by mail-pf1-f228.google.com with SMTP id d2e1a72fcca58-74b27c1481bso527226b3a.2 for ; Thu, 10 Jul 2025 03:11:33 -0700 (PDT) DKIM-Signature: v=1; a=rsa-sha256; c=relaxed/relaxed; d=iol.unh.edu; s=unh-iol; t=1752142292; x=1752747092; darn=dpdk.org; h=cc:to:from:subject:message-id:date:from:to:cc:subject:date :message-id:reply-to; bh=vR8iHAx6OB57aokLJkqhYp8fh7nV+Yuok6KVrjOoAiM=; b=gI6DC6Ftjg8j3pLKMK/uCH79brT8hgiyrb97iI+THTQDPD8IbQdw1Yb11oCPfZf0KA QpoKYRH/ph4WzIWfJ7RqxGsU1+2oSCPtq9wzryy1nNdd5JlLgtCoYH3ORFyvruV1dvyW X7vWSwQBk0FpTLDU56VmgMe4d+497uca2qkVE= X-Google-DKIM-Signature: v=1; a=rsa-sha256; c=relaxed/relaxed; d=1e100.net; s=20230601; t=1752142292; x=1752747092; h=cc:to:from:subject:message-id:date:x-gm-message-state:from:to:cc :subject:date:message-id:reply-to; bh=vR8iHAx6OB57aokLJkqhYp8fh7nV+Yuok6KVrjOoAiM=; b=MbIkGp71Hg4DekUUB5Sqqn88i1wwsxuEGHAABFkFkDCqN8hj9GmBtjO3MqRTcpmGoi o3r4ppLZrds/Ssb12q9JYbhS0rH+n8UU5N6c+1yByBm88dVbiPdTAMfj5IvauwgS0EYs gAMi1c4GE+WPvEiEKrX+e9CfybY677zzIP/O7FfNcVHAa++/Q3mNUH2hMRHkQ8EU5GAV U0zyUNKfjA/nWQLXtS40My1hnqPr7gzoWu+KLWWrB/rT4zX2YWi2Ez4cuqs50RnqZ2X+ nGwT8+AQfnXsO9eCg9/dZp9FpUESao3SfkUHCmKSIwQ6WJ238J2Ac2mTU2MwxTTCGIJN 5bwg== X-Gm-Message-State: AOJu0YyeBtQtfFZTHI58Y3odaKJfxlBW43tUc5rVylIn1H33KsjhDxMg 3XEu1rSbyljwrBqxrNSZNNxxVlVXI+PQT+WK+Wy7E1zm8QOZRinGqJrqNHGjwm7dXM6xumKnstO Bd865+Dfoj6xAV3/IYV4fMp50owymtkFMknzYTslZGjSDTGlLQhY29sDs8Upb X-Gm-Gg: ASbGnct74SpfHEP+1eStyXb2EM5hoMbp45wV7UMNT7Nl64k7AEKLGP5UUOwRVQ60Q3R p6KCe3XFQg7MBzncrTQVSm4JY8ibiCsiQ5J8zseCeogbHMElAsXZXBzYIk4CEX1GNN4iXIFwhb7 PRYBkhVjEv7fEhcboXcYY7OAVMzjZe91lzf6TWTxsR29oghqI4EZS2NbFwN4i2RIXCNOhgm6w94 85a8bLgsXgHxRjRBGSE5mO9WRtwd6J4W80PYwvOarI+iCq/3l+OIDo0Q9tMBgmeIWuEs9MVM72v H87Esh5LiDsdEBTSubo0doHy8+3QILoRYKoCuGgJz8fct/Y= X-Google-Smtp-Source: AGHT+IFgx9PJOFD8MtQEIeG106WiEiR5Q7itJZz2pBXsQREXCWTfSaDfm4WAK0+oW9AKZqOkpWs3UwfHjynA X-Received: by 2002:a05:6a20:7343:b0:215:de5f:febc with SMTP id adf61e73a8af0-22cd757d435mr10882150637.27.1752142292418; Thu, 10 Jul 2025 03:11:32 -0700 (PDT) Received: from postal.iol.unh.edu (postal.iol.unh.edu. [2606:4100:3880:1234::84]) by smtp-relay.gmail.com with ESMTPS id 41be03b00d2f7-b3bbe6fbe70sm61782a12.30.2025.07.10.03.11.32 (version=TLS1_2 cipher=ECDHE-ECDSA-AES128-GCM-SHA256 bits=128/128); Thu, 10 Jul 2025 03:11:32 -0700 (PDT) X-Relaying-Domain: iol.unh.edu Date: Thu, 10 Jul 2025 03:11:32 -0700 (PDT) Message-ID: <686f91d4.630a0220.2f167b.32efSMTPIN_ADDED_MISSING@mx.google.com> Received: from [172.21.0.6] (unknown [172.18.0.240]) by postal.iol.unh.edu (Postfix) with ESMTP id BA51A6051830; Thu, 10 Jul 2025 06:11:30 -0400 (EDT) Subject: |SUCCESS| [GIT MASTER] 9fe9c0b231c8da5435bfccb1963121b4277f961c From: dpdklab@iol.unh.edu To: Test Report Cc: dpdk-test-reports@iol.unh.edu Content-Type: text/plain X-BeenThere: test-report@dpdk.org X-Mailman-Version: 2.1.29 Precedence: list List-Id: automatic DPDK test reports List-Unsubscribe: , List-Archive: List-Post: List-Help: List-Subscribe: , Errors-To: test-report-bounces@dpdk.org _Testing PASS_ Branch: dpdk 9fe9c0b231c8da5435bfccb1963121b4277f961c --> testing pass Upstream job id: Generic-VM-Unit-Test-DPDK#29867 Test environment and result as below: +-------------------------------+----------------+ | Environment | dpdk_unit_test | +===============================+================+ | Arch Linux 20250613.0.365270 | PASS | +-------------------------------+----------------+ | CentOS Stream 10 | PASS | +-------------------------------+----------------+ | Debian GNU/Linux 12 | PASS | +-------------------------------+----------------+ | Fedora Linux 40 | PASS | +-------------------------------+----------------+ | Fedora Linux 41 | PASS | +-------------------------------+----------------+ | CentOS Stream 9 | PASS | +-------------------------------+----------------+ | Red Hat Enterprise Linux 8.10 | PASS | +-------------------------------+----------------+ | Red Hat Enterprise Linux 9.5 | PASS | +-------------------------------+----------------+ | Ubuntu 20.04 | PASS | +-------------------------------+----------------+ | Ubuntu 22.04 | PASS | +-------------------------------+----------------+ | Ubuntu 24.04 | PASS | +-------------------------------+----------------+ | Windows Server 2022 | PASS | +-------------------------------+----------------+ Arch Linux 20250613.0.365270 Kernel: 5.15 Compiler: gcc gcc (GCC) 15.1.1 20250425 CentOS Stream 10 Kernel: 5.15 Compiler: gcc gcc (GCC) 14.2.1 20250110 (Red Hat 14.2.1-8) Debian GNU/Linux 12 Kernel: 5.15 Compiler: gcc gcc (Debian 12.2.0-14+deb12u1) 12.2.0 Fedora Linux 40 Kernel: 5.15 Compiler: clang gcc (GCC) 14.2.1 20240912 (Red Hat 14.2.1-3) Fedora Linux 41 Kernel: 5.15 Compiler: clang gcc (GCC) 14.3.1 20250523 (Red Hat 14.3.1-1) CentOS Stream 9 Kernel: 5.15 Compiler: gcc gcc (GCC) 11.5.0 20240719 (Red Hat 11.5.0-7) Red Hat Enterprise Linux 8.10 Kernel: 5.15 Compiler: gcc gcc (GCC) 8.5.0 20210514 (Red Hat 8.5.0-22) Red Hat Enterprise Linux 9.5 Kernel: 5.15 Compiler: gcc gcc (GCC) 11.5.0 20240719 (Red Hat 11.5.0-2) Ubuntu 20.04 Kernel: 5.15 Compiler: gcc gcc (Ubuntu 9.4.0-1ubuntu1~20.04.2) 9.4.0 Ubuntu 22.04 Kernel: 5.15 Compiler: gcc gcc (Ubuntu 11.4.0-1ubuntu1~22.04) 11.4.0 Ubuntu 24.04 Kernel: 5.15 Compiler: gcc gcc (Ubuntu 13.3.0-6ubuntu2~24.04) 13.3.0 Windows Server 2022 Kernel: 10.0.20348.2031 Compiler: clang 15.0.7, gcc 14.1.0 (MinGW), and MSVC VS 19.39.33521 To view detailed results, visit: https://lab.dpdk.org/results/dashboard/tarballs/34221/ UNH-IOL DPDK Community Lab To manage your email subscriptions, visit: https://lab.dpdk.org/results/dashboard/preferences/subscriptions/