From mboxrd@z Thu Jan 1 00:00:00 1970 Return-Path: Received: from mails.dpdk.org (mails.dpdk.org [217.70.189.124]) by inbox.dpdk.org (Postfix) with ESMTP id 350CC46B38 for ; Thu, 10 Jul 2025 12:18:22 +0200 (CEST) Received: from mails.dpdk.org (localhost [127.0.0.1]) by mails.dpdk.org (Postfix) with ESMTP id 012C3402D1; Thu, 10 Jul 2025 12:18:22 +0200 (CEST) Received: from mail-pl1-f225.google.com (mail-pl1-f225.google.com [209.85.214.225]) by mails.dpdk.org (Postfix) with ESMTP id 513CF402D1 for ; Thu, 10 Jul 2025 12:18:21 +0200 (CEST) Received: by mail-pl1-f225.google.com with SMTP id d9443c01a7336-23dea2e01e4so1412155ad.1 for ; Thu, 10 Jul 2025 03:18:21 -0700 (PDT) DKIM-Signature: v=1; a=rsa-sha256; c=relaxed/relaxed; d=iol.unh.edu; s=unh-iol; t=1752142700; x=1752747500; darn=dpdk.org; h=cc:to:from:subject:message-id:date:from:to:cc:subject:date :message-id:reply-to; bh=CMkjm02W+emCp0VvuFYu44rdSMmfTN+uxdBm1xYagEI=; b=NypGzevRWbvxfCS8Mcpt7x2G8g8mFSDkieHxrIydTIOiJB7pnklaXGzVTM5F9GfACQ Hz7AcwMve/hU6Y6xy6qJrFK2BR7EkBjErVmYUujQ1ITs/GRN/da9vJ/odILf2tLzfxih M0I3ez3AS+Ry6Rt9ll+nmVYiLMI/t68+3JP8I= X-Google-DKIM-Signature: v=1; a=rsa-sha256; c=relaxed/relaxed; d=1e100.net; s=20230601; t=1752142700; x=1752747500; h=cc:to:from:subject:message-id:date:x-gm-message-state:from:to:cc :subject:date:message-id:reply-to; bh=CMkjm02W+emCp0VvuFYu44rdSMmfTN+uxdBm1xYagEI=; b=BYp+GeLGwySwfRoA89bEabJD6+FJzPWglnEtliKh17ZpAItPHLKeK9BsPWxk7/O7MQ lCa+HQI4rX3p6NnpDo7IrIqB1qM4bS9lWGJnqL0ovuxVW6mrI7tnTSeu5HG6tFUlqFWG Gt2YjcItLB/y//Bw55T9twERoLkRbchqr7kLPFULZ5cTPw0QRDVJjDjbOmrloNl4vk0u AgPvZVKgZZXarbGgYuxH/5uQVAy8dXKo/vhfsGKzDpsBjrfURkMvaTbfeFQikrmFyFp3 8wbJ8eBElmuieoY0QBL9uTfNaSQWryvrQqhM5YKjYqFHVCpy2CBdr9R+FUPetRCLbbYg CPXw== X-Gm-Message-State: AOJu0YwiUA9PAl32v86f/DgAqR41Oc/ActA4GuBM5GvE1xQ9sREZVrr0 xWCtEq2mzAhZvjGsHQbq91sHBqY5ZNsTBTK3bENqE5gKykonX1Vsj1bKHSaTllqJYU6DqMdly6U YQf+39DYyjpD6v+ea6HhcjwrG58TQEk8iz2rEaLrvmrjqMWVweXEfuJCRvXtZ X-Gm-Gg: ASbGncvIpnwNXJJ5/MYsPSRleMLolfIgmdoEGyeY4rI34R+Id5H2Mvx85vivYgfubkZ 0dJaJ5e3497Ba2baGr+eIBySSh/810Jr1GikcweCeYqhL1eDgxNhNnbfguY+3dX8gHr0XBEzd8h FC62s1DuidxoUN5I3vUrZ2QjZ3b5nUHgEFf10KxgssLXeFX0u44jYcF+9byJ5CuEyz+vMUXkc/3 FSCGiQRXmYgKDDF5HZliuiuf9TwAS6s9pU0wNb8vdcwviDWI2zkD6nzgT48Eog3I1rnWA+eLUkJ sucY0MGl5bmdP3do4J7OLotZCQCH9O7DlQykIs0omWHKldA= X-Google-Smtp-Source: AGHT+IGthpuSrKhZrtU5csFXDIoDEu+BavKq4TGvvZrHCXhQajqqoLkAejpJUjrxo/Z+rpq/M088MW3cq9J8 X-Received: by 2002:a17:902:f608:b0:234:ed31:fcaa with SMTP id d9443c01a7336-23de48a05b0mr30987615ad.50.1752142700433; Thu, 10 Jul 2025 03:18:20 -0700 (PDT) Received: from postal.iol.unh.edu (postal.iol.unh.edu. [2606:4100:3880:1234::84]) by smtp-relay.gmail.com with ESMTPS id d9443c01a7336-23de43227f7sm634805ad.80.2025.07.10.03.18.20 (version=TLS1_2 cipher=ECDHE-ECDSA-AES128-GCM-SHA256 bits=128/128); Thu, 10 Jul 2025 03:18:20 -0700 (PDT) X-Relaying-Domain: iol.unh.edu Date: Thu, 10 Jul 2025 03:18:20 -0700 (PDT) Message-ID: <686f936c.170a0220.3cc90.35bbSMTPIN_ADDED_MISSING@mx.google.com> Received: from [172.21.0.5] (unknown [172.18.0.240]) by postal.iol.unh.edu (Postfix) with ESMTP id E57736051830; Thu, 10 Jul 2025 06:18:19 -0400 (EDT) Subject: |SUCCESS| [GIT MASTER] 9fe9c0b231c8da5435bfccb1963121b4277f961c From: dpdklab@iol.unh.edu To: Test Report Cc: dpdk-test-reports@iol.unh.edu Content-Type: text/plain X-BeenThere: test-report@dpdk.org X-Mailman-Version: 2.1.29 Precedence: list List-Id: automatic DPDK test reports List-Unsubscribe: , List-Archive: List-Post: List-Help: List-Subscribe: , Errors-To: test-report-bounces@dpdk.org _Testing PASS_ Branch: dpdk 9fe9c0b231c8da5435bfccb1963121b4277f961c --> testing pass Upstream job id: Generic-VM-Unit-Test-DPDK#29868 Test environment and result as below: +-------------------------------+----------------+ | Environment | dpdk_unit_test | +===============================+================+ | Arch Linux 20250613.0.365270 | PASS | +-------------------------------+----------------+ | CentOS Stream 10 | PASS | +-------------------------------+----------------+ | Debian GNU/Linux 12 | PASS | +-------------------------------+----------------+ | Fedora Linux 40 | PASS | +-------------------------------+----------------+ | Fedora Linux 41 | PASS | +-------------------------------+----------------+ | CentOS Stream 9 | PASS | +-------------------------------+----------------+ | Red Hat Enterprise Linux 8.10 | PASS | +-------------------------------+----------------+ | Red Hat Enterprise Linux 9.5 | PASS | +-------------------------------+----------------+ | Ubuntu 20.04 | PASS | +-------------------------------+----------------+ | Ubuntu 22.04 | PASS | +-------------------------------+----------------+ | Ubuntu 24.04 | PASS | +-------------------------------+----------------+ | Windows Server 2022 | PASS | +-------------------------------+----------------+ Arch Linux 20250613.0.365270 Kernel: 5.15 Compiler: gcc gcc (GCC) 15.1.1 20250425 CentOS Stream 10 Kernel: 5.15 Compiler: gcc gcc (GCC) 14.2.1 20250110 (Red Hat 14.2.1-8) Debian GNU/Linux 12 Kernel: 5.15 Compiler: gcc gcc (Debian 12.2.0-14+deb12u1) 12.2.0 Fedora Linux 40 Kernel: 5.15 Compiler: clang gcc (GCC) 14.2.1 20240912 (Red Hat 14.2.1-3) Fedora Linux 41 Kernel: 5.15 Compiler: clang gcc (GCC) 14.3.1 20250523 (Red Hat 14.3.1-1) CentOS Stream 9 Kernel: 5.15 Compiler: gcc gcc (GCC) 11.5.0 20240719 (Red Hat 11.5.0-7) Red Hat Enterprise Linux 8.10 Kernel: 5.15 Compiler: gcc gcc (GCC) 8.5.0 20210514 (Red Hat 8.5.0-22) Red Hat Enterprise Linux 9.5 Kernel: 5.15 Compiler: gcc gcc (GCC) 11.5.0 20240719 (Red Hat 11.5.0-2) Ubuntu 20.04 Kernel: 5.15 Compiler: gcc gcc (Ubuntu 9.4.0-1ubuntu1~20.04.2) 9.4.0 Ubuntu 22.04 Kernel: 5.15 Compiler: gcc gcc (Ubuntu 11.4.0-1ubuntu1~22.04) 11.4.0 Ubuntu 24.04 Kernel: 5.15 Compiler: gcc gcc (Ubuntu 13.3.0-6ubuntu2~24.04) 13.3.0 Windows Server 2022 Kernel: 10.0.20348.2031 Compiler: clang 15.0.7, gcc 14.1.0 (MinGW), and MSVC VS 19.39.33521 To view detailed results, visit: https://lab.dpdk.org/results/dashboard/tarballs/34221/ UNH-IOL DPDK Community Lab To manage your email subscriptions, visit: https://lab.dpdk.org/results/dashboard/preferences/subscriptions/