From mboxrd@z Thu Jan 1 00:00:00 1970 Return-Path: Received: from mails.dpdk.org (mails.dpdk.org [217.70.189.124]) by inbox.dpdk.org (Postfix) with ESMTP id 3687C46B38 for ; Thu, 10 Jul 2025 12:31:40 +0200 (CEST) Received: from mails.dpdk.org (localhost [127.0.0.1]) by mails.dpdk.org (Postfix) with ESMTP id 13818402D1; Thu, 10 Jul 2025 12:31:40 +0200 (CEST) Received: from mail-io1-f99.google.com (mail-io1-f99.google.com [209.85.166.99]) by mails.dpdk.org (Postfix) with ESMTP id 0315F402D1 for ; Thu, 10 Jul 2025 12:31:38 +0200 (CEST) Received: by mail-io1-f99.google.com with SMTP id ca18e2360f4ac-86cf3dd8c97so84863839f.2 for ; Thu, 10 Jul 2025 03:31:38 -0700 (PDT) DKIM-Signature: v=1; a=rsa-sha256; c=relaxed/relaxed; d=iol.unh.edu; s=unh-iol; t=1752143498; x=1752748298; darn=dpdk.org; h=references:in-reply-to:cc:to:from:subject:message-id:date:from:to :cc:subject:date:message-id:reply-to; bh=ZjfobUg6/N0a7+TqP2BpEktNTvWeOXhboTWCL8yK0Ao=; b=PrMd8mg+lPgNTRm0w2mIb2nt/i2/bMqQh763ssSTMqoqE3Ds85ghFoGRCXdZ8y5n2X GsSMUxFcbHKa+jz7hgEREr/vCuEA4ess4FEsgA9oiQKu0xWorTSOvsklP+pKU6niRzxx dBuuxLkGNK0WgUZGLftBjQZa6uyI+xi1qD8X8= X-Google-DKIM-Signature: v=1; a=rsa-sha256; c=relaxed/relaxed; d=1e100.net; s=20230601; t=1752143498; x=1752748298; h=references:in-reply-to:cc:to:from:subject:message-id:date :x-gm-message-state:from:to:cc:subject:date:message-id:reply-to; bh=ZjfobUg6/N0a7+TqP2BpEktNTvWeOXhboTWCL8yK0Ao=; b=hVp+L9I6Xj3LBYTHqWxMuzrQWoxL0kqYHa8DxnOuRgDbdcFSUv3MozXUeYbNtnKaLN PLpv6eiLTNSpaHLG4l0VYkKw6rJjPsDUjrxGPgwCsamOHaAzEvKPU3HbCxqRifSP+nAj brg3H3gWBSe8KkwHltq6c0bIv5RRPHLzOiHN+m3MFz01DsqAXXhpH7Oyx32spYp+TcM3 z15ExxMeDqiDL5yoU8Ld+b5RRh9eMy7jsQn3H5lLpUC/tMEXwzm3wH3P4mNn6uuk7exj nmWPN5ghOjjYLySXhbUmq8hFsTw11XMvQeb1rUyCmRLiWpywnZNkCztr5WjN1SvJ4GnG hq1Q== X-Gm-Message-State: AOJu0YwZc3RLIuQ4rHURbFICundW/xLfnoSGX+1piX5nWhPDo/6+E2h4 0OCUseJcV1jGRlvJ+3Jm9lqQA47ZSnOQS60BNO0mSDhEoU8LZJLR8haQHoA1bIQivWsHU3MvA/v +jfp3+qBSqYX3olxjUB4ybplRYAtNafB0GsHyKuuFncEE X-Gm-Gg: ASbGncsgwmrFmAXfXrMlI+7qLKnOjcfynL/n4JyqYF1QL35IIuf3KpIznjYYVG8wRXg TaI0IqQgDo/mMWjoQ+49AEV7LD6RwBSxJHdmeXbShqr/gxVKd2WR/J4TB4k7K49WXP2UAwTDi1S hC7FcTHVBBsvcWK++PhOXu9yXspOMPniUpSsiAYfVcGekvqPpUxONzR6H3uQDxF3QF5ouM0gCd8 6qb1/VqAbMk7LVnV2reuEKu7RpJILGW7b/HNZnxpFbcIq9T+v0CE7EDPIeYtvLkZRCK+HORYXFR Sl6q95zc50WxUlG9MsOrEz7ru0eGI7YVZy/0MDcTR5HScWXUwtP4TgDKn6m0h/D6T3dMTw== X-Google-Smtp-Source: AGHT+IH9W36lpmIKKfWWkOvrRZRqthL8crqKQcBkggRJqKUaTpua1z/POvI4Ph9aewc5pMFQUmveX/GZniUi X-Received: by 2002:a05:6602:740e:b0:86c:ef0b:3a52 with SMTP id ca18e2360f4ac-8796906115bmr215898739f.11.1752143498244; Thu, 10 Jul 2025 03:31:38 -0700 (PDT) Received: from postal.iol.unh.edu (postal.iol.unh.edu. [132.177.123.84]) by smtp-relay.gmail.com with ESMTPS id ca18e2360f4ac-8796b7a1191sm5099739f.0.2025.07.10.03.31.37 (version=TLS1_2 cipher=ECDHE-ECDSA-AES128-GCM-SHA256 bits=128/128); Thu, 10 Jul 2025 03:31:38 -0700 (PDT) X-Relaying-Domain: iol.unh.edu Date: Thu, 10 Jul 2025 03:31:38 -0700 (PDT) Message-ID: <686f968a.050a0220.34a716.2a65SMTPIN_ADDED_MISSING@mx.google.com> Received: from [172.21.0.5] (unknown [172.18.0.240]) by postal.iol.unh.edu (Postfix) with ESMTP id 6F6F46051830; Thu, 10 Jul 2025 06:31:37 -0400 (EDT) Subject: |SUCCESS| pw155122 [PATCH] [net] net/vmxnet3: fix mapping of mempool From: dpdklab@iol.unh.edu To: Test Report Cc: dpdk-test-reports@iol.unh.edu In-Reply-To: <20250709212905.126851-1-ronak.doshi@broadcom.com> References: <20250709212905.126851-1-ronak.doshi@broadcom.com> Content-Type: text/plain X-BeenThere: test-report@dpdk.org X-Mailman-Version: 2.1.29 Precedence: list List-Id: automatic DPDK test reports List-Unsubscribe: , List-Archive: List-Post: List-Help: List-Subscribe: , Errors-To: test-report-bounces@dpdk.org Test-Label: iol-unit-amd64-testing Test-Status: SUCCESS http://dpdk.org/patch/155122 _Testing PASS_ Submitter: Ronak Doshi Date: Wednesday, July 09 2025 21:29:03 DPDK git baseline: Repo:dpdk Branch: master CommitID:ba982f9a1ca9b96ed0394b764f1523d482e963a2 155122 --> testing pass Upstream job id: Generic-VM-Unit-Test-DPDK#29869 Test environment and result as below: +-------------------------------+----------------+ | Environment | dpdk_unit_test | +===============================+================+ | CentOS Stream 10 | PASS | +-------------------------------+----------------+ | CentOS Stream 9 | PASS | +-------------------------------+----------------+ | Debian GNU/Linux 12 | PASS | +-------------------------------+----------------+ | Fedora Linux 40 | PASS | +-------------------------------+----------------+ | Fedora Linux 41 | PASS | +-------------------------------+----------------+ | Ubuntu 22.04 | PASS | +-------------------------------+----------------+ | Ubuntu 20.04 | PASS | +-------------------------------+----------------+ | Red Hat Enterprise Linux 8.10 | PASS | +-------------------------------+----------------+ | Ubuntu 24.04 | PASS | +-------------------------------+----------------+ | Red Hat Enterprise Linux 9.5 | PASS | +-------------------------------+----------------+ | Windows Server 2022 | PASS | +-------------------------------+----------------+ CentOS Stream 10 Kernel: 5.15 Compiler: gcc gcc (GCC) 14.2.1 20250110 (Red Hat 14.2.1-8) CentOS Stream 9 Kernel: 5.15 Compiler: gcc gcc (GCC) 11.5.0 20240719 (Red Hat 11.5.0-7) Debian GNU/Linux 12 Kernel: 5.15 Compiler: gcc gcc (Debian 12.2.0-14+deb12u1) 12.2.0 Fedora Linux 40 Kernel: 5.15 Compiler: clang gcc (GCC) 14.2.1 20240912 (Red Hat 14.2.1-3) Fedora Linux 41 Kernel: 5.15 Compiler: gcc gcc (GCC) 14.3.1 20250523 (Red Hat 14.3.1-1) Ubuntu 22.04 Kernel: 5.15 Compiler: gcc gcc (Ubuntu 11.4.0-1ubuntu1~22.04) 11.4.0 Ubuntu 20.04 Kernel: 5.15 Compiler: gcc gcc (Ubuntu 9.4.0-1ubuntu1~20.04.2) 9.4.0 Red Hat Enterprise Linux 8.10 Kernel: 5.15 Compiler: gcc gcc (GCC) 8.5.0 20210514 (Red Hat 8.5.0-22) Ubuntu 24.04 Kernel: 5.15 Compiler: gcc gcc (Ubuntu 13.3.0-6ubuntu2~24.04) 13.3.0 Red Hat Enterprise Linux 9.5 Kernel: 5.15 Compiler: gcc gcc (GCC) 11.5.0 20240719 (Red Hat 11.5.0-2) Windows Server 2022 Kernel: 10.0.20348.2031 Compiler: clang 15.0.7, gcc 14.1.0 (MinGW), and MSVC VS 19.39.33521 To view detailed results, visit: https://lab.dpdk.org/results/dashboard/patchsets/33630/ UNH-IOL DPDK Community Lab To manage your email subscriptions, visit: https://lab.dpdk.org/results/dashboard/preferences/subscriptions/