From mboxrd@z Thu Jan 1 00:00:00 1970 Return-Path: Received: from mails.dpdk.org (mails.dpdk.org [217.70.189.124]) by inbox.dpdk.org (Postfix) with ESMTP id AB58F46B38 for ; Thu, 10 Jul 2025 12:37:05 +0200 (CEST) Received: from mails.dpdk.org (localhost [127.0.0.1]) by mails.dpdk.org (Postfix) with ESMTP id 84525402D1; Thu, 10 Jul 2025 12:37:05 +0200 (CEST) Received: from mail-il1-f226.google.com (mail-il1-f226.google.com [209.85.166.226]) by mails.dpdk.org (Postfix) with ESMTP id 9DE28402D1 for ; Thu, 10 Jul 2025 12:37:04 +0200 (CEST) Received: by mail-il1-f226.google.com with SMTP id e9e14a558f8ab-3df2f20f4bbso2789475ab.0 for ; Thu, 10 Jul 2025 03:37:04 -0700 (PDT) DKIM-Signature: v=1; a=rsa-sha256; c=relaxed/relaxed; d=iol.unh.edu; s=unh-iol; t=1752143824; x=1752748624; darn=dpdk.org; h=references:in-reply-to:cc:to:from:subject:message-id:date:from:to :cc:subject:date:message-id:reply-to; bh=iZpqbueuXxD0AGefaFl+BM1C0WHJPSDdP2JCPewVvns=; b=VxKmRM+LlEY3syCnhAM/tIHpjML5CdYvzno0UEF8lZCC2xSMj6Mm3X8YqKgQBeF0+c UvhIwgXOJNOWYkLlkThXFYl7wRxSxhBm6633d9E4+HN7id8rwp67uPZgaoKDdyjH+RZm tQFx5K3u29WJm4vpLU9XEfU00W4DX0hmmf2qw= X-Google-DKIM-Signature: v=1; a=rsa-sha256; c=relaxed/relaxed; d=1e100.net; s=20230601; t=1752143824; x=1752748624; h=references:in-reply-to:cc:to:from:subject:message-id:date :x-gm-message-state:from:to:cc:subject:date:message-id:reply-to; bh=iZpqbueuXxD0AGefaFl+BM1C0WHJPSDdP2JCPewVvns=; b=Cc4/+jLJaEiBaGWXKxlQUU+5Yv4jG53dMUcbehJXu0XOiwirxzDhRwT0NExHhPYzBD iWwgtnE85PaNo64BbZ6xJs/zSmfzm2xnKsCx7smuEJJi6mWgQMurO6DKE/if7ZRmG5x2 b0Fx9RcpqyEREWl460K6Sv/8/BM9bMAmcTy6kImNY89NhnV5OvOoCdsJMBbypPPVFOWr duGn1Z1x2bS55Mn6wkalnjiB/cESxUfG+WyZpvAfx1ljSqtMKJEGkJbMz8r6+SMP27+y IHe4mv2/iZYVCkLGXvHXPxCoQVBHmD49hL/5xBN2RUklfyjTJ1sP8GEztts2MV4BinP9 zq1A== X-Gm-Message-State: AOJu0YyNI3WfbWSB1Qud6NumthSbfyehzI8ro9YXNeJy5/GO9SVTvUQt DjLe32uT3zRXvfkBqizqMRnZSOpoR+N19JCTnERkWql7NiDA72/ETQ1fDvUdtJImoqrQvahBX4s BVcDFy5mA98Giy94D2pQOCQcCliGjdXr0pk+zuRfmwMOu X-Gm-Gg: ASbGnctuo6pedWIBwGjIACczMXkMJOOgNQefUAwGh910HcerFxljERntBBMQ5x1xIym A1X7QEu9+CdXIlGFVYFAnYPZhUKSB/CIJnW26ZOxNnufw+XwnHKeCHNKzySaNHUPtTBk1VoufPV 8v+ZlX5eUEWb76sfzlX9km6ZtQyNawkmPuUDm1i+MeQ8eoLasMyP3Clx7Im4Uai1gefktm3MsOC D6WvmcItWbs4lTXOD22oBDw7L9OOeRsFx8Iadvu3DP6m8y/QVKjvxYnTeF2rcjJNdUlXzratPJP dtf4wxozIl4C9Pj3w76brbwWv62Bs0OIR7AKyE9LIiT9CDclCBO8xpSNgbY5OEy7eERIHw== X-Google-Smtp-Source: AGHT+IH3wr9yUV5MsYuPaSblYNWR8Xd9hIT5XfulKFrwcVROqEW0qgTKc1iqWRXQVPM/JZWnKFrzrZI3hs04 X-Received: by 2002:a05:6e02:3f07:b0:3df:2fda:e30b with SMTP id e9e14a558f8ab-3e244020409mr32389645ab.21.1752143823816; Thu, 10 Jul 2025 03:37:03 -0700 (PDT) Received: from postal.iol.unh.edu (postal.iol.unh.edu. [132.177.123.84]) by smtp-relay.gmail.com with ESMTPS id e9e14a558f8ab-3e2460e2a8bsm781745ab.13.2025.07.10.03.37.03 (version=TLS1_2 cipher=ECDHE-ECDSA-AES128-GCM-SHA256 bits=128/128); Thu, 10 Jul 2025 03:37:03 -0700 (PDT) X-Relaying-Domain: iol.unh.edu Date: Thu, 10 Jul 2025 03:37:03 -0700 (PDT) Message-ID: <686f97cf.050a0220.2e60e5.43eeSMTPIN_ADDED_MISSING@mx.google.com> Received: from [172.21.0.5] (unknown [172.18.0.240]) by postal.iol.unh.edu (Postfix) with ESMTP id 584F86051830; Thu, 10 Jul 2025 06:37:03 -0400 (EDT) Subject: |SUCCESS| pw155122 [PATCH] [net] net/vmxnet3: fix mapping of mempool From: dpdklab@iol.unh.edu To: Test Report Cc: dpdk-test-reports@iol.unh.edu In-Reply-To: <20250709212905.126851-1-ronak.doshi@broadcom.com> References: <20250709212905.126851-1-ronak.doshi@broadcom.com> Content-Type: text/plain X-BeenThere: test-report@dpdk.org X-Mailman-Version: 2.1.29 Precedence: list List-Id: automatic DPDK test reports List-Unsubscribe: , List-Archive: List-Post: List-Help: List-Subscribe: , Errors-To: test-report-bounces@dpdk.org Test-Label: iol-unit-amd64-testing Test-Status: SUCCESS http://dpdk.org/patch/155122 _Testing PASS_ Submitter: Ronak Doshi Date: Wednesday, July 09 2025 21:29:03 DPDK git baseline: Repo:dpdk Branch: master CommitID:ba982f9a1ca9b96ed0394b764f1523d482e963a2 155122 --> testing pass Upstream job id: Generic-VM-Unit-Test-DPDK#29870 Test environment and result as below: +-------------------------------+----------------+ | Environment | dpdk_unit_test | +===============================+================+ | CentOS Stream 10 | PASS | +-------------------------------+----------------+ | CentOS Stream 9 | PASS | +-------------------------------+----------------+ | Debian GNU/Linux 12 | PASS | +-------------------------------+----------------+ | Fedora Linux 40 | PASS | +-------------------------------+----------------+ | Fedora Linux 41 | PASS | +-------------------------------+----------------+ | Ubuntu 22.04 | PASS | +-------------------------------+----------------+ | Ubuntu 20.04 | PASS | +-------------------------------+----------------+ | Red Hat Enterprise Linux 8.10 | PASS | +-------------------------------+----------------+ | Ubuntu 24.04 | PASS | +-------------------------------+----------------+ | Red Hat Enterprise Linux 9.5 | PASS | +-------------------------------+----------------+ | Windows Server 2022 | PASS | +-------------------------------+----------------+ CentOS Stream 10 Kernel: 5.15 Compiler: gcc gcc (GCC) 14.2.1 20250110 (Red Hat 14.2.1-8) CentOS Stream 9 Kernel: 5.15 Compiler: gcc gcc (GCC) 11.5.0 20240719 (Red Hat 11.5.0-7) Debian GNU/Linux 12 Kernel: 5.15 Compiler: gcc gcc (Debian 12.2.0-14+deb12u1) 12.2.0 Fedora Linux 40 Kernel: 5.15 Compiler: clang gcc (GCC) 14.2.1 20240912 (Red Hat 14.2.1-3) Fedora Linux 41 Kernel: 5.15 Compiler: gcc gcc (GCC) 14.3.1 20250523 (Red Hat 14.3.1-1) Ubuntu 22.04 Kernel: 5.15 Compiler: gcc gcc (Ubuntu 11.4.0-1ubuntu1~22.04) 11.4.0 Ubuntu 20.04 Kernel: 5.15 Compiler: gcc gcc (Ubuntu 9.4.0-1ubuntu1~20.04.2) 9.4.0 Red Hat Enterprise Linux 8.10 Kernel: 5.15 Compiler: gcc gcc (GCC) 8.5.0 20210514 (Red Hat 8.5.0-22) Ubuntu 24.04 Kernel: 5.15 Compiler: gcc gcc (Ubuntu 13.3.0-6ubuntu2~24.04) 13.3.0 Red Hat Enterprise Linux 9.5 Kernel: 5.15 Compiler: gcc gcc (GCC) 11.5.0 20240719 (Red Hat 11.5.0-2) Windows Server 2022 Kernel: 10.0.20348.2031 Compiler: clang 15.0.7, gcc 14.1.0 (MinGW), and MSVC VS 19.39.33521 To view detailed results, visit: https://lab.dpdk.org/results/dashboard/patchsets/33630/ UNH-IOL DPDK Community Lab To manage your email subscriptions, visit: https://lab.dpdk.org/results/dashboard/preferences/subscriptions/