From mboxrd@z Thu Jan 1 00:00:00 1970 Return-Path: Received: from mails.dpdk.org (mails.dpdk.org [217.70.189.124]) by inbox.dpdk.org (Postfix) with ESMTP id 0AA1146B3A for ; Thu, 10 Jul 2025 16:39:35 +0200 (CEST) Received: from mails.dpdk.org (localhost [127.0.0.1]) by mails.dpdk.org (Postfix) with ESMTP id E9725400D6; Thu, 10 Jul 2025 16:39:34 +0200 (CEST) Received: from mail-qt1-f228.google.com (mail-qt1-f228.google.com [209.85.160.228]) by mails.dpdk.org (Postfix) with ESMTP id 6CCC6400D6 for ; Thu, 10 Jul 2025 16:39:33 +0200 (CEST) Received: by mail-qt1-f228.google.com with SMTP id d75a77b69052e-4a442a3a2bfso15269661cf.1 for ; Thu, 10 Jul 2025 07:39:33 -0700 (PDT) DKIM-Signature: v=1; a=rsa-sha256; c=relaxed/relaxed; d=iol.unh.edu; s=unh-iol; t=1752158373; x=1752763173; darn=dpdk.org; h=references:in-reply-to:cc:to:from:subject:message-id:date:from:to :cc:subject:date:message-id:reply-to; bh=mSCWtB518Vdxn4JJWlG0MBno3uQDLE9AuZGeFMu1Sb4=; b=Xpj7qSAdqzaMQCEtdkfAS3eB3HWYDPU1yvGE6KdpwKO+qOW/MEc39PUdnwNAzuTF8o 6nNBFkQ+8GjAHJ0/781unLw+HSkXPRWbWKLWUz7gNmFgOKHVCUyVGE26vksRVHZjINSx FfBHK/f0d26du5tP5TKz/eIY3NRKHXQb9YO/c= X-Google-DKIM-Signature: v=1; a=rsa-sha256; c=relaxed/relaxed; d=1e100.net; s=20230601; t=1752158373; x=1752763173; h=references:in-reply-to:cc:to:from:subject:message-id:date :x-gm-message-state:from:to:cc:subject:date:message-id:reply-to; bh=mSCWtB518Vdxn4JJWlG0MBno3uQDLE9AuZGeFMu1Sb4=; b=V99XT0teH/8pg7n1/jidFXuHvgGEpnTxzqTvKMMPObEqNqAjKH6aZai077HqE1AfBX pGFmPpOWb/CIe2umsu/iznXNBEaqwgPGPExBlHaIQZna/pBCskL9Zbg83veV9SmlTjEX SEPgsY9MliFFdpKBOuyObLTB2V4sBpi7BA3KZnWKmj0fxg0IjdrS/AJoy4ECoZndqafe zTGbvcRBDuSbRACUMKk9Ormmw41mG3CTVTJDMaMTdO+ZCDkHbHYEJhiAJ3lKmm3iQNbJ bF784AnwyE/wbaH+rko1cn60D0XYlNArlLuSQml35z5RXxclCuzal2O11BFc5N7md/RD l85Q== X-Gm-Message-State: AOJu0Yz277vPwOoqnzU9Y8g+243Z7dVajHqnlmazOt33ZzgPK/s8dUtq /p+3sb6Q6VveIw8Qtq+PIAITjTcbHqgsV47+8Ci5mBiyQT0dpsW2rARWhcrQk5PQC6OKdGGQA5H QaO5QoLyxGlu04IDMVz2FE6RBSqBqIUezDWH8t8LKd4aP X-Gm-Gg: ASbGncuI6TAZ4zAe70kT7nw17iRaWJKUHhgjRNXli7ifLaDP3Wi+COA/mpRuX3LEoyv wBMm9BZnIPUtgXr+RThOfhSgFezeNLkAvVeFRLJgf6vflqrWvaRhGrBJbwtr9R4mMyf68h2Lwl0 fJnM79dFxR5TQeRNIpmlomoeA4YBaqTQ18SPHihh6Xe+rF9gBMnv4/PGIOubQ+Gcj6Lx2x3EOou SYv4oiYHdiA9oyxK1lQK2n62Mxk/vWK0zsqgSB89Yn8efgtT4i5J5O4AwuiCIh5DHzk4Vp4wmFL py9mBipaeNTLOs3hiJt4mPVD85a8XzmDG1Y4zS7THgmrdL1zKRAgOiR/eSSwcDxY7S+4jg== X-Google-Smtp-Source: AGHT+IG+ItWlt+rkKtR26eaGflVsLW32+ULRRSXTimq1ZIY8IiCs7bndg34JcsAC+uu9emKXj8cfLsbHAtB6 X-Received: by 2002:ac8:6509:0:b0:4a6:fdb1:878d with SMTP id d75a77b69052e-4a9ec7cb44dmr24443951cf.24.1752158372469; Thu, 10 Jul 2025 07:39:32 -0700 (PDT) Received: from postal.iol.unh.edu (postal.iol.unh.edu. [132.177.123.84]) by smtp-relay.gmail.com with ESMTPS id d75a77b69052e-4a9ed85cc72sm653151cf.0.2025.07.10.07.39.32 (version=TLS1_2 cipher=ECDHE-ECDSA-AES128-GCM-SHA256 bits=128/128); Thu, 10 Jul 2025 07:39:32 -0700 (PDT) X-Relaying-Domain: iol.unh.edu Date: Thu, 10 Jul 2025 07:39:32 -0700 (PDT) Message-ID: <686fd0a4.050a0220.256033.387cSMTPIN_ADDED_MISSING@mx.google.com> Received: from [172.21.0.5] (unknown [172.18.0.240]) by postal.iol.unh.edu (Postfix) with ESMTP id E227B604D420; Thu, 10 Jul 2025 10:39:31 -0400 (EDT) Subject: |WARNING| pw155011 [PATCH] app/testpmd: allow multiple cmdline-file From: dpdklab@iol.unh.edu To: Test Report Cc: dpdk-test-reports@iol.unh.edu In-Reply-To: <20250704140551.4151993-1-bruce.richardson@intel.com> References: <20250704140551.4151993-1-bruce.richardson@intel.com> Content-Type: text/plain X-BeenThere: test-report@dpdk.org X-Mailman-Version: 2.1.29 Precedence: list List-Id: automatic DPDK test reports List-Unsubscribe: , List-Archive: List-Post: List-Help: List-Subscribe: , Errors-To: test-report-bounces@dpdk.org Test-Label: iol-compile-amd64-testing Test-Status: WARNING http://dpdk.org/patch/155011 _Testing issues_ Submitter: Bruce Richardson Date: Friday, July 04 2025 14:05:51 DPDK git baseline: Repo:dpdk Branch: master CommitID:ba982f9a1ca9b96ed0394b764f1523d482e963a2 155011 --> testing issues Upstream job id: Generic-DPDK-Compile-Meson#407698 Test environment and result as below: +-------------------------------+--------------------+-------------------+------------------+-------------------+-------------------------+----------------------+ | Environment | dpdk_meson_compile | dpdk_compile_spdk | dpdk_compile_ovs | dpdk_msvc_compile | dpdk_llvm_clang_compile | dpdk_mingw64_compile | +===============================+====================+===================+==================+===================+=========================+======================+ | CentOS Stream 9 | PASS | PASS | SKIPPED | SKIPPED | SKIPPED | SKIPPED | +-------------------------------+--------------------+-------------------+------------------+-------------------+-------------------------+----------------------+ | CentOS Stream 10 | PASS | SKIPPED | SKIPPED | SKIPPED | SKIPPED | SKIPPED | +-------------------------------+--------------------+-------------------+------------------+-------------------+-------------------------+----------------------+ | Debian GNU/Linux 12 | PASS | PASS | SKIPPED | SKIPPED | SKIPPED | SKIPPED | +-------------------------------+--------------------+-------------------+------------------+-------------------+-------------------------+----------------------+ | Fedora Linux 40 | PASS | PASS | SKIPPED | SKIPPED | SKIPPED | SKIPPED | +-------------------------------+--------------------+-------------------+------------------+-------------------+-------------------------+----------------------+ | Fedora Linux 41 | PASS | PASS | PASS | SKIPPED | SKIPPED | SKIPPED | +-------------------------------+--------------------+-------------------+------------------+-------------------+-------------------------+----------------------+ | openSUSE Leap 15.6 | PASS | SKIPPED | SKIPPED | SKIPPED | SKIPPED | SKIPPED | +-------------------------------+--------------------+-------------------+------------------+-------------------+-------------------------+----------------------+ | Red Hat Enterprise Linux 9.5 | PASS | SKIPPED | SKIPPED | SKIPPED | SKIPPED | SKIPPED | +-------------------------------+--------------------+-------------------+------------------+-------------------+-------------------------+----------------------+ | Ubuntu 20.04 | PASS | SKIPPED | SKIPPED | SKIPPED | SKIPPED | SKIPPED | +-------------------------------+--------------------+-------------------+------------------+-------------------+-------------------------+----------------------+ | Ubuntu 22.04 | PASS | PASS | SKIPPED | SKIPPED | SKIPPED | SKIPPED | +-------------------------------+--------------------+-------------------+------------------+-------------------+-------------------------+----------------------+ | FreeBSD 14.2 | PASS | SKIPPED | SKIPPED | SKIPPED | SKIPPED | SKIPPED | +-------------------------------+--------------------+-------------------+------------------+-------------------+-------------------------+----------------------+ | Ubuntu 24.04 | PASS | SKIPPED | SKIPPED | SKIPPED | SKIPPED | SKIPPED | +-------------------------------+--------------------+-------------------+------------------+-------------------+-------------------------+----------------------+ | Alpine Linux 3.22.0 | PASS | SKIPPED | SKIPPED | SKIPPED | SKIPPED | SKIPPED | +-------------------------------+--------------------+-------------------+------------------+-------------------+-------------------------+----------------------+ | Red Hat Enterprise Linux 8.10 | PASS | SKIPPED | SKIPPED | SKIPPED | SKIPPED | SKIPPED | +-------------------------------+--------------------+-------------------+------------------+-------------------+-------------------------+----------------------+ | Windows Server 2022 | SKIPPED | SKIPPED | SKIPPED | PASS | PASS | PASS | +-------------------------------+--------------------+-------------------+------------------+-------------------+-------------------------+----------------------+ CentOS Stream 9 Kernel: 5.15 Compiler: gcc gcc (GCC) 11.5.0 20240719 (Red Hat 11.5.0-7) CentOS Stream 10 Kernel: 5.15 Compiler: gcc gcc (GCC) 14.2.1 20250110 (Red Hat 14.2.1-8) Debian GNU/Linux 12 Kernel: 5.15 Compiler: gcc gcc (Debian 12.2.0-14+deb12u1) 12.2.0 Fedora Linux 40 Kernel: 5.15 Compiler: clang gcc (GCC) 14.2.1 20240912 (Red Hat 14.2.1-3) Fedora Linux 41 Kernel: 5.15 Compiler: clang gcc (GCC) 14.3.1 20250523 (Red Hat 14.3.1-1) openSUSE Leap 15.6 Kernel: 5.15 Compiler: gcc gcc (SUSE Linux) 7.5.0 Red Hat Enterprise Linux 9.5 Kernel: 5.15 Compiler: gcc gcc (GCC) 11.5.0 20240719 (Red Hat 11.5.0-2) Ubuntu 20.04 Kernel: 5.15 Compiler: gcc gcc (Ubuntu 9.4.0-1ubuntu1~20.04.2) 9.4.0 Ubuntu 22.04 Kernel: 5.15 Compiler: gcc gcc (Ubuntu 11.4.0-1ubuntu1~22.04) 11.4.0 FreeBSD 14.2 Kernel: 14.2-RELEASE Compiler: clang 18.1.6 Ubuntu 24.04 Kernel: 5.15 Compiler: gcc gcc (Ubuntu 13.3.0-6ubuntu2~24.04) 13.3.0 Alpine Linux 3.22.0 Kernel: 5.15 Compiler: gcc gcc (Alpine 14.2.0) 14.2.0 Red Hat Enterprise Linux 8.10 Kernel: 5.15 Compiler: gcc gcc (GCC) 8.5.0 20210514 (Red Hat 8.5.0-22) Windows Server 2022 Kernel: 10.0.20348.2031 Compiler: clang 15.0.7, gcc 14.1.0 (MinGW), and MSVC VS 19.39.33521 To view detailed results, visit: https://lab.dpdk.org/results/dashboard/patchsets/33594/ UNH-IOL DPDK Community Lab To manage your email subscriptions, visit: https://lab.dpdk.org/results/dashboard/preferences/subscriptions/