From mboxrd@z Thu Jan 1 00:00:00 1970 Return-Path: Received: from mails.dpdk.org (mails.dpdk.org [217.70.189.124]) by inbox.dpdk.org (Postfix) with ESMTP id 0F6FB46B3B for ; Thu, 10 Jul 2025 18:10:12 +0200 (CEST) Received: from mails.dpdk.org (localhost [127.0.0.1]) by mails.dpdk.org (Postfix) with ESMTP id E380E400D6; Thu, 10 Jul 2025 18:10:11 +0200 (CEST) Received: from mail-il1-f227.google.com (mail-il1-f227.google.com [209.85.166.227]) by mails.dpdk.org (Postfix) with ESMTP id 049DB400D6 for ; Thu, 10 Jul 2025 18:10:10 +0200 (CEST) Received: by mail-il1-f227.google.com with SMTP id e9e14a558f8ab-3df30d542caso4552505ab.1 for ; Thu, 10 Jul 2025 09:10:10 -0700 (PDT) DKIM-Signature: v=1; a=rsa-sha256; c=relaxed/relaxed; d=iol.unh.edu; s=unh-iol; t=1752163810; x=1752768610; darn=dpdk.org; h=references:in-reply-to:cc:to:from:subject:message-id:date:from:to :cc:subject:date:message-id:reply-to; bh=jmGumdN5mgwq0EsLBRf97ktLkLodDfObEdlukSiSiRM=; b=VylvapjVN9heQkAKj6unTfTEYi4unaZxddR67v/IYJpqKlOxNiL65z1ajexomMMa3L QdNfO5YArcA3m8TaJ4HVX+YxBYoeZOk3/tgHy8WWEUS+fVeMzk5jVSxYHO+V6ojcvUyU BlV1Lj/sqdQvdFvYv4nPHNrTRYcyusXKyUuwI= X-Google-DKIM-Signature: v=1; a=rsa-sha256; c=relaxed/relaxed; d=1e100.net; s=20230601; t=1752163810; x=1752768610; h=references:in-reply-to:cc:to:from:subject:message-id:date :x-gm-message-state:from:to:cc:subject:date:message-id:reply-to; bh=jmGumdN5mgwq0EsLBRf97ktLkLodDfObEdlukSiSiRM=; b=pL3ZUqmba42bjpUlH9Jk0cAlFTxcgocmary0JFzmP9BLlpsFA5BFepoZGeJnvArkd1 oOqhM+jone5ZqsRtYzz8+yBvc9AWGGkxDcaF5jzew+QcFUtaWq2lVokkZOBViuI8pIlj JrcPiwnqrtvWUIHFc17Py1Bo8WUWA2rkheA6V9r7w7k3Cz4ufzKFnsHd1wSbkTOlGsFW KnZV4JxhVvM9XdL38osHJtaLMMgsDV4vzPbFcqVtGBSOWKF2MexlF1DHxuTLXQvzTQ+T pUr6HrFBQJd2D7mD90tkduCkOOMVAyhm+W1dE75AKvynvevOMKhX1r8cM9SG40rXfXOE ey6w== X-Gm-Message-State: AOJu0YwfcPPpP59JqlMpeKs30rTJX1ooc5NikofytFTZ6esEXHddUh0a ZloonU3+Dt83txsI6cYFZT5udczkahqOBgo6uLzXBEmqzT1eucRBpMDNB3xkZUdM6mwcVW47U0z xR2ly5zuObh2tseKOVzJvG313rybm4gpG21erkkw5qNBkRbJZLuXAQ7ktxUwi X-Gm-Gg: ASbGnctFI8ELNrs7Co5q2S4UPJLu8reaaHe/1vUyiKEAjYFZwptwNfqoQ6iS7gqEkfC fkb4gZXKFoZiHAJxVcbOe+mbZmtsIZX4M5gSKs+6gzQ/c3RFQWAKr0dGH/2ZsFc1eV1q4/3GYZX voeeI4dLWydRRg8xEO1NZFesIqyXkyMhCjciVfA8/jmzv5NVkmsn4rKKGm7eeqs5OZJ1BtEmT18 OncnGiR9sWRIQ0/r/NbqIl52SljXAHtjp/R7tTQPm/xvEXV0Dn2vk1qu2gzLGvM1Kg5KOVGqSyM tdNdV/4qo+ZNTY76hZymBnWUROBYyWxbSv3YXai2tq6MqMA= X-Google-Smtp-Source: AGHT+IFe4bo2atHvSEfIQ+dRFYndlPDuhK6tk6E41EpfHKusZXPrd4av76yVAQnd7Vf68T24FdElZyRjTbWe X-Received: by 2002:a05:6e02:3305:b0:3dd:8663:d19e with SMTP id e9e14a558f8ab-3e2461b1d0amr28591595ab.10.1752163810005; Thu, 10 Jul 2025 09:10:10 -0700 (PDT) Received: from postal.iol.unh.edu (postal.iol.unh.edu. [2606:4100:3880:1234::84]) by smtp-relay.gmail.com with ESMTPS id 8926c6da1cb9f-505565d9bb2sm71773173.33.2025.07.10.09.10.09 (version=TLS1_2 cipher=ECDHE-ECDSA-AES128-GCM-SHA256 bits=128/128); Thu, 10 Jul 2025 09:10:09 -0700 (PDT) X-Relaying-Domain: iol.unh.edu Date: Thu, 10 Jul 2025 09:10:09 -0700 (PDT) Message-ID: <686fe5e1.050a0220.270991.3defSMTPIN_ADDED_MISSING@mx.google.com> Received: from [172.21.0.8] (unknown [172.18.0.240]) by postal.iol.unh.edu (Postfix) with ESMTP id 80852604D420; Thu, 10 Jul 2025 12:10:09 -0400 (EDT) Subject: |SUCCESS| pw155109 [PATCH] [v2] test_bbdev: enable to be compiled on From: dpdklab@iol.unh.edu To: Test Report Cc: dpdk-test-reports@iol.unh.edu In-Reply-To: <1752074012-14869-1-git-send-email-andremue@linux.microsoft.com> References: <1752074012-14869-1-git-send-email-andremue@linux.microsoft.com> Content-Type: text/plain X-BeenThere: test-report@dpdk.org X-Mailman-Version: 2.1.29 Precedence: list List-Id: automatic DPDK test reports List-Unsubscribe: , List-Archive: List-Post: List-Help: List-Subscribe: , Errors-To: test-report-bounces@dpdk.org Test-Label: iol-unit-amd64-testing Test-Status: SUCCESS http://dpdk.org/patch/155109 _Testing PASS_ Submitter: Andre Muezerie Date: Wednesday, July 09 2025 15:13:32 DPDK git baseline: Repo:dpdk Branch: master CommitID:9fe9c0b231c8da5435bfccb1963121b4277f961c 155109 --> testing pass Upstream job id: Generic-Unit-Test-DPDK#354571 Test environment and result as below: +-------------------------------+----------------+ | Environment | dpdk_unit_test | +===============================+================+ | Fedora Linux 41 | PASS | +-------------------------------+----------------+ | Fedora Linux 40 | PASS | +-------------------------------+----------------+ | Red Hat Enterprise Linux 9.5 | PASS | +-------------------------------+----------------+ | Debian GNU/Linux 12 | PASS | +-------------------------------+----------------+ | CentOS Stream 9 | PASS | +-------------------------------+----------------+ | CentOS Stream 10 | PASS | +-------------------------------+----------------+ | Red Hat Enterprise Linux 8.10 | PASS | +-------------------------------+----------------+ | Ubuntu 20.04 | PASS | +-------------------------------+----------------+ | Ubuntu 22.04 | PASS | +-------------------------------+----------------+ | Ubuntu 24.04 | PASS | +-------------------------------+----------------+ | Windows Server 2022 | PASS | +-------------------------------+----------------+ Fedora Linux 41 Kernel: 5.15 Compiler: gcc gcc (GCC) 14.3.1 20250523 (Red Hat 14.3.1-1) Fedora Linux 40 Kernel: 5.15 Compiler: clang gcc (GCC) 14.2.1 20240912 (Red Hat 14.2.1-3) Red Hat Enterprise Linux 9.5 Kernel: 5.15 Compiler: gcc gcc (GCC) 11.5.0 20240719 (Red Hat 11.5.0-2) Debian GNU/Linux 12 Kernel: 5.15 Compiler: gcc gcc (Debian 12.2.0-14+deb12u1) 12.2.0 CentOS Stream 9 Kernel: 5.15 Compiler: gcc gcc (GCC) 11.5.0 20240719 (Red Hat 11.5.0-7) CentOS Stream 10 Kernel: 5.15 Compiler: gcc gcc (GCC) 14.2.1 20250110 (Red Hat 14.2.1-8) Red Hat Enterprise Linux 8.10 Kernel: 5.15 Compiler: gcc gcc (GCC) 8.5.0 20210514 (Red Hat 8.5.0-22) Ubuntu 20.04 Kernel: 5.15 Compiler: gcc gcc (Ubuntu 9.4.0-1ubuntu1~20.04.2) 9.4.0 Ubuntu 22.04 Kernel: 5.15 Compiler: gcc gcc (Ubuntu 11.4.0-1ubuntu1~22.04) 11.4.0 Ubuntu 24.04 Kernel: 5.15 Compiler: gcc gcc (Ubuntu 13.3.0-6ubuntu2~24.04) 13.3.0 Windows Server 2022 Kernel: 10.0.20348.2031 Compiler: clang 15.0.7, gcc 14.1.0 (MinGW), and MSVC VS 19.39.33521 To view detailed results, visit: https://lab.dpdk.org/results/dashboard/patchsets/33628/ UNH-IOL DPDK Community Lab To manage your email subscriptions, visit: https://lab.dpdk.org/results/dashboard/preferences/subscriptions/