From mboxrd@z Thu Jan 1 00:00:00 1970 Return-Path: Received: from mails.dpdk.org (mails.dpdk.org [217.70.189.124]) by inbox.dpdk.org (Postfix) with ESMTP id C216346B3B for ; Thu, 10 Jul 2025 18:19:12 +0200 (CEST) Received: from mails.dpdk.org (localhost [127.0.0.1]) by mails.dpdk.org (Postfix) with ESMTP id A692E4028B; Thu, 10 Jul 2025 18:19:12 +0200 (CEST) Received: from mail-il1-f225.google.com (mail-il1-f225.google.com [209.85.166.225]) by mails.dpdk.org (Postfix) with ESMTP id CD598400D6 for ; Thu, 10 Jul 2025 18:19:11 +0200 (CEST) Received: by mail-il1-f225.google.com with SMTP id e9e14a558f8ab-3df2df6a25aso3986395ab.1 for ; Thu, 10 Jul 2025 09:19:11 -0700 (PDT) DKIM-Signature: v=1; a=rsa-sha256; c=relaxed/relaxed; d=iol.unh.edu; s=unh-iol; t=1752164351; x=1752769151; darn=dpdk.org; h=references:in-reply-to:cc:to:from:subject:message-id:date:from:to :cc:subject:date:message-id:reply-to; bh=OUCdosf89IsBO+EW2k8UXWyjZ4oy+i05adlQI22DaPA=; b=d6+ZnaG0amjl2f6rhTRYh1NR1jxR8aBJoqxDzAt8JqjVUm6lj9Qak0bfWTUOWz4JJA Ioz1Eot7UpJb/AG7l93YTf/d9zGzKD84YoihUXVgkXfS6vFcdD5SfQW/8XhzVz/sdAIV S58EfeVRAFeviCltqezMkH/p3IOEFzj7rV7sI= X-Google-DKIM-Signature: v=1; a=rsa-sha256; c=relaxed/relaxed; d=1e100.net; s=20230601; t=1752164351; x=1752769151; h=references:in-reply-to:cc:to:from:subject:message-id:date :x-gm-message-state:from:to:cc:subject:date:message-id:reply-to; bh=OUCdosf89IsBO+EW2k8UXWyjZ4oy+i05adlQI22DaPA=; b=pSd2/P6xafeGT7GQ64ZNQc2sDYv+s9px1+FQ0vjyrwLdN0hNo0K3DyPwjz0nH1yO7K VGLi6v+Wi5PIav2/SAe8zxRaHZt2L1tyRmmZOU+GLnmlqFi+NALUsNjsw0cQSh+KjjEd EWzb3NkYRKCEpX0vjGrEBSz3afelwVxyN9gXkXvdJKUhouQmrGJZTJBrsNOifL2yABBX ilfJQsUAPh2GGISjpdBFgFkuxPNKCYw2NA7TH43j6wbm82bFlGitxbIMMm0kwDTFTDPH +fFMaiSCy4ZoixW2aQJiUicfqP54hICrMu2AGVcL01LyRHxy/Qj/48BjBeC5AgxuBKl7 LsbA== X-Gm-Message-State: AOJu0YxUUI/dEtUltC5vUMnSFryVhDhdk7sPWmKCznS2g/Mgku/nbLv+ hQjpwlGvd2qg1iVMxQqbgBX4WmqJoLUek5wa9Mp2P9j0y7lmShNGXw0vrNehCNWEAFPchvWrsFW OmOJRDGWs2ZHx4YFpgvBT2A1vytGIa3KZMa4zA+JV3sf1 X-Gm-Gg: ASbGncs/U/+XpykCT32gX9SuGQHZQqnYB3td5TcvQcDC8H+owky4ZnV8J70B9Yw0gZ5 lpKB58XgmD/bYJliC/+pN0CaApm8dJybHGGqNOk5L5LRHObENoEGKycOHB653AMxnBcQ4VABfcV AZ5KEaL3iTNt2nzOlrER87zVhiCSwGhoCm22Tp4uohVOZPWz8vnKy0+pJfQ0uCNmySzIiQ0Ff/o G13EYd8J9ZJcwlUo4Dz8jooI0sYI7fJqPX968VOO400vm7V8gR192lghqhF7AB1ugIKVibi6esb rCUH2d4mh9HC/EdyJn/t7hudO59xwOcyvemBlgxetpiTrsJ+do341BZzOXQg7d2FwWquLQ== X-Google-Smtp-Source: AGHT+IHr1AmHCdfPcFwr3H8iToXo6Kls6yDROmHwtSeRJToz9i8xtzoPqRzRmeUFTO+NYtIjC5zU6RdQrXYk X-Received: by 2002:a05:6e02:152d:b0:3df:3afa:28d6 with SMTP id e9e14a558f8ab-3e253273158mr258995ab.2.1752164351007; Thu, 10 Jul 2025 09:19:11 -0700 (PDT) Received: from postal.iol.unh.edu (postal.iol.unh.edu. [132.177.123.84]) by smtp-relay.gmail.com with ESMTPS id e9e14a558f8ab-3e246213f0dsm1102315ab.48.2025.07.10.09.19.10 (version=TLS1_2 cipher=ECDHE-ECDSA-AES128-GCM-SHA256 bits=128/128); Thu, 10 Jul 2025 09:19:10 -0700 (PDT) X-Relaying-Domain: iol.unh.edu Date: Thu, 10 Jul 2025 09:19:10 -0700 (PDT) Message-ID: <686fe7fe.050a0220.2a23d2.5c3aSMTPIN_ADDED_MISSING@mx.google.com> Received: from [172.21.0.5] (unknown [172.18.0.240]) by postal.iol.unh.edu (Postfix) with ESMTP id A75DA604D420; Thu, 10 Jul 2025 12:19:10 -0400 (EDT) Subject: |SUCCESS| pw155109 [PATCH] [v2] test_bbdev: enable to be compiled on From: dpdklab@iol.unh.edu To: Test Report Cc: dpdk-test-reports@iol.unh.edu In-Reply-To: <1752074012-14869-1-git-send-email-andremue@linux.microsoft.com> References: <1752074012-14869-1-git-send-email-andremue@linux.microsoft.com> Content-Type: text/plain X-BeenThere: test-report@dpdk.org X-Mailman-Version: 2.1.29 Precedence: list List-Id: automatic DPDK test reports List-Unsubscribe: , List-Archive: List-Post: List-Help: List-Subscribe: , Errors-To: test-report-bounces@dpdk.org Test-Label: iol-abi-testing Test-Status: SUCCESS http://dpdk.org/patch/155109 _Testing PASS_ Submitter: Andre Muezerie Date: Wednesday, July 09 2025 15:13:32 DPDK git baseline: Repo:dpdk Branch: master CommitID:9fe9c0b231c8da5435bfccb1963121b4277f961c 155109 --> testing pass Upstream job id: Generic-DPDK-Compile-ABI#133954 Test environment and result as below: +-------------------------------+----------+ | Environment | abi_test | +===============================+==========+ | Debian GNU/Linux 12 | PASS | +-------------------------------+----------+ | Fedora Linux 40 | PASS | +-------------------------------+----------+ | CentOS Stream 10 | PASS | +-------------------------------+----------+ | Fedora Linux 41 | PASS | +-------------------------------+----------+ | CentOS Stream 9 | PASS | +-------------------------------+----------+ | openSUSE Leap 15.6 | PASS | +-------------------------------+----------+ | Red Hat Enterprise Linux 9.5 | PASS | +-------------------------------+----------+ | Red Hat Enterprise Linux 8.10 | PASS | +-------------------------------+----------+ | Ubuntu 24.04 | PASS | +-------------------------------+----------+ | Ubuntu 22.04 | PASS | +-------------------------------+----------+ Debian GNU/Linux 12 Kernel: 5.15 Compiler: gcc gcc (Debian 12.2.0-14+deb12u1) 12.2.0 Fedora Linux 40 Kernel: 5.15 Compiler: clang gcc (GCC) 14.2.1 20240912 (Red Hat 14.2.1-3) CentOS Stream 10 Kernel: 5.15 Compiler: gcc gcc (GCC) 14.2.1 20250110 (Red Hat 14.2.1-8) Fedora Linux 41 Kernel: 5.15 Compiler: clang gcc (GCC) 14.3.1 20250523 (Red Hat 14.3.1-1) CentOS Stream 9 Kernel: 5.15 Compiler: gcc gcc (GCC) 11.5.0 20240719 (Red Hat 11.5.0-7) openSUSE Leap 15.6 Kernel: 5.15 Compiler: gcc gcc (SUSE Linux) 7.5.0 Red Hat Enterprise Linux 9.5 Kernel: 5.15 Compiler: gcc gcc (GCC) 11.5.0 20240719 (Red Hat 11.5.0-2) Red Hat Enterprise Linux 8.10 Kernel: 5.15 Compiler: gcc gcc (GCC) 8.5.0 20210514 (Red Hat 8.5.0-22) Ubuntu 24.04 Kernel: 5.15 Compiler: gcc gcc (Ubuntu 13.3.0-6ubuntu2~24.04) 13.3.0 Ubuntu 22.04 Kernel: 5.15 Compiler: gcc gcc (Ubuntu 11.4.0-1ubuntu1~22.04) 11.4.0 To view detailed results, visit: https://lab.dpdk.org/results/dashboard/patchsets/33628/ UNH-IOL DPDK Community Lab To manage your email subscriptions, visit: https://lab.dpdk.org/results/dashboard/preferences/subscriptions/