From mboxrd@z Thu Jan 1 00:00:00 1970 Return-Path: Received: from mails.dpdk.org (mails.dpdk.org [217.70.189.124]) by inbox.dpdk.org (Postfix) with ESMTP id 60F0446B3B for ; Thu, 10 Jul 2025 18:38:13 +0200 (CEST) Received: from mails.dpdk.org (localhost [127.0.0.1]) by mails.dpdk.org (Postfix) with ESMTP id 5BA64400D6; Thu, 10 Jul 2025 18:38:13 +0200 (CEST) Received: from mail-il1-f227.google.com (mail-il1-f227.google.com [209.85.166.227]) by mails.dpdk.org (Postfix) with ESMTP id E04EF400D6 for ; Thu, 10 Jul 2025 18:38:11 +0200 (CEST) Received: by mail-il1-f227.google.com with SMTP id e9e14a558f8ab-3ddda0a8ba2so8875225ab.0 for ; Thu, 10 Jul 2025 09:38:11 -0700 (PDT) DKIM-Signature: v=1; a=rsa-sha256; c=relaxed/relaxed; d=iol.unh.edu; s=unh-iol; t=1752165491; x=1752770291; darn=dpdk.org; h=references:in-reply-to:cc:to:from:subject:message-id:date:from:to :cc:subject:date:message-id:reply-to; bh=p8ZsIGFfnPt1uI+shmP8HkFV/QgZlMmxmi4whV6T9Jg=; b=ai0Pv7D9l+gpe4MNzZ/HbjB7aJdlO6reD+l2PIhG2+6q4JF7B2Pem9FO2xGiHj2+N4 C/fceeVKcTyVCqChk88JzF97BEPvexQI/6GIB7I7JzbretzgVFgULNeYYqdX7e1kvo/W OEMdsN+tSDM1Lc6Ft0RUveWt9L9TkXRnXP1tg= X-Google-DKIM-Signature: v=1; a=rsa-sha256; c=relaxed/relaxed; d=1e100.net; s=20230601; t=1752165491; x=1752770291; h=references:in-reply-to:cc:to:from:subject:message-id:date :x-gm-message-state:from:to:cc:subject:date:message-id:reply-to; bh=p8ZsIGFfnPt1uI+shmP8HkFV/QgZlMmxmi4whV6T9Jg=; b=ppCOZqIjosI6s03z7PTPmbH/9S4DLyTt6Uaqm1FzhrhahZ/fXGhJ/YNvvVsaNBfwyF M5ydnJ4okb8vyZ1IDGs7gK4vyxUHCsOd2uiBvRsqoO6innsG4xy7BbeNkeYreanzAA1C rFQcj6q7gGxEz9Omcbeobeq4YmzvmeUBPPe4A+dS7ckjRosOw2NhmvCn0ftkBQtxtHZI xciALS8tK0MNeFpGG7Yj2C7Sh1FVRdIqWHXSgZVSRnHU+LbI18JI5hFHRQElcZbPhaDC GPDhrdJx3Ys/dqGwK69EOLRaj6dACL0gpwpjTCNo2C3DLU3PK8A13rURKW3COc3y7max YK9w== X-Gm-Message-State: AOJu0Yx0raXAMQmqsPCg6vaAE4dWWH5+aSixmuEYH11aD4sqa4nZTsRd 01bttyPiM2vtEt1+YFEOdgZVEJzA+B7nn4UPJOD2Gloa4dFW6ORFIVy22gnEU33kQvzf3bgsDFe W0bkiB/bltLmuHe5iG5WQ7M7f2HO+cL56cPf7UAI+uwqjVqO0qa9yJCDTLeBv X-Gm-Gg: ASbGnct1s0SsXx74bKq6+0krwEeMb11G91ZIAP1hGPFBcZD2pOo+WX0KuC3NG0rBJFd Ak+MSoxCYb8oW05BUmWVRknQ3hPQ3YiXFM6NOh4TitwHY7eV4n3DrZ3L1kux8oB946sHz2xm7GC cXVOuyqZNFjA4KJ5hhLJvrzzksCVVpTClXkZtMb9Kl+uBKGoZ58GSLAlH5sCAYblztOFJS+bhWA rUtoPwltPbDC50Kf7kTbwJhbgfphYhd1ua6UFey2tBxXafkTQTXR95nf6MAeoHIAFoPcyGwIVsi EZJqGJr9db8q2VeziNtMdEKFRGr1CQn2jCC81GZIq/cG2EM= X-Google-Smtp-Source: AGHT+IEa2vU4IK7lECN4EuPbFX8pqCq6f/7yarIKPgTKxBVN9tOIlrORbhV5QFbgwXM+ENJGV3sgNWfSKAS3 X-Received: by 2002:a05:6e02:3804:b0:3df:3464:ab86 with SMTP id e9e14a558f8ab-3e2532a69f2mr669685ab.9.1752165491124; Thu, 10 Jul 2025 09:38:11 -0700 (PDT) Received: from postal.iol.unh.edu (postal.iol.unh.edu. [2606:4100:3880:1234::84]) by smtp-relay.gmail.com with ESMTPS id e9e14a558f8ab-3e2461fa625sm1061635ab.41.2025.07.10.09.38.11 (version=TLS1_2 cipher=ECDHE-ECDSA-AES128-GCM-SHA256 bits=128/128); Thu, 10 Jul 2025 09:38:11 -0700 (PDT) X-Relaying-Domain: iol.unh.edu Date: Thu, 10 Jul 2025 09:38:11 -0700 (PDT) Message-ID: <686fec73.050a0220.49fe5.5a44SMTPIN_ADDED_MISSING@mx.google.com> Received: from [172.21.0.5] (unknown [172.18.0.240]) by postal.iol.unh.edu (Postfix) with ESMTP id BD31C604D420; Thu, 10 Jul 2025 12:38:10 -0400 (EDT) Subject: |SUCCESS| pw155109 [PATCH] [v2] test_bbdev: enable to be compiled on From: dpdklab@iol.unh.edu To: Test Report Cc: dpdk-test-reports@iol.unh.edu In-Reply-To: <1752074012-14869-1-git-send-email-andremue@linux.microsoft.com> References: <1752074012-14869-1-git-send-email-andremue@linux.microsoft.com> Content-Type: text/plain X-BeenThere: test-report@dpdk.org X-Mailman-Version: 2.1.29 Precedence: list List-Id: automatic DPDK test reports List-Unsubscribe: , List-Archive: List-Post: List-Help: List-Subscribe: , Errors-To: test-report-bounces@dpdk.org Test-Label: iol-unit-arm64-testing Test-Status: SUCCESS http://dpdk.org/patch/155109 _Testing PASS_ Submitter: Andre Muezerie Date: Wednesday, July 09 2025 15:13:32 DPDK git baseline: Repo:dpdk Branch: master CommitID:9fe9c0b231c8da5435bfccb1963121b4277f961c 155109 --> testing pass Upstream job id: Generic-Unit-Test-DPDK#354563 Test environment and result as below: +------------------------------+----------------+---------------------------+--------------+------------------------------+ | Environment | dpdk_unit_test | cryptodev_sw_zuc_autotest | lpm_autotest | cryptodev_sw_snow3g_autotest | +==============================+================+===========================+==============+==============================+ | Ubuntu 20.04 | PASS | SKIPPED | PASS | SKIPPED | +------------------------------+----------------+---------------------------+--------------+------------------------------+ | CentOS Stream 9 | PASS | SKIPPED | SKIPPED | SKIPPED | +------------------------------+----------------+---------------------------+--------------+------------------------------+ | Fedora Linux 41 | PASS | SKIPPED | SKIPPED | SKIPPED | +------------------------------+----------------+---------------------------+--------------+------------------------------+ | Fedora Linux 40 | PASS | SKIPPED | SKIPPED | SKIPPED | +------------------------------+----------------+---------------------------+--------------+------------------------------+ | CentOS Stream 10 | PASS | SKIPPED | SKIPPED | SKIPPED | +------------------------------+----------------+---------------------------+--------------+------------------------------+ | Debian GNU/Linux 12 | PASS | SKIPPED | SKIPPED | SKIPPED | +------------------------------+----------------+---------------------------+--------------+------------------------------+ | Ubuntu 24.04 | PASS | SKIPPED | SKIPPED | SKIPPED | +------------------------------+----------------+---------------------------+--------------+------------------------------+ | Red Hat Enterprise Linux 9.5 | PASS | SKIPPED | SKIPPED | SKIPPED | +------------------------------+----------------+---------------------------+--------------+------------------------------+ | Ubuntu 22.04 | PASS | SKIPPED | SKIPPED | SKIPPED | +------------------------------+----------------+---------------------------+--------------+------------------------------+ | Debian 12 (arm) | SKIPPED | PASS | SKIPPED | PASS | +------------------------------+----------------+---------------------------+--------------+------------------------------+ Ubuntu 20.04 Kernel: 5.4 Compiler: gcc gcc (Ubuntu 9.4.0-1ubuntu1~20.04.2) 9.4.0 CentOS Stream 9 Kernel: 5.4 Compiler: gcc gcc (GCC) 11.5.0 20240719 (Red Hat 11.5.0-7) Fedora Linux 41 Kernel: 5.4 Compiler: gcc gcc (GCC) 14.3.1 20250523 (Red Hat 14.3.1-1) Fedora Linux 40 Kernel: 5.4 Compiler: clang gcc (GCC) 14.2.1 20240912 (Red Hat 14.2.1-3) CentOS Stream 10 Kernel: 5.4 Compiler: gcc gcc (GCC) 14.2.1 20250110 (Red Hat 14.2.1-8) Debian GNU/Linux 12 Kernel: 5.4 Compiler: gcc gcc (Debian 12.2.0-14+deb12u1) 12.2.0 Ubuntu 24.04 Kernel: 5.4 Compiler: gcc gcc (Ubuntu 13.3.0-6ubuntu2~24.04) 13.3.0 Red Hat Enterprise Linux 9.5 Kernel: 5.4 Compiler: gcc gcc (GCC) 11.5.0 20240719 (Red Hat 11.5.0-2) Ubuntu 22.04 Kernel: 5.4 Compiler: gcc gcc (Ubuntu 11.4.0-1ubuntu1~22.04) 11.4.0 Debian 12 (arm) Kernel: Depends on container host Compiler: gcc (Debian 12.2.0-14) 12.2.0 To view detailed results, visit: https://lab.dpdk.org/results/dashboard/patchsets/33628/ UNH-IOL DPDK Community Lab To manage your email subscriptions, visit: https://lab.dpdk.org/results/dashboard/preferences/subscriptions/